Workbook

Sheet Артикулы 07 2025
E2: код ТНВЭД
F3: кол в упаковке
A4: Ид. № | B4: Артикул | D4: Название | G4: Вес
H5: Цена с 16.07.2025 | I5: Изменение цены
B6: BLUM
A7: 02575683 | B7: 171A5010 W-DIST V50 NI | D7: Клинобразная угловая подкладка, крестообразная, +5°, под шурупы, толщина подкладки: 0.8 мм | E7: 83021000 | F7: 50 | G7: 0.0248 | H7: 290 | I7: =(H7-#REF!)/#REF! -> #REF!
A8: 02518453 | B8: 171A5040 W-DIST V50 NI | D8: Клинобразная угловая подкладка, крестообразная, +5°, под шурупы, толщина подкладки: 3 мм | E8: 83021000 | F8: 50 | G8: 0.0334 | H8: 360 | I8: =(H8-#REF!)/#REF! -> #REF!
A9: 02518373 | B9: 171A5070 W-DIST V50 NI | D9: Клинобразная угловая подкладка, крестообразная, +5°, под шурупы, толщина подкладки: 6 мм | E9: 83021000 | F9: 50 | G9: 0.0374 | H9: 460 | I9: =(H9-#REF!)/#REF! -> #REF!
A10: 02518533 | B10: 171A5500 W-DIST V50 NI | D10: Клинобразная угловая подкладка, крестообразная, -5°, под шурупы, толщина подкладки: 6 мм | E10: 83021000 | F10: 50 | G10: 0.0222 | H10: 340 | I10: =(H10-#REF!)/#REF! -> #REF!
A11: 08748653 | B11: 173H7100 MPL V500 NI | D11: CLIP ответная планка, крест., 0 мм, сталь, на шурупы, Регулировка по высоте: эксцентрик | E11: 83021000 | F11: 500 | G11: 0.02662 | H11: 290 | I11: =(H11-#REF!)/#REF! -> #REF!
A12: 02509289 | B12: 173H7100 MPL V500 ONS | D12: CLIP ответная планка, крест., 0 мм, сталь, на шурупы, Регулировка по высоте: эксцентрик | E12: 83021000 | F12: 500 | G12: 0.03115 | H12: 340 | I12: =(H12-#REF!)/#REF! -> #REF!
A13: 02364103 | B13: 173H7130 MPL V50 NI | D13: CLIP ответная планка, крест., 3 мм, сталь, на шурупы, Регулировка по высоте: эксцентрик | E13: 83024200 | F13: 50 | G13: 0.03128 | H13: 320 | I13: =(H13-#REF!)/#REF! -> #REF!
A14: 07480175 | B14: 173L6100 MPL V500 NI | D14: CLIP ответная планка, крест., 0 мм, сталь, на шурупы, Регулировка по высоте: продольное отверстие | E14: 83021000 | F14: 500 | G14: 0.01754 | H14: 90 | I14: =(H14-#REF!)/#REF! -> #REF!
A15: 03647445 | B15: 173L6100 MPL V500 ONS | D15: CLIP ответная планка, крест., 0 мм, сталь, на шурупы, Регулировка по высоте: продольное отверстие | E15: 83021000 | F15: 500 | G15: 0.03115 | H15: 170 | I15: =(H15-#REF!)/#REF! -> #REF!
A16: 01867833 | B16: 173L6130 MPL V500 NI | D16: CLIP ответная планка, крест., 3 мм, сталь, на шурупы, Регулировка по высоте: продольное отверстие | E16: 83021000 | F16: 500 | G16: 0.02036 | H16: 120 | I16: =(H16-#REF!)/#REF! -> #REF!
A17: 04417806 | B17: 173L8100 MPL V500 NI | D17: CLIP ответная планка, крест., 0 мм, сталь, с предвар. вмонт. евровинтами, Регулировка по высоте: продольное отверстие | E17: 83021000 | F17: 500 | G17: 0.025022 | H17: 170 | I17: =(H17-#REF!)/#REF! -> #REF!
A18: 01370903 | B18: 173L8100.21MPL V500 NI | D18: CLIP ответная планка, крест., 0 мм, сталь, для крепления с помощью предустановленных евровинтов, Регулировка по высоте: продольное отверстие | E18: 83021000 | F18: 500 | G18: 0.024194 | H18: 170 | I18: =(H18-#REF!)/#REF! -> #REF!
... A25: 05891994 | B25: 175H3100 MPL V500 NI | D25: CLIP ответная планка, прям., 0 мм, сталь, на шурупы, Регулировка по высоте: эксцентрик | E25: 83021000 | F25: 500 | G25: 0.01566 | H25: 270 | I25: =(H25-#REF!)/#REF! -> #REF!
B26: 175H3100 MPL V500 ONS | D26: CLIP ответная планка, прям., 0 мм, сталь, на шурупы, Регулировка по высоте: эксцентрик | E26: 83021000 | F26: 500 | G26: 0.01566 | H26: 290 | I26: =(H26-#REF!)/#REF! -> #REF!
A27: 01704442 | B27: 175H3130 MPL V500 NI | D27: CLIP ответная планка, прям., 3 мм, сталь, на шурупы, Регулировка по высоте: эксцентрик | E27: 83021000 | F27: 500 | G27: 0.02 | H27: 300 | I27: =(H27-#REF!)/#REF! -> #REF!
A28: 08540966 | B28: 175H3130 MPL V500 ONS | D28: CLIP ответная планка, прям., 3 мм, сталь, на шурупы, Регулировка по высоте: эксцентрик | E28: 83021000 | F28: 500 | G28: 0.02 | H28: 330 | I28: =(H28-#REF!)/#REF! -> #REF!
A29: 06796303 | B29: 175H5A00 AD-PL V50 NI | D29: CLIP ответная планка, прям., 0 мм, цинк, на шурупы, Регулировка по высоте: эксцентрик, для узких алюминиевых рамок | E29: 83021000 | F29: 50 | G29: 0.074 | H29: 1500 | I29: =(H29-#REF!)/#REF! -> #REF!
A30: 06796593 | B30: 175H5B00 AD-P L V50 NI | D30: CLIP ответная планка, прям., цинк, на шурупы, Регулировка по высоте: эксцентрик, лев., для узких алюминиевых рамок | E30: 83021000 | F30: 50 | G30: 0.0738 | H30: 1500 | I30: =(H30-#REF!)/#REF! -> #REF!
A31: 06796243 | B31: 175H5B00 AD-P R V50 NI | D31: CLIP ответная планка, прям., цинк, на шурупы, Регулировка по высоте: эксцентрик, прав., для узких алюминиевых рамок | E31: 83021000 | F31: 50 | G31: 0.0738 | H31: 1500 | I31: =(H31-#REF!)/#REF! -> #REF!
A32: 07323033 | B32: 175H7190 MPL V50 NI | D32: CLIP ответная планка, крест., 9 мм, цинк, на шурупы, Регулировка по высоте: двухсоставная | E32: 83021000 | F32: 50 | G32: 0.04748 | H32: 600 | I32: =(H32-#REF!)/#REF! -> #REF!
A33: 02260343 | B33: 175H7190.22MPL V250 NI | D33: CLIP ответная планка, крест., 18 мм, цинк, на шурупы, Регулировка по высоте: двухсоставная | E33: 83021000 | F33: 250 | G33: 0.0592 | H33: 870 | I33: =(H33-#REF!)/#REF! -> #REF!
A34: 04974013 | B34: 175H9160 MPL V50 NI | D34: CLIP ответная планка, крест., 6 мм, цинк, евровинты, Регулировка по высоте: двухсоставная | E34: 83021000 | F34: 50 | G34: 0.04216 | H34: 640 | I34: =(H34-#REF!)/#REF! -> #REF!
A35: 04653407 | B35: 175M4C20 MPL SP 250SANI | D35: CLIP CRISTALLO-ответная планка, на клею, прям., 0 мм, цинк, Регулировка по высоте: двухсоставная | E35: 83021000 | F35: 250 | G35: 0.0697 | H35: 6400 | I35: =(H35-#REF!)/#REF! -> #REF!
A36: 04787251 | B36: 177H3100E DUEPL V500 NI | D36: CLIP ответная планка, прям., 0 мм, сталь, EXPANDO (с вмонтированными спецшурупами с распорн. пробками), Регулировка по высоте: эксцентрик | E36: 83021000 | F36: 500 | G36: 0.01793 | H36: 330 | I36: =(H36-#REF!)/#REF! -> #REF!
A37: 04786051 | B37: 177H3100E DUEPL V500 ONS | D37: CLIP ответная планка, прям., 0 мм, сталь, EXPANDO (с вмонтированными спецшурупами с распорн. пробками), Регулировка по высоте: эксцентрик | E37: 83021000 | F37: 500 | G37: 0.01793 | H37: 330 | I37: =(H37-#REF!)/#REF! -> #REF!
A38: 06863103 | B38: 193L6100 MPL V500 NI | D38: MODUL ответная планка, крест., 0 мм, сталь, на шурупы, Регулировка по высоте: продольное отверстие | E38: 83021000 | F38: 500 | G38: 0.01605 | H38: 90 | I38: =(H38-#REF!)/#REF! -> #REF!
... A65: 07486403 | B65: 20S4201A FRO-B V100 NI | D65: Подъемные механизмы AVENTOS HS/ HL/ HK и HK top, крепление фасада для узких алюминиевых рамок, шурупами | E65: 83024200 | F65: 100 | G65: 0.2575 | H65: 3150 | I65: =(H65-#REF!)/#REF! -> #REF!
A66: 07259956 | B66: 20S4201 FRO-B V100 NI | D66: Подъемные механизмы AVENTOS HS/ HL/ HK и HK top, крепление фасада для деревянных фасадов, шурупами | E66: 83024200 | F66: 100 | G66: 0.0388 | H66: 630 | I66: =(H66-#REF!)/#REF! -> #REF!
A67: 05936371 | B67: 21L3501.01HEBEL L V5 NI | D67: Вертикальный подъемник AVENTOS HL, рычаг, ВК=350-399 мм, левый, для SERVO-DRIVE | E67: 83024200 | F67: 5 | G67: 0.607 | H67: 14050 | I67: =(H67-#REF!)/#REF! -> #REF!
A68: 01783069 | B68: 22.8000 ABD R+L V1HGIG | D68: Комплект заглушек AVENTOS HF/HS/HL top, прав.+лев., с надписью | E68: 39263000 | G68: 0.18 | H68: 4750 | I68: =(H68-#REF!)/#REF! -> #REF!
A69: 01783069 | B69: 22.8000 ABD R+L V1HGIG | D69: Комплект заглушек AVENTOS HF/HS/HL top, прав.+лев., с надписью | E69: 39263000 | G69: 0.18 | H69: 5200 | I69: =(H69-#REF!)/#REF! -> #REF!
A70: 02060947 | B70: 22.8001 ABD L V20 HGR | D70: Заглушка для силового механизма AVENTOS HF/HS/HL top, гладкий, лев. | E70: 3926 30 00 | F70: 20 | G70: 0.0808875 | H70: 1110 | I70: =(H70-#REF!)/#REF! -> #REF!
A71: 08843517 | B71: 22.8001 ABD R V20 HGR | D71: Заглушка для силового механизма AVENTOS HF/HS/HL top, гладкий, прав. | E71: 3926 30 00 | F71: 20 | G71: 0.0808875 | H71: 1110 | I71: =(H71-#REF!)/#REF! -> #REF!
A72: 03797606 | B72: 22.8001 ABD L V20SEIW | D72: Заглушка для силового механизма AVENTOS HF/HS/HL top, гладкий, лев. | E72: 3926 30 00 | F72: 20 | G72: 0.0808875 | H72: 1330 | I72: =(H72-#REF!)/#REF! -> #REF!
A73: 08269038 | B73: 22.8001 ABD R V20SEIW | D73: Заглушка для силового механизма AVENTOS HF/HS/HL top, гладкий, прав. | E73: 3926 30 00 | F73: 20 | G73: 0.0808875 | H73: 1330 | I73: =(H73-#REF!)/#REF! -> #REF!
...

Sheet Комплекты
D7: 055 206 306/095 206 306/093 907 865 | E7: Цена 07.2025
A8: Клв. | C8: Артикул | D8: Наименование
D10: Петли Модуль
D12: MODUL - Петли для накладных дверей 100 | E12: =SUMPRODUCT($A13:$A14,E13:E14) -> 400
A13: 1 | C13: 91M2550 MB V250 NI | D13: "Модуль" Петли для накладных дверей 100 | E13: ='Артикулы 3'!F834 -> 310 | H13: =E13*(1 -#REF!) -> #REF! | I13: =H13-#REF! -> #REF! | J13: =I13/H13 -> #REF! | K13: =I13/E13 -> #REF!
A14: 1 | C14: 193L6100 MPL V500 NI | D14: "Модуль" Ответная планка под саморез | E14: ='Артикулы 3'!F38 -> 90
D16: MODUL - Петли для полунакладных дверей 100 | E16: =SUMPRODUCT($A17:$A18,E17:E18) -> 510
A17: 1 | C17: 91M2650 MB V250 NI | D17: "Модуль" Петли для полунакладных дверей 100 | E17: ='Артикулы 3'!F835 -> 420
A18: 1 | C18: 193L6100 MPL V500 NI | D18: "Модуль" Ответная планка под саморез | E18: ='Артикулы 3'!F38 -> 90
D20: MODUL - Петли для вкладных дверей 100 | E20: =SUMPRODUCT($A21:$A22,E21:E22) -> 510
A21: 1 | C21: 91M2750 MB V250 NI | D21: "Модуль" Петли для вкладных дверей 100 | E21: ='Артикулы 3'!F836 -> 420
A22: 1 | C22: 193L6100 MPL V500 NI | D22: "Модуль" Ответная планка под саморез | E22: ='Артикулы 3'!F38 -> 90
D24: Заглушка L для петель MODUL полунакл,вклад | E24: =E25 -> 60
C25: 90M2603.BLABDECKK LI NI | D25: Заглушка L для петель "Модуль" полунакл,вклад | E25: ='Артикулы 3'!F831 -> 60
C26: 90M2603.BLABDECKK RE NI | D26: Заглушка R для петель "Модуль" полунакл,вклад | E26: ='Артикулы 3'!F832 -> 70
D28: Петли CLIP 100
D30: CLIP- Петли для накладных дверей 100 | E30: =SUMPRODUCT($A31:$A32,E31:E32) -> 530
A31: 1 | C31: 71M2550 MB V250 NI | D31: "Клип " Петли для накладных дверей 100 | E31: ='Артикулы 3'!F575 -> 440
A32: 1 | C32: 173L6100 MPL V500 NI | D32: "Клип топ" Ответная планка под саморез | E32: ='Артикулы 3'!F14 -> 90
D34: CLIP- Петли для полунакладных дверей 100 | E34: =SUMPRODUCT($A35:$A36,E35:E36) -> 640
A35: 1 | C35: 71M2650 MB V250 NI | D35: "Клип " Петли для полунакладных дверей 100 | E35: ='Артикулы 3'!F576 -> 550
A36: 1 | C36: 173L6100 MPL V500 NI | D36: "Клип топ" Ответная планка под саморез | E36: ='Артикулы 3'!F14 -> 90
D38: CLIP- Петли для вкладных дверей 100 | E38: =SUMPRODUCT($A39:$A40,E39:E40) -> 650
A39: 1 | C39: 71M2750 MB V250 NI | D39: "Клип " Петли для вкладных дверей 100 | E39: ='Артикулы 3'!F577 -> 560
A40: 1 | C40: 173L6100 MPL V500 NI | D40: "Клип топ" Ответная планка под саморез | E40: ='Артикулы 3'!F14 -> 90
D42: Петли CLIP top 107
D44: CLIP top - Петли для накладных дверей 107 | E44: =SUMPRODUCT($A45:$A46,E45:E46) -> 710
A45: 1 | C45: 75T1550 MB V250 NI | D45: "Клип топ" Петли для накладных дверей 100 | E45: ='Артикулы 3'!F622 -> 620
A46: 1 | C46: 173L6100 MPL V500 NI | D46: "Клип топ" Ответная планка под саморез | E46: ='Артикулы 3'!F14 -> 90
D48: Заглушка для петель CLIP top накладной | E48: =E49 -> 80
C49: 70.1503.BPABDEC PRAE NI | D49: Заглушка для петель "Клип топ" накладой | E49: ='Артикулы 3'!F512 -> 80
D51: CLIP top- Петли для полунакладных дверей 107 | E51: =SUMPRODUCT($A52:$A53,E52:E53) -> 830
A52: 1 | C52: 75T1650 MB V250 NI | D52: "Клип топ" Петли для полунакладных дверей 101 | E52: ='Артикулы 3'!F623 -> 740
A53: 1 | C53: 173L6100 MPL V500 NI | D53: "Клип топ" Ответная планка под саморез | E53: ='Артикулы 3'!F14 -> 90
D55: CLIP top - Петли для вкладных дверей 107 | E55: =SUMPRODUCT($A56:$A57,E56:E57) -> 820
A56: 1 | C56: 75T1750 MB V250 NI | D56: "Клип топ" Петли для вкладных дверей 100 | E56: ='Артикулы 3'!F624 -> 730
A57: 1 | C57: 173L6100 MPL V500 NI | D57: "Клип топ" Ответная планка под саморез | E57: ='Артикулы 3'!F14 -> 90
D59: Заглушка для петель CLIP top полунакл,вклад | E59: =E60 -> 80
C60: 70.1663.BLABDECKK LI NI | D60: Заглушка L для петель "Клип топ" полунакл,вклад | E60: ='Артикулы 3'!F515 -> 80
C61: 70.1663.BLABDECKK RE NI | D61: Заглушка R для петель "Клип топ" полунакл,вклад | E61: ='Артикулы 3'!F516 -> 80
...

Sheet Артикулы 3
B1: 1 Евро= | C1: 430
A2: перев/кг Блюм | B2: 0.42 | D2: АДГТ long | E2: 0.00572 | F2: 0 | K2: 0 | M2: saytum chka petqe lini
A3: перев/кг Siso | B3: 0.7 | F3: 0 | K3: 0 | M3: saytum ka petq chi lini
A4: Ид. № | B4: Артикул | C4: Название | E4: Вес | F4: 0 | H4: Артикул | K4: 0
F5: Цены с 16.07.25 | K5: Цены с 16.07.25
A7: 02575683 | B7: 171A5010 W-DIST V50 NI | C7: Клинобразная угловая подкладка, крестообразная, +5°, под шурупы, толщина подкладки: 0.8 мм | D7: 83021000 | E7: 0.0248 | F7: 290 | H7: 171A5010 W-DIST V50 NI | K7: 290
A8: 02518453 | B8: 171A5040 W-DIST V50 NI | C8: Клинобразная угловая подкладка, крестообразная, +5°, под шурупы, толщина подкладки: 3 мм | D8: 83021000 | E8: 0.0334 | F8: 360 | H8: 171A5040 W-DIST V50 NI | K8: 360
A9: 02518373 | B9: 171A5070 W-DIST V50 NI | C9: Клинобразная угловая подкладка, крестообразная, +5°, под шурупы, толщина подкладки: 6 мм | D9: 83021000 | E9: 0.0374 | F9: 460 | H9: 171A5070 W-DIST V50 NI | K9: 460
A10: 02518533 | B10: 171A5500 W-DIST V50 NI | C10: Клинобразная угловая подкладка, крестообразная, -5°, под шурупы, толщина подкладки: 6 мм | D10: 83021000 | E10: 0.0222 | F10: 340 | H10: 171A5500 W-DIST V50 NI | K10: 340
A11: 08748653 | B11: 173H7100 MPL V500 NI | C11: CLIP ответная планка, крест., 0 мм, сталь, на шурупы, Регулировка по высоте: эксцентрик | D11: 83021000 | E11: 0.02662 | F11: 290 | H11: 173H7100 MPL V500 NI | K11: 290
A12: 02509289 | B12: 173H7100 MPL V500 ONS | C12: CLIP ответная планка, крест., 0 мм, сталь, на шурупы, Регулировка по высоте: эксцентрик | D12: 83021000 | E12: 0.03115 | F12: 340 | H12: 173H7100 MPL V500 ONS | K12: 340
A13: 02364103 | B13: 173H7130 MPL V50 NI | C13: CLIP ответная планка, крест., 3 мм, сталь, на шурупы, Регулировка по высоте: эксцентрик | D13: 83024200 | E13: 0.03128 | F13: 320 | H13: 173H7130 MPL V50 NI | K13: 320
A14: 07480175 | B14: 173L6100 MPL V500 NI | C14: CLIP ответная планка, крест., 0 мм, сталь, на шурупы, Регулировка по высоте: продольное отверстие | D14: 83021000 | E14: 0.01754 | F14: 90 | H14: 173L6100 MPL V500 NI | K14: 90
A15: 03647445 | B15: 173L6100 MPL V500 ONS | C15: CLIP ответная планка, крест., 0 мм, сталь, на шурупы, Регулировка по высоте: продольное отверстие | D15: 83021000 | E15: 0.03115 | F15: 170 | H15: 173L6100 MPL V500 ONS | K15: 170
A16: 01867833 | B16: 173L6130 MPL V500 NI | C16: CLIP ответная планка, крест., 3 мм, сталь, на шурупы, Регулировка по высоте: продольное отверстие | D16: 83021000 | E16: 0.02036 | F16: 120 | H16: 173L6130 MPL V500 NI | K16: 120
A17: 04417806 | B17: 173L8100 MPL V500 NI | C17: CLIP ответная планка, крест., 0 мм, сталь, с предвар. вмонт. евровинтами, Регулировка по высоте: продольное отверстие | D17: 83021000 | E17: 0.025022 | F17: 170 | H17: 173L8100 MPL V500 NI | K17: 170
F18: 170 | H18: 173L8100.21MPL V500 NI | K18: 170
A19: 01917443 | B19: 173L8130 MPL V500 NI | C19: CLIP ответная планка, крест., 3 мм, сталь, с предвар. вмонт. евровинтами, Регулировка по высоте: продольное отверстие | D19: 83021000 | E19: 0.02752 | F19: 190 | H19: 173L8130 MPL V500 NI | K19: 190
A20: 01336643 | B20: 173L8300 MPL V500 NI | C20: CLIP ответная планка, крест., 0 мм, сталь, с предвар. вмонт. евровинтами, Регулировка по высоте: продольное отверстие | D20: 83021000 | E20: 0.024718 | F20: 180 | H20: 173L8300 MPL V500 NI | K20: 180
A21: 02733933 | B21: 174H710ZE DUEPL V500 NI | C21: CLIP ответная планка, крест., 0 мм, сталь, EXPANDO для дверей с двух сторон каркаса, Регулировка по высоте: эксцентрик | D21: 83024200 | E21: 0.030432 | F21: 340 | H21: 174H710ZE DUEPL V500 NI | K21: 340
A22: 08079515 | B22: 174H7100E DUEPL V500 ONS | C22: CLIP ответная планка, крест., 0 мм, сталь, EXPANDO (с вмонтированными спецшурупами с распорн. пробками), Регулировка по высоте: эксцентрик | D22: 83021000 | E22: 0.03115 | F22: 390 | H22: 174H7100E DUEPL V500 ONS | K22: 390
F23: 580 | H23: 174H7100I DUEPL V250 NI | K23: 580
F24: 600 | H24: 174H7130I DUEPL V50 NI | K24: 600
A25: 05891994 | B25: 175H3100 MPL V500 NI | C25: CLIP ответная планка, прям., 0 мм, сталь, на шурупы, Регулировка по высоте: эксцентрик | D25: 83021000 | E25: 0.01566 | F25: 270 | H25: 175H3100 MPL V500 NI | K25: 270
A26: 09594813 | B26: 175H3100 MPL V500 ONS | C26: CLIP ответная планка, прям., 0 мм, сталь, на шурупы, Регулировка по высоте: эксцентрик | D26: 83021000 | E26: 0.01566 | F26: 290 | H26: 175H3100 MPL V500 ONS | K26: 290
A27: 01704442 | B27: 175H3130 MPL V500 NI | C27: CLIP ответная планка, прям., 3 мм, сталь, на шурупы, Регулировка по высоте: эксцентрик | D27: 83021000 | E27: 0.02 | F27: 300 | H27: 175H3130 MPL V500 NI | K27: 300
A28: 08540966 | B28: 175H3130 MPL V500 ONS | C28: CLIP ответная планка, прям., 3 мм, сталь, на шурупы, Регулировка по высоте: эксцентрик | D28: 83021000 | E28: 0.02 | F28: 330 | H28: 175H3130 MPL V500 ONS | K28: 330
A29: 06796303 | B29: 175H5A00 AD-PL V50 NI | C29: CLIP ответная планка, прям., 0 мм, цинк, на шурупы, Регулировка по высоте: эксцентрик, для узких алюминиевых рамок | D29: 83021000 | E29: 0.074 | F29: 1500 | H29: 175H5A00 AD-PL V50 NI | K29: 1500
A30: 06796593 | B30: 175H5B00 AD-P L V50 NI | C30: CLIP ответная планка, прям., цинк, на шурупы, Регулировка по высоте: эксцентрик, лев., для узких алюминиевых рамок | D30: 83021000 | E30: 0.0738 | F30: 1500 | H30: 175H5B00 AD-P L V50 NI | K30: 1500
A31: 06796243 | B31: 175H5B00 AD-P R V50 NI | C31: CLIP ответная планка, прям., цинк, на шурупы, Регулировка по высоте: эксцентрик, прав., для узких алюминиевых рамок | D31: 83021000 | E31: 0.0738 | F31: 1500 | H31: 175H5B00 AD-P R V50 NI | K31: 1500
A32: 07323033 | B32: 175H7190 MPL V50 NI | C32: CLIP ответная планка, крест., 9 мм, цинк, на шурупы, Регулировка по высоте: двухсоставная | D32: 83021000 | E32: 0.04748 | F32: 600 | H32: 175H7190 MPL V50 NI | K32: 600
A33: 02260343 | B33: 175H7190.22MPL V250 NI | C33: CLIP ответная планка, крест., 18 мм, цинк, на шурупы, Регулировка по высоте: двухсоставная | D33: 83021000 | E33: 0.0592 | F33: 870 | H33: 175H7190.22MPL V250 NI | K33: 870
A34: 04974013 | B34: 175H9160 MPL V50 NI | C34: CLIP ответная планка, крест., 6 мм, цинк, евровинты, Регулировка по высоте: двухсоставная | D34: 83021000 | E34: 0.04216 | F34: 640 | H34: 175H9160 MPL V50 NI | K34: 640
A35: 04653407 | B35: 175M4C20 MPL SP 250SANI | C35: CLIP CRISTALLO-ответная планка, на клею, прям., 0 мм, цинк, Регулировка по высоте: двухсоставная | D35: 83021000 | E35: 0.0697 | F35: 6400 | H35: 175M4C20 MPL SP 250SANI | K35: 6400
A36: 04787251 | B36: 177H3100E DUEPL V500 NI | C36: CLIP ответная планка, прям., 0 мм, сталь, EXPANDO (с вмонтированными спецшурупами с распорн. пробками), Регулировка по высоте: эксцентрик | D36: 83021000 | E36: 0.01793 | F36: 330 | H36: 177H3100E DUEPL V500 NI | K36: 330
... A49: 07160400 | B49: 20F7051 BEGR V100 TGR | C49: 104° Ограничитель угла открывания для AVENTOS HF | D49: 39263000 | E49: 0.0011 | F49: 700 | H49: 20F7051 BEGR V100 TGR | K49: 700
A50: 06844408 | B50: 20F8001 ABD L V20 HGR | C50: Складной подъемник AVENTOS HF, заглушка, основная, рифленый, левая | D50: 39263000 | E50: 0.093357143
A51: 06844238 | B51: 20F8001 ABD R V20 HGR | C51: Складной подъемник AVENTOS HF, заглушка, основная, рифленый, правая | D51: 39263000 | E51: 0.093357143
A52: 06844402 | B52: 20F8001 ABD L V20SEIW | C52: Складной подъемник AVENTOS HF, заглушка, основная, рифленый, левая | D52: 39263000 | E52: 0.103
A53: 06844232 | B53: 20F8001 ABD R V20SEIW | C53: Складной подъемник AVENTOS HF, заглушка, основная, рифленый, правая | D53: 39263000 | E53: 0.103
...

Sheet Артикулы 4
K2: АДГТ long | M2: 0.00572 | N2: 0
L3: кол в упаковке | N3: 0
A4: Ид. № | B4: Артикул | C4: Название | M4: Вес | N4: 0
A7: 02575683 | B7: 171A5010 W-DIST V50 NI | C7: Клинобразная угловая подкладка, крестообразная, +5°, под шурупы, толщина подкладки: 0.8 мм | D7: 270 | E7: 310 | F7: 310 | G7: 310 | H7: 320 | I7: 320 | J7: 270 | K7: 83021000 | L7: 50 | M7: 0.0248 | N7: 260
A8: 02518453 | B8: 171A5040 W-DIST V50 NI | C8: Клинобразная угловая подкладка, крестообразная, +5°, под шурупы, толщина подкладки: 3 мм | D8: 330 | E8: 380 | F8: 380 | G8: 380 | H8: 360 | I8: 360 | J8: 310 | K8: 83021000 | L8: 50 | M8: 0.0334 | N8: 320
A9: 02518373 | B9: 171A5070 W-DIST V50 NI | C9: Клинобразная угловая подкладка, крестообразная, +5°, под шурупы, толщина подкладки: 6 мм | D9: 90 | E9: 100 | F9: 90 | G9: 90 | H9: 420 | I9: 420 | J9: 370 | K9: 83021000 | L9: 50 | M9: 0.0374 | N9: 410
A10: 02518533 | B10: 171A5500 W-DIST V50 NI | C10: Клинобразная угловая подкладка, крестообразная, -5°, под шурупы, толщина подкладки: 6 мм | D10: 320 | E10: 370 | F10: 370 | G10: 370 | H10: 310 | I10: 310 | J10: 280 | K10: 83021000 | L10: 50 | M10: 0.0222 | N10: 310
A11: 08748653 | B11: 173H7100 MPL V500 NI | C11: CLIP ответная планка, крест., 0 мм, сталь, на шурупы, Регулировка по высоте: эксцентрик | D11: 1410 | E11: 1620 | F11: 1620 | G11: 1620 | H11: 330 | I11: 330 | J11: 230 | K11: 83021000 | L11: 500 | M11: 0.02662 | N11: 260
A12: 02509289 | B12: 173H7100 MPL V500 ONS | C12: CLIP ответная планка, крест., 0 мм, сталь, на шурупы, Регулировка по высоте: эксцентрик | K12: 83021000 | L12: 500 | M12: 0.03115 | N12: 310
A13: 02364103 | B13: 173H7130 MPL V50 NI | C13: CLIP ответная планка, крест., 3 мм, сталь, на шурупы, Регулировка по высоте: эксцентрик | D13: 1370 | E13: 1580 | F13: 1580 | G13: 1580 | H13: 400 | I13: 400 | J13: 250 | K13: 83024200 | L13: 50 | M13: 0.03128 | N13: 290
A14: 07480175 | B14: 173L6100 MPL V500 NI | C14: CLIP ответная планка, крест., 0 мм, сталь, на шурупы, Регулировка по высоте: продольное отверстие | D14: 1370 | E14: 1580 | F14: 1580 | G14: 1580 | H14: 90 | I14: 90 | J14: 70 | K14: 83021000 | L14: 500 | M14: 0.01754 | N14: 80
A15: 03647445 | B15: 173L6100 MPL V500 ONS | C15: CLIP ответная планка, крест., 0 мм, сталь, на шурупы, Регулировка по высоте: продольное отверстие | K15: 83021000 | L15: 500 | M15: 0.03115 | N15: 150
A16: 01867833 | B16: 173L6130 MPL V500 NI | C16: CLIP ответная планка, крест., 3 мм, сталь, на шурупы, Регулировка по высоте: продольное отверстие | H16: 130 | I16: 130 | J16: 100 | K16: 83021000 | L16: 500 | M16: 0.02036 | N16: 100
A17: 04417806 | B17: 173L8100 MPL V500 NI | C17: CLIP ответная планка, крест., 0 мм, сталь, с предвар. вмонт. евровинтами, Регулировка по высоте: продольное отверстие | K17: 83021000 | L17: 500 | M17: 0.025022 | N17: 150
A18: 01370903 | B18: 173L8100.21MPL V500 NI | C18: CLIP ответная планка, крест., 0 мм, сталь, для крепления с помощью предустановленных евровинтов, Регулировка по высоте: продольное отверстие | K18: 83021000 | L18: 500 | M18: 0.024194 | N18: 150
A19: 01917443 | B19: 173L8130 MPL V500 NI | C19: CLIP ответная планка, крест., 3 мм, сталь, с предвар. вмонт. евровинтами, Регулировка по высоте: продольное отверстие | K19: 83021000 | L19: 500 | M19: 0.02752 | N19: 170
A20: 01336643 | B20: 173L8300 MPL V500 NI | C20: CLIP ответная планка, крест., 0 мм, сталь, с предвар. вмонт. евровинтами, Регулировка по высоте: продольное отверстие | H20: 300 | I20: 300 | J20: 230 | K20: 83021000 | L20: 500 | M20: 0.024718 | N20: 160
A21: 02733933 | B21: 174H710ZE DUEPL V500 NI | C21: CLIP ответная планка, крест., 0 мм, сталь, EXPANDO для дверей с двух сторон каркаса, Регулировка по высоте: эксцентрик | K21: 83021000 | L21: 500 | M21: 0.030432 | N21: 310
A22: 08079515 | B22: 174H7100E DUEPL V500 ONS | C22: CLIP ответная планка, крест., 0 мм, сталь, EXPANDO (с вмонтированными спецшурупами с распорн. пробками), Регулировка по высоте: эксцентрик | K22: 83021000 | L22: 500 | M22: 0.03115 | N22: 350
A23: 02849563 | B23: 174H7100I DUEPL V250 NI | C23: CLIP ответная планка, крест., 0 мм, сталь, без инструмента с INSERTA, Регулировка по высоте: эксцентрик | K23: 83021000 | L23: 250 | M23: 0.04 | N23: 520
A24: 02849643 | B24: 174H7130I DUEPL V50 NI | C24: CLIP ответная планка, крест., 3 мм, сталь, без инструмента с INSERTA, Регулировка по высоте: эксцентрик | K24: 83021000 | L24: 250 | M24: 0.04 | N24: 540
A25: 05891994 | B25: 175H3100 MPL V500 NI | C25: CLIP ответная планка, прям., 0 мм, сталь, на шурупы, Регулировка по высоте: эксцентрик | K25: 83021000 | L25: 500 | M25: 0.01566 | N25: 240
B26: 175H3100 MPL V500 ONS | C26: CLIP ответная планка, прям., 0 мм, сталь, на шурупы, Регулировка по высоте: эксцентрик | D26: 9060 | E26: 10410 | F26: 10410 | G26: 10410 | H26: 1690 | I26: 1690 | J26: 1170 | K26: 83021000 | L26: 500 | M26: 0.01566 | N26: 260
A27: 01704442 | B27: 175H3130 MPL V500 NI | C27: CLIP ответная планка, прям., 3 мм, сталь, на шурупы, Регулировка по высоте: эксцентрик | D27: 10040 | E27: 11550 | F27: 11550 | G27: 11550 | H27: 1650 | I27: 1650 | J27: 1170 | K27: 83021000 | L27: 500 | M27: 0.02 | N27: 270
A28: 08540966 | B28: 175H3130 MPL V500 ONS | C28: CLIP ответная планка, прям., 3 мм, сталь, на шурупы, Регулировка по высоте: эксцентрик | D28: 4540 | E28: 5220 | F28: 5220 | G28: 5220 | H28: 1650 | I28: 1650 | J28: 1170 | K28: 83021000 | L28: 500 | M28: 0.02 | N28: 300
A29: 06796303 | B29: 175H5A00 AD-PL V50 NI | C29: CLIP ответная планка, прям., 0 мм, цинк, на шурупы, Регулировка по высоте: эксцентрик, для узких алюминиевых рамок | D29: 5470 | E29: 6290 | F29: 6290 | G29: 6290 | H29: 640 | I29: 640 | J29: 550 | K29: 83021000 | L29: 50 | M29: 0.074 | N29: 1350
A30: 06796593 | B30: 175H5B00 AD-P L V50 NI | C30: CLIP ответная планка, прям., цинк, на шурупы, Регулировка по высоте: эксцентрик, лев., для узких алюминиевых рамок | F30: 640 | G30: 640 | H30: 910 | I30: 910 | J30: 750 | K30: 83021000 | L30: 50 | M30: 0.0738 | N30: 1350
A31: 06796243 | B31: 175H5B00 AD-P R V50 NI | C31: CLIP ответная планка, прям., цинк, на шурупы, Регулировка по высоте: эксцентрик, прав., для узких алюминиевых рамок | D31: 810 | E31: 930 | F31: 930 | G31: 930 | H31: 600 | I31: 600 | J31: 500 | K31: 83021000 | L31: 50 | M31: 0.0738 | N31: 1350
A32: 07323033 | B32: 175H7190 MPL V50 NI | C32: CLIP ответная планка, крест., 9 мм, цинк, на шурупы, Регулировка по высоте: двухсоставная | J32: 5200 | K32: 83021000 | L32: 50 | M32: 0.04748 | N32: 540
A33: 02260343 | B33: 175H7190.22MPL V250 NI | C33: CLIP ответная планка, крест., 18 мм, цинк, на шурупы, Регулировка по высоте: двухсоставная | K33: 83021000 | L33: 250 | M33: 0.0592 | N33: 780
A34: 04974013 | B34: 175H9160 MPL V50 NI | C34: CLIP ответная планка, крест., 6 мм, цинк, евровинты, Регулировка по высоте: двухсоставная | K34: 83021000 | L34: 50 | M34: 0.04216 | N34: 580
A35: 04653407 | B35: 175M4C20 MPL SP 250SANI | C35: CLIP CRISTALLO-ответная планка, на клею, прям., 0 мм, цинк, Регулировка по высоте: двухсоставная | D35: 810 | E35: 930 | F35: 930 | G35: 930 | H35: 100 | I35: 100 | J35: 80 | K35: 83021000 | L35: 250 | M35: 0.0697 | N35: 5760
A36: 04787251 | B36: 177H3100E DUEPL V500 NI | C36: CLIP ответная планка, прям., 0 мм, сталь, EXPANDO (с вмонтированными спецшурупами с распорн. пробками), Регулировка по высоте: эксцентрик | K36: 83021000 | L36: 500 | M36: 0.01793 | N36: 300
A37: 04786051 | B37: 177H3100E DUEPL V500 ONS | C37: CLIP ответная планка, прям., 0 мм, сталь, EXPANDO (с вмонтированными спецшурупами с распорн. пробками), Регулировка по высоте: эксцентрик | K37: 83021000 | L37: 500 | M37: 0.01793 | N37: 300
A38: 06863103 | B38: 193L6100 MPL V500 NI | C38: MODUL ответная планка, крест., 0 мм, сталь, на шурупы, Регулировка по высоте: продольное отверстие | D38: 220 | E38: 260 | F38: 260 | G38: 260 | H38: 9960 | I38: 9960 | J38: 8600 | K38: 83021000 | L38: 500 | M38: 0.01605 | N38: 80
A39: 08618728 | B39: 194K6100E DUEPL V500 NI | C39: MODUL ответная планка, крест., 0 мм, сталь, EXPANDO (с вмонтированными спецшурупами с распорн. пробками), Регулировка по высоте: продольное отверстие | D39: 8040 | E39: 9250 | F39: 9250 | G39: 9250 | H39: 10830 | I39: 10830 | J39: 9500 | K39: 83021000 | L39: 500 | M39: 0.02622 | N39: 240
A40: 06325543 | B40: 199.8130 MPL V50 NI | C40: MODUL ответная планка, крест. (14/32 мм), 3 мм, цинк, с предвар. вмонт. евровинтами, Регулировка по высоте: продольное отверстие | E40: 14510 | F40: 14510 | G40: 14510 | H40: 12020 | I40: 12020 | J40: 10500 | K40: 83024200 | L40: 50 | M40: 0.03614 | N40: 310
A41: 08931762 | B41: 20F2201.05KRAFTSP 20 ZN | C41: Складной подъемник AVENTOS HF, силовой механизм, коефф. мощ.=2600 – 5500 (при использовании 2-х механизмов), для применения с SERVO-DRIVE | J41: 4100 | K41: 83024200 | L41: 20 | M41: 0.81025 | N41: 9740
A42: 08931832 | B42: 20F2501.05KRAFTSP 20 ZN | C42: Складной подъемник AVENTOS HF, силовой механизм, коефф. мощ.=5350 – 10150 (при использовании 2-х механизмов), для применения с SERVO-DRIVE | D42: 4600 | E42: 5290 | F42: 5290 | G42: 4790 | H42: 5430 | I42: 5430 | J42: 4600 | K42: 83024200 | L42: 20 | M42: 0.8664 | N42: 10570
A43: 08931902 | B43: 20F2801.05KRAFTSP 20 ZN | C43: Складной подъемник AVENTOS HF, силовой механизм, коефф. мощ.=9000 – 17250 (при использовании 2-х механизмов), для применения с SERVO-DRIVE | D43: 4600 | E43: 5290 | F43: 5290 | G43: 5790 | H43: 6550 | I43: 6550 | J43: 5600 | K43: 83024200 | L43: 20 | M43: 0.920875 | N43: 11720
...

Sheet Артикулы 5
K2: АДГТ long | M2: 0.00572 | N2: 0
L3: кол в упаковке | N3: 0
A4: Ид. № | B4: Артикул | C4: Название | M4: Вес | N4: 0
A7: 02575683 | B7: 171A5010 W-DIST V50 NI | C7: Клинобразная угловая подкладка, крестообразная, +5°, под шурупы, толщина подкладки: 0.8 мм | D7: 270 | E7: 310 | F7: 310 | G7: 310 | H7: 320 | I7: 320 | J7: 270 | K7: 83021000 | L7: 50 | M7: 0.0248 | N7: 260
A8: 02518453 | B8: 171A5040 W-DIST V50 NI | C8: Клинобразная угловая подкладка, крестообразная, +5°, под шурупы, толщина подкладки: 3 мм | D8: 330 | E8: 380 | F8: 380 | G8: 380 | H8: 360 | I8: 360 | J8: 310 | K8: 83021000 | L8: 50 | M8: 0.0334 | N8: 320
A9: 02518373 | B9: 171A5070 W-DIST V50 NI | C9: Клинобразная угловая подкладка, крестообразная, +5°, под шурупы, толщина подкладки: 6 мм | D9: 90 | E9: 100 | F9: 90 | G9: 90 | H9: 420 | I9: 420 | J9: 370 | K9: 83021000 | L9: 50 | M9: 0.0374 | N9: 410
A10: 02518533 | B10: 171A5500 W-DIST V50 NI | C10: Клинобразная угловая подкладка, крестообразная, -5°, под шурупы, толщина подкладки: 6 мм | D10: 320 | E10: 370 | F10: 370 | G10: 370 | H10: 310 | I10: 310 | J10: 280 | K10: 83021000 | L10: 50 | M10: 0.0222 | N10: 310
A11: 08748653 | B11: 173H7100 MPL V500 NI | C11: CLIP ответная планка, крест., 0 мм, сталь, на шурупы, Регулировка по высоте: эксцентрик | D11: 1410 | E11: 1620 | F11: 1620 | G11: 1620 | H11: 330 | I11: 330 | J11: 230 | K11: 83021000 | L11: 500 | M11: 0.02662 | N11: 260
A12: 02509289 | B12: 173H7100 MPL V500 ONS | C12: CLIP ответная планка, крест., 0 мм, сталь, на шурупы, Регулировка по высоте: эксцентрик | K12: 83021000 | L12: 500 | M12: 0.03115 | N12: 310
A13: 02364103 | B13: 173H7130 MPL V50 NI | C13: CLIP ответная планка, крест., 3 мм, сталь, на шурупы, Регулировка по высоте: эксцентрик | D13: 1370 | E13: 1580 | F13: 1580 | G13: 1580 | H13: 400 | I13: 400 | J13: 250 | K13: 83024200 | L13: 50 | M13: 0.03128 | N13: 290
A14: 07480175 | B14: 173L6100 MPL V500 NI | C14: CLIP ответная планка, крест., 0 мм, сталь, на шурупы, Регулировка по высоте: продольное отверстие | D14: 1370 | E14: 1580 | F14: 1580 | G14: 1580 | H14: 90 | I14: 90 | J14: 70 | K14: 83021000 | L14: 500 | M14: 0.01754 | N14: 80
A15: 03647445 | B15: 173L6100 MPL V500 ONS | C15: CLIP ответная планка, крест., 0 мм, сталь, на шурупы, Регулировка по высоте: продольное отверстие | K15: 83021000 | L15: 500 | M15: 0.03115 | N15: 150
A16: 01867833 | B16: 173L6130 MPL V500 NI | C16: CLIP ответная планка, крест., 3 мм, сталь, на шурупы, Регулировка по высоте: продольное отверстие | H16: 130 | I16: 130 | J16: 100 | K16: 83021000 | L16: 500 | M16: 0.02036 | N16: 100
A17: 04417806 | B17: 173L8100 MPL V500 NI | C17: CLIP ответная планка, крест., 0 мм, сталь, с предвар. вмонт. евровинтами, Регулировка по высоте: продольное отверстие | K17: 83021000 | L17: 500 | M17: 0.025022 | N17: 150
A18: 01370903 | B18: 173L8100.21MPL V500 NI | C18: CLIP ответная планка, крест., 0 мм, сталь, для крепления с помощью предустановленных евровинтов, Регулировка по высоте: продольное отверстие | K18: 83021000 | L18: 500 | M18: 0.024194 | N18: 150
A19: 01917443 | B19: 173L8130 MPL V500 NI | C19: CLIP ответная планка, крест., 3 мм, сталь, с предвар. вмонт. евровинтами, Регулировка по высоте: продольное отверстие | K19: 83021000 | L19: 500 | M19: 0.02752 | N19: 170
A20: 01336643 | B20: 173L8300 MPL V500 NI | C20: CLIP ответная планка, крест., 0 мм, сталь, с предвар. вмонт. евровинтами, Регулировка по высоте: продольное отверстие | H20: 300 | I20: 300 | J20: 230 | K20: 83021000 | L20: 500 | M20: 0.024718 | N20: 160
A21: 02733933 | B21: 174H710ZE DUEPL V500 NI | C21: CLIP ответная планка, крест., 0 мм, сталь, EXPANDO для дверей с двух сторон каркаса, Регулировка по высоте: эксцентрик | K21: 83021000 | L21: 500 | M21: 0.030432 | N21: 310
A22: 08079515 | B22: 174H7100E DUEPL V500 ONS | C22: CLIP ответная планка, крест., 0 мм, сталь, EXPANDO (с вмонтированными спецшурупами с распорн. пробками), Регулировка по высоте: эксцентрик | K22: 83021000 | L22: 500 | M22: 0.03115 | N22: 350
A23: 02849563 | B23: 174H7100I DUEPL V250 NI | C23: CLIP ответная планка, крест., 0 мм, сталь, без инструмента с INSERTA, Регулировка по высоте: эксцентрик | K23: 83021000 | L23: 250 | M23: 0.04 | N23: 520
A24: 02849643 | B24: 174H7130I DUEPL V50 NI | C24: CLIP ответная планка, крест., 3 мм, сталь, без инструмента с INSERTA, Регулировка по высоте: эксцентрик | K24: 83021000 | L24: 250 | M24: 0.04 | N24: 540
A25: 05891994 | B25: 175H3100 MPL V500 NI | C25: CLIP ответная планка, прям., 0 мм, сталь, на шурупы, Регулировка по высоте: эксцентрик | K25: 83021000 | L25: 500 | M25: 0.01566 | N25: 240
B26: 175H3100 MPL V500 ONS | C26: CLIP ответная планка, прям., 0 мм, сталь, на шурупы, Регулировка по высоте: эксцентрик | D26: 9060 | E26: 10410 | F26: 10410 | G26: 10410 | H26: 1690 | I26: 1690 | J26: 1170 | K26: 83021000 | L26: 500 | M26: 0.01566 | N26: 260
A27: 01704442 | B27: 175H3130 MPL V500 NI | C27: CLIP ответная планка, прям., 3 мм, сталь, на шурупы, Регулировка по высоте: эксцентрик | D27: 10040 | E27: 11550 | F27: 11550 | G27: 11550 | H27: 1650 | I27: 1650 | J27: 1170 | K27: 83021000 | L27: 500 | M27: 0.02 | N27: 270
A28: 08540966 | B28: 175H3130 MPL V500 ONS | C28: CLIP ответная планка, прям., 3 мм, сталь, на шурупы, Регулировка по высоте: эксцентрик | D28: 4540 | E28: 5220 | F28: 5220 | G28: 5220 | H28: 1650 | I28: 1650 | J28: 1170 | K28: 83021000 | L28: 500 | M28: 0.02 | N28: 300
A29: 06796303 | B29: 175H5A00 AD-PL V50 NI | C29: CLIP ответная планка, прям., 0 мм, цинк, на шурупы, Регулировка по высоте: эксцентрик, для узких алюминиевых рамок | D29: 5470 | E29: 6290 | F29: 6290 | G29: 6290 | H29: 640 | I29: 640 | J29: 550 | K29: 83021000 | L29: 50 | M29: 0.074 | N29: 1350
A30: 06796593 | B30: 175H5B00 AD-P L V50 NI | C30: CLIP ответная планка, прям., цинк, на шурупы, Регулировка по высоте: эксцентрик, лев., для узких алюминиевых рамок | F30: 640 | G30: 640 | H30: 910 | I30: 910 | J30: 750 | K30: 83021000 | L30: 50 | M30: 0.0738 | N30: 1350
A31: 06796243 | B31: 175H5B00 AD-P R V50 NI | C31: CLIP ответная планка, прям., цинк, на шурупы, Регулировка по высоте: эксцентрик, прав., для узких алюминиевых рамок | D31: 810 | E31: 930 | F31: 930 | G31: 930 | H31: 600 | I31: 600 | J31: 500 | K31: 83021000 | L31: 50 | M31: 0.0738 | N31: 1350
A32: 07323033 | B32: 175H7190 MPL V50 NI | C32: CLIP ответная планка, крест., 9 мм, цинк, на шурупы, Регулировка по высоте: двухсоставная | J32: 5200 | K32: 83021000 | L32: 50 | M32: 0.04748 | N32: 540
A33: 02260343 | B33: 175H7190.22MPL V250 NI | C33: CLIP ответная планка, крест., 18 мм, цинк, на шурупы, Регулировка по высоте: двухсоставная | K33: 83021000 | L33: 250 | M33: 0.0592 | N33: 780
A34: 04974013 | B34: 175H9160 MPL V50 NI | C34: CLIP ответная планка, крест., 6 мм, цинк, евровинты, Регулировка по высоте: двухсоставная | K34: 83021000 | L34: 50 | M34: 0.04216 | N34: 580
A35: 04653407 | B35: 175M4C20 MPL SP 250SANI | C35: CLIP CRISTALLO-ответная планка, на клею, прям., 0 мм, цинк, Регулировка по высоте: двухсоставная | D35: 810 | E35: 930 | F35: 930 | G35: 930 | H35: 100 | I35: 100 | J35: 80 | K35: 83021000 | L35: 250 | M35: 0.0697 | N35: 5760
A36: 04787251 | B36: 177H3100E DUEPL V500 NI | C36: CLIP ответная планка, прям., 0 мм, сталь, EXPANDO (с вмонтированными спецшурупами с распорн. пробками), Регулировка по высоте: эксцентрик | K36: 83021000 | L36: 500 | M36: 0.01793 | N36: 300
A37: 04786051 | B37: 177H3100E DUEPL V500 ONS | C37: CLIP ответная планка, прям., 0 мм, сталь, EXPANDO (с вмонтированными спецшурупами с распорн. пробками), Регулировка по высоте: эксцентрик | K37: 83021000 | L37: 500 | M37: 0.01793 | N37: 300
A38: 06863103 | B38: 193L6100 MPL V500 NI | C38: MODUL ответная планка, крест., 0 мм, сталь, на шурупы, Регулировка по высоте: продольное отверстие | D38: 220 | E38: 260 | F38: 260 | G38: 260 | H38: 9960 | I38: 9960 | J38: 8600 | K38: 83021000 | L38: 500 | M38: 0.01605 | N38: 80
A39: 08618728 | B39: 194K6100E DUEPL V500 NI | C39: MODUL ответная планка, крест., 0 мм, сталь, EXPANDO (с вмонтированными спецшурупами с распорн. пробками), Регулировка по высоте: продольное отверстие | D39: 8040 | E39: 9250 | F39: 9250 | G39: 9250 | H39: 10830 | I39: 10830 | J39: 9500 | K39: 83021000 | L39: 500 | M39: 0.02622 | N39: 240
A40: 06325543 | B40: 199.8130 MPL V50 NI | C40: MODUL ответная планка, крест. (14/32 мм), 3 мм, цинк, с предвар. вмонт. евровинтами, Регулировка по высоте: продольное отверстие | E40: 14510 | F40: 14510 | G40: 14510 | H40: 12020 | I40: 12020 | J40: 10500 | K40: 83024200 | L40: 50 | M40: 0.03614 | N40: 310
A41: 08931762 | B41: 20F2201.05KRAFTSP 20 ZN | C41: Складной подъемник AVENTOS HF, силовой механизм, коефф. мощ.=2600 – 5500 (при использовании 2-х механизмов), для применения с SERVO-DRIVE | J41: 4100 | K41: 83024200 | L41: 20 | M41: 0.81025 | N41: 9740
A42: 08931832 | B42: 20F2501.05KRAFTSP 20 ZN | C42: Складной подъемник AVENTOS HF, силовой механизм, коефф. мощ.=5350 – 10150 (при использовании 2-х механизмов), для применения с SERVO-DRIVE | D42: 4600 | E42: 5290 | F42: 5290 | G42: 4790 | H42: 5430 | I42: 5430 | J42: 4600 | K42: 83024200 | L42: 20 | M42: 0.8664 | N42: 10570
A43: 08931902 | B43: 20F2801.05KRAFTSP 20 ZN | C43: Складной подъемник AVENTOS HF, силовой механизм, коефф. мощ.=9000 – 17250 (при использовании 2-х механизмов), для применения с SERVO-DRIVE | D43: 4600 | E43: 5290 | F43: 5290 | G43: 5790 | H43: 6550 | I43: 6550 | J43: 5600 | K43: 83024200 | L43: 20 | M43: 0.920875 | N43: 11720
...

Sheet Комплекты 2
A3: Петли | B3: MODUL
D4: MODUL - Петли для накладных дверей 100 | E4: =SUMPRODUCT($A5:$A6,E5:E6) -> 2490
A5: 1 | C5: 91M2550 MB V250 NI | D5: "Модуль" Петли для накладных дверей 100 | E5: ='Артикулы 3'!F826 -> 990 | H5: =E5*(1 -#REF!) -> #REF! | I5: =H5-#REF! -> #REF! | J5: =I5/H5 -> #REF! | K5: =I5/E5 -> #REF!
A6: 1 | C6: 193L6100 MPL V500 NI | D6: "Модуль" Ответная планка под саморез | E6: ='Артикулы 3'!F30 -> 1500
D8: MODUL - Петли для полунакладных дверей 100 | E8: =SUMPRODUCT($A9:$A10,E9:E10) -> 2490
A9: 1 | C9: 91M2650 MB V250 NI | D9: "Модуль" Петли для полунакладных дверей 100 | E9: ='Артикулы 3'!F827 -> 990
A10: 1 | C10: 193L6100 MPL V500 NI | D10: "Модуль" Ответная планка под саморез | E10: ='Артикулы 3'!F30 -> 1500
D12: MODUL - Петли для вкладных дверей 100 | E12: =SUMPRODUCT($A13:$A14,E13:E14) -> 2080
A13: 1 | C13: 91M2750 MB V250 NI | D13: "Модуль" Петли для вкладных дверей 100 | E13: ='Артикулы 3'!F828 -> 580
A14: 1 | C14: 193L6100 MPL V500 NI | D14: "Модуль" Ответная планка под саморез | E14: ='Артикулы 3'!F30 -> 1500
A17: Петли | B17: CLIP
D18: CLIP- Петли для накладных дверей 100 | E18: =SUMPRODUCT($A19:$A20,E19:E20) -> 4160
A19: 1 | C19: 71M2550 MB V250 NI | D19: "Клип " Петли для накладных дверей 100 | E19: ='Артикулы 3'!F563 -> 4160
A20: 1 | C20: 173L6100 MPL V500 NI | D20: "Клип топ" Ответная планка под саморез | E20: ='Артикулы 3'!F2 -> 0
D22: CLIP- Петли для полунакладных дверей 100 | E22: =SUMPRODUCT($A23:$A24,E23:E24) -> 5990
A23: 1 | C23: 71M2650 MB V250 NI | D23: "Клип " Петли для полунакладных дверей 100 | E23: ='Артикулы 3'!F564 -> 5990
A24: 1 | C24: 173L6100 MPL V500 NI | D24: "Клип топ" Ответная планка под саморез | E24: ='Артикулы 3'!F2 -> 0
D26: CLIP- Петли для вкладных дверей 100 | E26: =SUMPRODUCT($A27:$A28,E27:E28) -> 3050
A27: 1 | C27: 71M2750 MB V250 NI | D27: "Клип " Петли для вкладных дверей 100 | E27: ='Артикулы 3'!F565 -> 3050
A28: 1 | C28: 173L6100 MPL V500 NI | D28: "Клип топ" Ответная планка под саморез | E28: ='Артикулы 3'!F2 -> 0
I47: Цвета заглушки
D48: Aventos HF TOP | I48: Светло серый | J48: Белый | K48: Темно серый ( графитовый)
I49: 22.8001 ABD L V20 HGR | J49: 22.8001 ABD L V20SEIW | K49: 22.8001 ABD L V20 TGR
D50: AVENTOS HF top 25-32 | E50: =SUMPRODUCT(A51:A58,E51:E58) -> 46160 | I50: 22.8001 ABD R V20 HGR | J50: 22.8001 ABD R V20SEIW | K50: 22.8001 ABD R V20 TGR
A51: 4 | B51: 07480175 | C51: 173L6100 MPL V500 NI | D51: CLIP ответная планка, крест., 0 мм, сталь, на шурупы, Регулировка по высоте: продольное отверстие | E51: ='Артикулы 3'!F14 -> 90
A52: 2 | B52: 05891994 | C52: 175H3100 MPL V500 NI | D52: CLIP ответная планка, прям., 0 мм, сталь, на шурупы, Регулировка по высоте: эксцентрик | E52: ='Артикулы 3'!F25 -> 270
A53: 1 | B53: 02060947 | C53: 22.8001 ABD L V20 HGR | D53: Заглушка для силового механизма AVENTOS HF/HS/HL top, гладкий, лев. | E53: ='Артикулы 3'!F155 -> 1110
A54: 1 | B54: 08843517 | C54: 22.8001 ABD R V20 HGR | D54: Заглушка для силового механизма AVENTOS HF/HS/HL top, гладкий, прав. | E54: ='Артикулы 3'!F156 -> 1110
A55: 2 | B55: 02608127 | C55: 22F2501 KRAFTSP 16 ZN | D55: AVENTOS HF top – складной подъемник, силовой механизм, коефф. мощ.=2700-13500 (2 шт.), на саморезы, для применения с SERVO-DRIVE | E55: ='Артикулы 3'!F162 -> 13340
A56: 2 | B56: 09260101 | C56: 22F3201 TE-HEB V42 NI | D56: AVENTOS HF top – складной подъемник, рычаг, ВК=480-610 мм, симметрич. | E56: ='Артикулы 3'!F164 -> 5780
A57: 2 | B57: 06510533 | C57: 70T5550.TLMB V50 NI | D57: CLIP top стандартная петля 120°, накладная, без пружины, чашка петли: на шурупы | E57: ='Артикулы 3'!F537 -> 820
A58: 2 | B58: 06796673 | C58: 78Z5500T MB V50 NI | D58: CLIP top средняя петля для AVENTOS HF 134°, без пружины, чашка петли: на шурупы | E58: ='Артикулы 3'!F762 -> 1580
D60: AVENTOS HF top 25-35 | E60: =SUMPRODUCT(A61:A68,E61:E68) -> 49280 | I60: Светло серый | J60: Белый | K60: Темно серый ( графитовый)
A61: 4 | B61: 07480175 | C61: 173L6100 MPL V500 NI | D61: CLIP ответная планка, крест., 0 мм, сталь, на шурупы, Регулировка по высоте: продольное отверстие | E61: ='Артикулы 3'!F14 -> 90 | I61: 22.8001 ABD L V20 HGR | J61: 22.8001 ABD L V20SEIW | K61: 22.8001 ABD L V20 TGR
A62: 2 | B62: 05891994 | C62: 175H3100 MPL V500 NI | D62: CLIP ответная планка, прям., 0 мм, сталь, на шурупы, Регулировка по высоте: эксцентрик | E62: ='Артикулы 3'!F25 -> 270 | I62: 22.8001 ABD R V20 HGR | J62: 22.8001 ABD R V20SEIW | K62: 22.8001 ABD R V20 TGR
A63: 1 | B63: 02060947 | C63: 22.8001 ABD L V20 HGR | D63: Заглушка для силового механизма AVENTOS HF/HS/HL top, гладкий, лев. | E63: ='Артикулы 3'!F155 -> 1110
A64: 1 | B64: 08843517 | C64: 22.8001 ABD R V20 HGR | D64: Заглушка для силового механизма AVENTOS HF/HS/HL top, гладкий, прав. | E64: ='Артикулы 3'!F156 -> 1110
A65: 2 | B65: 02608127 | C65: 22F2501 KRAFTSP 16 ZN | D65: AVENTOS HF top – складной подъемник, силовой механизм, коефф. мощ.=2700-13500 (2 шт.), на саморезы, для применения с SERVO-DRIVE | E65: ='Артикулы 3'!F162 -> 13340
A66: 2 | B66: 03048304 | C66: 22F3501 TE-HEB V42 NI | D66: AVENTOS HF top – складной подъемник, рычаг, ВК=600-910 мм, симметрич. | E66: ='Артикулы 3'!F166 -> 7340
A67: 2 | B67: 06510533 | C67: 70T5550.TLMB V50 NI | D67: CLIP top стандартная петля 120°, накладная, без пружины, чашка петли: на шурупы | E67: ='Артикулы 3'!F537 -> 820
...

Sheet Артикулы 2
B1: 1 Евро= | C1: 430
A2: перев/кг Блюм | B2: 0.44 | F2: 0.00572 | G2: 0
A3: перев/кг Siso | B3: 0.7 | G3: 0
A4: Ид. № | B4: Артикул | C4: Название | F4: Вес | G4: 0
A7: 02575683 | B7: 171A5010 W-DIST V50 NI | C7: Клинобразная угловая подкладка, крестообразная, +5°, под шурупы, толщина подкладки: 0.8 мм | F7: 0.0248 | G7: 260
A8: 02518453 | B8: 171A5040 W-DIST V50 NI | C8: Клин +5+4.4мм | F8: 0.0334 | G8: 320
A9: 02518373 | B9: 171A5070 W-DIST V50 NI | C9: Клин +5+7.35мм | F9: 0.0374 | G9: 410
A10: 02518533 | B10: 171A5500 W-DIST V50 NI | C10: Клин -5-.92мм | F10: 0.0222 | G10: 310
A11: 08748653 | B11: 173H7100 MPL V500 NI | C11: CLIP ответная планка, крест., 0 мм, сталь, на шурупы, Регулировка по высоте: эксцентрик | F11: 0.02662 | G11: 260
A12: 02509289 | B12: 173H7100 MPL V500 ONS | C12: CLIP ответная планка, крест., 0 мм, сталь, на шурупы, Регулировка по высоте: эксцентрик | F12: 0.03115 | G12: 310
A13: 02364103 | B13: 173H7130 MPL V50 NI | C13: Ответная планка с эксцентриком 3мм | F13: 0.03128 | G13: 290
A14: 07480175 | B14: 173L6100 MPL V500 NI | C14: CLIP ответная планка, крест., 0 мм, сталь, на шурупы, Регулировка по высоте: продольное отверстие | F14: 0.01754 | G14: 80
A15: 03647445 | B15: 173L6100 MPL V500 ONS | C15: CLIP ответная планка, крест., 0 мм, сталь, на шурупы, Регулировка по высоте: продольное отверстие | F15: 0.03115 | G15: 150
A16: 01867833 | B16: 173L6130 MPL V500 NI | C16: CLIP ответная планка, крест., 3 мм, сталь, на шурупы, Регулировка по высоте: продольное отверстие | F16: 0.02036 | G16: 100
A17: 04417806 | B17: 173L8100 MPL V500 NI | C17: CLIP ответная планка, крест., 0 мм, сталь, с предвар. вмонт. евровинтами, Регулировка по высоте: продольное отверстие | F17: 0.025022 | G17: 150
A18: 01917443 | B18: 173L8130 MPL V500 NI | C18: CLIP ответная планка, крест., 3 мм, сталь, с предвар. вмонт. евровинтами, Регулировка по высоте: продольное отверстие | F18: 0.02752 | G18: 170
... A120: 05766743 | B120: 20L8021 ABD R V20SEIW | C120: Вертикальный подъемник AVENTOS HL, заглушка, основная,, правая | F120: 0.10443333 | G120: 970
B121: 20Q0002A | C121: Авентос HL втулка поперечного стабилизатора | F121: 0.03435 | G121: 650
A122: 04391429 | B122: 20Q0003A | C122: Авентос HL заглушка поперечного стабилизатора | F122: 0.0071 | G122: 150
A123: 04391429 | B123: 20Q0003A01ABDECK 200 TGR | C123: Вертикальный подъемник AVENTOS HL, заглушка для поперечного стабилизатора, овальная, симметричная | F123: 0.01009 | G123: 150
A124: 07243500 | B124: 20Q0003 ABDECK 200 TGR | C124: Откидной подъемник AVENTOS HS, заглушка для соединительного элемента, круглая, симметричная | F124: 0.01012 | G124: 70
B125: 20Q091Z VERBST V1 EV1 | C125: Авентос HS удлинитель трубы | F125: 0.177 | G125: 6280
B126: 20Q091ZA VERBST V1 EV1 | C126: Авентос HL удлинитель трубы | F126: 0.1955 | G126: 7130
A127: 03626183 | B127: 20Q1061UN QUERST V20 EV1 | C127: Откидной подъемник AVENTOS HS, поперечный стабилизатор, круглая | F127: 0.27125 | G127: 3520
A128: 07799390 | B128: 20Q1061UA QUERST V20 EV1 | C128: Вертикальный подъемник AVENTOS HL, поперечный стабилизатор, овальная | F128: 0.55 | G128: 5170
A129: 08987992 | B129: 20S2B01.05KRAFTSP 20 ZN | C129: Авентос HS сил. Мех B | F129: 0.7945 | G129: 10730
A130: 08988362 | B130: 20S2E01 KRAFTSP 20 ZN | C130: Авентос HS сил. Мех E | F130: 0.948 | G130: 11940
A131: 08992152 | B131: 20S2H01.05KRAFTSP 20 ZN | C131: Авентос HS сил. Мех H | F131: 0.938 | G131: 11940
A132: 08992222 | B132: 20S2I01.05KRAFTSP 20 ZN | C132: Авентос HS сил. Мех I | F132: 0.9785 | G132: 20100
A133: 07640954 | B133: 20S3501 HEBEL L 10 NI | C133: Авентос HS рычаг левый 35 | F133: 0.524 | G133: 7440
A134: 05537484 | B134: 20S3501 HEBEL R 10 NI | C134: Авентос HS рычаг правый 35 | F134: 0.574 | G134: 8490
A135: 07486403 | B135: 20S4201A FRO-B V100 NI | C135: Подъемные механизмы AVENTOS HS/ HL/ HK и HK top, крепление фасада для узких алюминиевых рамок, шурупами | F135: 0.2575 | G135: 2940
A136: 07259956 | B136: 20S4201 FRO-B 100 NI | C136: Авентос HS, HK крепление фасада | F136: 0.0388 | G136: 590
A137: 07259508 | B137: 20S8001 ABD L 20 HGR | C137: Авентос HS заглушка большая серая лев. | F137: 0.0955 | G137: 770
A138: 07259448 | B138: 20S8001 ABD R 20 HGR | C138: Авентос HS заглушка большая серая прав. | F138: 0.0955 | G138: 770
... A211: 07868950 | B211: 298.7601 TV-K L 250R737 | C211: Мовенто регулировка по глубине лев. | F211: 0.01068 | G211: 890
B212: 298.7601 TV-K R 250R737 | C212: Мовенто регулировка по глубине прав. | F212: 0.01068 | G212: 890
A213: 03054053 | B213: 320K4000C MX MP R901 | C213: Метабокс направляющие и боковины К (142мм) 400мм крем | F213: 1.6048917 | G213: 4930
A214: 07816063 | B214: 320M4000C | C214: Метабокс направляющие и боковины М (110мм) 400мм крем | F214: 1.2895 | G214: 3830
A215: 07816813 | B215: 320M4500C | C215: Метабокс направляющие и боковины М (110мм) 450мм крем | F215: 1.4334 | G215: 3980
...

Sheet Артикулы
A2: перев/кг Блюм | D2: АДГТ long | E2: 0.00572
A3: перев/кг Siso | F3: Цена | G3: Передано -шт | H3: Сумма
A4: Ид. № | B4: Артикул | C4: Название | E4: Вес | G4: Дата
A7: 02575683 | B7: 171A5010 W-DIST V50 NI | C7: Клинобразная угловая подкладка, крестообразная, +5°, под шурупы, толщина подкладки: 0.8 мм | D7: 83021000 | E7: 0.0248 | F7: 260
A8: 02518453 | B8: 171A5040 W-DIST V50 NI | C8: Клинобразная угловая подкладка, крестообразная, +5°, под шурупы, толщина подкладки: 3 мм | D8: 83021000 | E8: 0.0334 | F8: 320
A9: 02518373 | B9: 171A5070 W-DIST V50 NI | C9: Клинобразная угловая подкладка, крестообразная, +5°, под шурупы, толщина подкладки: 6 мм | D9: 83021000 | E9: 0.0374 | F9: 410
A10: 02518533 | B10: 171A5500 W-DIST V50 NI | C10: Клинобразная угловая подкладка, крестообразная, -5°, под шурупы, толщина подкладки: 6 мм | D10: 83021000 | E10: 0.0222 | F10: 310
A11: 08748653 | B11: 173H7100 MPL V500 NI | C11: CLIP ответная планка, крест., 0 мм, сталь, на шурупы, Регулировка по высоте: эксцентрик | D11: 83021000 | E11: 0.02662 | F11: 260
A12: 02509289 | B12: 173H7100 MPL V500 ONS | C12: CLIP ответная планка, крест., 0 мм, сталь, на шурупы, Регулировка по высоте: эксцентрик | D12: 83021000 | E12: 0.03115 | F12: 310
A13: 02364103 | B13: 173H7130 MPL V50 NI | C13: CLIP ответная планка, крест., 3 мм, сталь, на шурупы, Регулировка по высоте: эксцентрик | D13: 83024200 | E13: 0.03128 | F13: 290
A14: 07480175 | B14: 173L6100 MPL V500 NI | C14: CLIP ответная планка, крест., 0 мм, сталь, на шурупы, Регулировка по высоте: продольное отверстие | D14: 83021000 | E14: 0.01754 | F14: 80
A15: 03647445 | B15: 173L6100 MPL V500 ONS | C15: CLIP ответная планка, крест., 0 мм, сталь, на шурупы, Регулировка по высоте: продольное отверстие | D15: 83021000 | E15: 0.03115 | F15: 150
A16: 01867833 | B16: 173L6130 MPL V500 NI | C16: CLIP ответная планка, крест., 3 мм, сталь, на шурупы, Регулировка по высоте: продольное отверстие | D16: 83021000 | E16: 0.02036 | F16: 100
A17: 04417806 | B17: 173L8100 MPL V500 NI | C17: CLIP ответная планка, крест., 0 мм, сталь, с предвар. вмонт. евровинтами, Регулировка по высоте: продольное отверстие | D17: 83021000 | E17: 0.025022 | F17: 150
A18: 01917443 | B18: 173L8130 MPL V500 NI | C18: CLIP ответная планка, крест., 3 мм, сталь, с предвар. вмонт. евровинтами, Регулировка по высоте: продольное отверстие | D18: 83021000 | E18: 0.02752 | F18: 170
... A35: 06863103 | B35: 193L6100 MPL V500 NI | C35: MODUL ответная планка, крест., 0 мм, сталь, на шурупы, Регулировка по высоте: продольное отверстие | D35: 83021000 | E35: 0.01605 | F35: 80
A36: 08618728 | B36: 194K6100E DUEPL V500 NI | C36: MODUL ответная планка, крест., 0 мм, сталь, EXPANDO (с вмонтированными спецшурупами с распорн. пробками), Регулировка по высоте: продольное отверстие | D36: 83021000 | E36: =13.11/500 -> 0.02622 | F36: 240
A37: 06325543 | B37: 199.8130 MPL V50 NI | C37: MODUL ответная планка, крест. (14/32 мм), 3 мм, цинк, с предвар. вмонт. евровинтами, Регулировка по высоте: продольное отверстие | D37: 83024200 | E37: =9.035/250 -> 0.03614 | F37: 310
A38: 08931762 | B38: 20F2201.05KRAFTSP 20 ZN | C38: Складной подъемник AVENTOS HF, силовой механизм, коефф. мощ.=2600 – 5500 (при использовании 2-х механизмов), для применения с SERVO-DRIVE | D38: 83024200 | E38: 0.81025 | F38: 9740
A39: 08931832 | B39: 20F2501.05KRAFTSP 20 ZN | C39: Складной подъемник AVENTOS HF, силовой механизм, коефф. мощ.=5350 – 10150 (при использовании 2-х механизмов), для применения с SERVO-DRIVE | D39: 83024200 | E39: 0.8664 | F39: 10570
A40: 08931902 | B40: 20F2801.05KRAFTSP 20 ZN | C40: Складной подъемник AVENTOS HF, силовой механизм, коефф. мощ.=9000 – 17250 (при использовании 2-х механизмов), для применения с SERVO-DRIVE | D40: 83024200 | E40: 0.920875 | F40: 11720
A41: 07588308 | B41: 20F3201.01TE-HEB V40 NI | C41: Складной подъемник AVENTOS HF, телескопический рычаг, ВК=480-570 мм, симметрич. | D41: 83024200 | E41: 0.2045 | F41: 4670
A42: 02034079 | B42: 20F3501.01TE-HEB V40 NI | C42: Складной подъемник AVENTOS HF, телескопический рычаг, ВК=560-710 мм, симметрич. | D42: 83024200 | E42: 0.2345 | F42: 5250
A43: 07360602 | B43: 20F3801.01TE-HEB V40 NI | C43: Складной подъемник AVENTOS HF, телескопический рычаг, ВК=700-900 мм, симметрич., применения с SERVO-DRIVE | D43: 83024200 | E43: 0.27745833 | F43: 6390
A44: 09184068 | B44: 20F3901.01TE-HEB V40 NI | C44: Складной подъемник AVENTOS HF, телескопический рычаг, ВК=760-1040 мм, симметрич. | D44: 39269097 | E44: 0.29875 | F44: 7330
A45: 07285440 | B45: 20F7011 BEGR V100R737 | C45: 83° Ограничитель угла открывания для AVENTOS HF | D45: 39269097 | E45: 0.0023 | F45: 630
A46: 07160400 | B46: 20F7051 BEGR V100 TGR | C46: 104° Ограничитель угла открывания для AVENTOS HF | D46: 39263000 | E46: 0.0011 | F46: 630
A47: 06844408 | B47: 20F8001 ABD L V20 HGR | C47: Складной подъемник AVENTOS HF, заглушка, основная, рифленый, левая | D47: 39263000 | E47: 0.093357143 | F47: 770
A48: 06844238 | B48: 20F8001 ABD R V20 HGR | C48: Складной подъемник AVENTOS HF, заглушка, основная, рифленый, правая | D48: 39263000 | E48: 0.093357143 | F48: 770
A49: 06844402 | B49: 20F8001 ABD L V20SEIW | C49: Складной подъемник AVENTOS HF, заглушка, основная, рифленый, левая | D49: 39263000 | E49: 0.103 | F49: 940
... A111: 06489215 | B111: 20L8001.02ABD R V20SEIW | C111: Вертикальный подъемник AVENTOS HL, заглушка, основная, рифленый, правая | D111: 39263000 | E111: 0.1045 | F111: 940
A112: 02376263 | B112: 20L8020 ABD R+L V1HGIG | C112: Вертикальный подъемник AVENTOS HL, заглушка, основная, гладкий, левая/правая | D112: 39263000 | E112: ='[2]BLUM 28 11 2021 Acc'!$B$158 -> 0.2665625 | F112: 3030
A113: 05919923 | B113: 20L8020 ABD R+L V1SWIG | C113: Вертикальный подъемник AVENTOS HL, заглушка, основная, гладкий, левая/правая | D113: 39263000 | E113: ='[2]BLUM 28 11 2021 Acc'!$B$158 -> 0.2665625 | F113: 3330
A114: 06045918 | B114: 20L8020 ABD R+L V1TGIG | C114: Вертикальный подъемник AVENTOS HL, заглушка, основная, гладкий, левая/правая | D114: 39263000 | E114: ='[2]BLUM 28 11 2021 Acc'!$B$158 -> 0.2665625 | F114: 3330
A115: 02123077 | B115: 20L8021 ABD L V20 HGR | C115: Вертикальный подъемник AVENTOS HL, заглушка, основная, гладкий, левая | D115: 39263000 | E115: 0.10458333 | F115: 770
A116: 07545445 | B116: 20L8021 ABD R V20 HGR | C116: Вертикальный подъемник AVENTOS HL, заглушка, основная, гладкий, правая | D116: 39263000 | E116: 0.10443333 | F116: 770
A117: 09317125 | B117: 20L8021 ABD L V20 TGR | C117: Вертикальный подъемник AVENTOS HL, заглушка, основная, гладкий, левая | D117: 39263000 | E117: 0.10458333 | F117: 970
A118: 05000261 | B118: 20L8021 ABD R V20 TGR | C118: Вертикальный подъемник AVENTOS HL, заглушка, основная, гладкий, правая | D118: 39263000 | E118: 0.10443333 | F118: 970
A119: 07782312 | B119: 20L8021 ABD L V20SEIW | C119: Вертикальный подъемник AVENTOS HL, заглушка, основная, гладкий, левая | D119: 39263000 | E119: 0.10458333 | F119: 970
A120: 05766743 | B120: 20L8021 ABD R V20SEIW | C120: Вертикальный подъемник AVENTOS HL, заглушка, основная, гладкий, правая | D120: 39263000 | E120: 0.10443333 | F120: 970
...
