Workbook

Sheet Артикулы 07 2025
E2: код ТНВЭД
F3: кол в упаковке
A4: Ид. № | B4: Артикул | D4: Название | G4: Вес
H5: Цена с 16.07.2025 | I5: Изменение цены
B6: BLUM
A7: 02575683 | B7: 171A5010 W-DIST V50 NI | D7: Клинобразная угловая подкладка, крестообразная, +5°, под шурупы, толщина подкладки: 0.8 мм | E7: 83021000 | F7: 50 | G7: 0.0248 | H7: 290 | I7: =(H7-#REF!)/#REF! -> #REF!
A8: 02518453 | B8: 171A5040 W-DIST V50 NI | D8: Клинобразная угловая подкладка, крестообразная, +5°, под шурупы, толщина подкладки: 3 мм | E8: 83021000 | F8: 50 | G8: 0.0334 | H8: 360 | I8: =(H8-#REF!)/#REF! -> #REF!
A9: 02518373 | B9: 171A5070 W-DIST V50 NI | D9: Клинобразная угловая подкладка, крестообразная, +5°, под шурупы, толщина подкладки: 6 мм | E9: 83021000 | F9: 50 | G9: 0.0374 | H9: 460 | I9: =(H9-#REF!)/#REF! -> #REF!
A10: 02518533 | B10: 171A5500 W-DIST V50 NI | D10: Клинобразная угловая подкладка, крестообразная, -5°, под шурупы, толщина подкладки: 6 мм | E10: 83021000 | F10: 50 | G10: 0.0222 | H10: 340 | I10: =(H10-#REF!)/#REF! -> #REF!
A11: 08748653 | B11: 173H7100 MPL V500 NI | D11: CLIP ответная планка, крест., 0 мм, сталь, на шурупы, Регулировка по высоте: эксцентрик | E11: 83021000 | F11: 500 | G11: 0.02662 | H11: 290 | I11: =(H11-#REF!)/#REF! -> #REF!
A12: 02509289 | B12: 173H7100 MPL V500 ONS | D12: CLIP ответная планка, крест., 0 мм, сталь, на шурупы, Регулировка по высоте: эксцентрик | E12: 83021000 | F12: 500 | G12: 0.03115 | H12: 340 | I12: =(H12-#REF!)/#REF! -> #REF!
A13: 02364103 | B13: 173H7130 MPL V50 NI | D13: CLIP ответная планка, крест., 3 мм, сталь, на шурупы, Регулировка по высоте: эксцентрик | E13: 83024200 | F13: 50 | G13: 0.03128 | H13: 320 | I13: =(H13-#REF!)/#REF! -> #REF!
A14: 07480175 | B14: 173L6100 MPL V500 NI | D14: CLIP ответная планка, крест., 0 мм, сталь, на шурупы, Регулировка по высоте: продольное отверстие | E14: 83021000 | F14: 500 | G14: 0.01754 | H14: 90 | I14: =(H14-#REF!)/#REF! -> #REF!
A15: 03647445 | B15: 173L6100 MPL V500 ONS | D15: CLIP ответная планка, крест., 0 мм, сталь, на шурупы, Регулировка по высоте: продольное отверстие | E15: 83021000 | F15: 500 | G15: 0.03115 | H15: 170 | I15: =(H15-#REF!)/#REF! -> #REF!
A16: 01867833 | B16: 173L6130 MPL V500 NI | D16: CLIP ответная планка, крест., 3 мм, сталь, на шурупы, Регулировка по высоте: продольное отверстие | E16: 83021000 | F16: 500 | G16: 0.02036 | H16: 120 | I16: =(H16-#REF!)/#REF! -> #REF!
A17: 04417806 | B17: 173L8100 MPL V500 NI | D17: CLIP ответная планка, крест., 0 мм, сталь, с предвар. вмонт. евровинтами, Регулировка по высоте: продольное отверстие | E17: 83021000 | F17: 500 | G17: 0.025022 | H17: 170 | I17: =(H17-#REF!)/#REF! -> #REF!
A18: 01370903 | B18: 173L8100.21MPL V500 NI | D18: CLIP ответная планка, крест., 0 мм, сталь, для крепления с помощью предустановленных евровинтов, Регулировка по высоте: продольное отверстие | E18: 83021000 | F18: 500 | G18: 0.024194 | H18: 170 | I18: =(H18-#REF!)/#REF! -> #REF!
... A25: 05891994 | B25: 175H3100 MPL V500 NI | D25: CLIP ответная планка, прям., 0 мм, сталь, на шурупы, Регулировка по высоте: эксцентрик | E25: 83021000 | F25: 500 | G25: 0.01566 | H25: 270 | I25: =(H25-#REF!)/#REF! -> #REF!
B26: 175H3100 MPL V500 ONS | D26: CLIP ответная планка, прям., 0 мм, сталь, на шурупы, Регулировка по высоте: эксцентрик | E26: 83021000 | F26: 500 | G26: 0.01566 | H26: 290 | I26: =(H26-#REF!)/#REF! -> #REF!
A27: 01704442 | B27: 175H3130 MPL V500 NI | D27: CLIP ответная планка, прям., 3 мм, сталь, на шурупы, Регулировка по высоте: эксцентрик | E27: 83021000 | F27: 500 | G27: 0.02 | H27: 300 | I27: =(H27-#REF!)/#REF! -> #REF!
A28: 08540966 | B28: 175H3130 MPL V500 ONS | D28: CLIP ответная планка, прям., 3 мм, сталь, на шурупы, Регулировка по высоте: эксцентрик | E28: 83021000 | F28: 500 | G28: 0.02 | H28: 330 | I28: =(H28-#REF!)/#REF! -> #REF!
A29: 06796303 | B29: 175H5A00 AD-PL V50 NI | D29: CLIP ответная планка, прям., 0 мм, цинк, на шурупы, Регулировка по высоте: эксцентрик, для узких алюминиевых рамок | E29: 83021000 | F29: 50 | G29: 0.074 | H29: 1500 | I29: =(H29-#REF!)/#REF! -> #REF!
A30: 06796593 | B30: 175H5B00 AD-P L V50 NI | D30: CLIP ответная планка, прям., цинк, на шурупы, Регулировка по высоте: эксцентрик, лев., для узких алюминиевых рамок | E30: 83021000 | F30: 50 | G30: 0.0738 | H30: 1500 | I30: =(H30-#REF!)/#REF! -> #REF!
A31: 06796243 | B31: 175H5B00 AD-P R V50 NI | D31: CLIP ответная планка, прям., цинк, на шурупы, Регулировка по высоте: эксцентрик, прав., для узких алюминиевых рамок | E31: 83021000 | F31: 50 | G31: 0.0738 | H31: 1500 | I31: =(H31-#REF!)/#REF! -> #REF!
A32: 07323033 | B32: 175H7190 MPL V50 NI | D32: CLIP ответная планка, крест., 9 мм, цинк, на шурупы, Регулировка по высоте: двухсоставная | E32: 83021000 | F32: 50 | G32: 0.04748 | H32: 600 | I32: =(H32-#REF!)/#REF! -> #REF!
A33: 02260343 | B33: 175H7190.22MPL V250 NI | D33: CLIP ответная планка, крест., 18 мм, цинк, на шурупы, Регулировка по высоте: двухсоставная | E33: 83021000 | F33: 250 | G33: 0.0592 | H33: 870 | I33: =(H33-#REF!)/#REF! -> #REF!
A34: 04974013 | B34: 175H9160 MPL V50 NI | D34: CLIP ответная планка, крест., 6 мм, цинк, евровинты, Регулировка по высоте: двухсоставная | E34: 83021000 | F34: 50 | G34: 0.04216 | H34: 640 | I34: =(H34-#REF!)/#REF! -> #REF!
A35: 04653407 | B35: 175M4C20 MPL SP 250SANI | D35: CLIP CRISTALLO-ответная планка, на клею, прям., 0 мм, цинк, Регулировка по высоте: двухсоставная | E35: 83021000 | F35: 250 | G35: 0.0697 | H35: 6400 | I35: =(H35-#REF!)/#REF! -> #REF!
A36: 04787251 | B36: 177H3100E DUEPL V500 NI | D36: CLIP ответная планка, прям., 0 мм, сталь, EXPANDO (с вмонтированными спецшурупами с распорн. пробками), Регулировка по высоте: эксцентрик | E36: 83021000 | F36: 500 | G36: 0.01793 | H36: 330 | I36: =(H36-#REF!)/#REF! -> #REF!
A37: 04786051 | B37: 177H3100E DUEPL V500 ONS | D37: CLIP ответная планка, прям., 0 мм, сталь, EXPANDO (с вмонтированными спецшурупами с распорн. пробками), Регулировка по высоте: эксцентрик | E37: 83021000 | F37: 500 | G37: 0.01793 | H37: 330 | I37: =(H37-#REF!)/#REF! -> #REF!
A38: 06863103 | B38: 193L6100 MPL V500 NI | D38: MODUL ответная планка, крест., 0 мм, сталь, на шурупы, Регулировка по высоте: продольное отверстие | E38: 83021000 | F38: 500 | G38: 0.01605 | H38: 90 | I38: =(H38-#REF!)/#REF! -> #REF!
... A65: 07486403 | B65: 20S4201A FRO-B V100 NI | D65: Подъемные механизмы AVENTOS HS/ HL/ HK и HK top, крепление фасада для узких алюминиевых рамок, шурупами | E65: 83024200 | F65: 100 | G65: 0.2575 | H65: 3150 | I65: =(H65-#REF!)/#REF! -> #REF!
A66: 07259956 | B66: 20S4201 FRO-B V100 NI | D66: Подъемные механизмы AVENTOS HS/ HL/ HK и HK top, крепление фасада для деревянных фасадов, шурупами | E66: 83024200 | F66: 100 | G66: 0.0388 | H66: 630 | I66: =(H66-#REF!)/#REF! -> #REF!
A67: 05936371 | B67: 21L3501.01HEBEL L V5 NI | D67: Вертикальный подъемник AVENTOS HL, рычаг, ВК=350-399 мм, левый, для SERVO-DRIVE | E67: 83024200 | F67: 5 | G67: 0.607 | H67: 14050 | I67: =(H67-#REF!)/#REF! -> #REF!
A68: 01783069 | B68: 22.8000 ABD R+L V1HGIG | D68: Комплект заглушек AVENTOS HF/HS/HL top, прав.+лев., с надписью | E68: 39263000 | G68: 0.18 | H68: 4750 | I68: =(H68-#REF!)/#REF! -> #REF!
A69: 01783069 | B69: 22.8000 ABD R+L V1HGIG | D69: Комплект заглушек AVENTOS HF/HS/HL top, прав.+лев., с надписью | E69: 39263000 | G69: 0.18 | H69: 5200 | I69: =(H69-#REF!)/#REF! -> #REF!
A70: 02060947 | B70: 22.8001 ABD L V20 HGR | D70: Заглушка для силового механизма AVENTOS HF/HS/HL top, гладкий, лев. | E70: 3926 30 00 | F70: 20 | G70: 0.0808875 | H70: 1110 | I70: =(H70-#REF!)/#REF! -> #REF!
A71: 08843517 | B71: 22.8001 ABD R V20 HGR | D71: Заглушка для силового механизма AVENTOS HF/HS/HL top, гладкий, прав. | E71: 3926 30 00 | F71: 20 | G71: 0.0808875 | H71: 1110 | I71: =(H71-#REF!)/#REF! -> #REF!
A72: 03797606 | B72: 22.8001 ABD L V20SEIW | D72: Заглушка для силового механизма AVENTOS HF/HS/HL top, гладкий, лев. | E72: 3926 30 00 | F72: 20 | G72: 0.0808875 | H72: 1330 | I72: =(H72-#REF!)/#REF! -> #REF!
A73: 08269038 | B73: 22.8001 ABD R V20SEIW | D73: Заглушка для силового механизма AVENTOS HF/HS/HL top, гладкий, прав. | E73: 3926 30 00 | F73: 20 | G73: 0.0808875 | H73: 1330 | I73: =(H73-#REF!)/#REF! -> #REF!
A74: 03807831 | B74: 22.8001 ABD L V20 TGR | D74: Заглушка для силового механизма AVENTOS HF/HS/HL top, гладкий, лев. | E74: 3926 30 00 | F74: 20 | G74: 0.0808875 | H74: 1330 | I74: =(H74-#REF!)/#REF! -> #REF!
A75: 05863796 | B75: 22.8001 ABD R V20 TGR | D75: Заглушка для силового механизма AVENTOS HF/HS/HL top, гладкий, прав. | E75: 3926 30 00 | F75: 20 | G75: 0.0808875 | H75: 1330 | I75: =(H75-#REF!)/#REF! -> #REF!
A76: 06115096 | B76: 22F2500 KRAFTSP S2 ZN | D76: AVENTOS HF top – складной подъемник, силовой механизм (комплект), коефф. мощ.=2700-13500 (2 шт.), на саморезы, для применения с SERVO-DRIVE | E76: 83024200 | F76: 4 | G76: 2.16 | H76: 28900 | I76: =(H76-#REF!)/#REF! -> #REF!
A77: 02608127 | B77: 22F2501 KRAFTSP 16 ZN | D77: AVENTOS HF top – складной подъемник, силовой механизм, коефф. мощ.=2700-13500 (2 шт.), на саморезы, для применения с SERVO-DRIVE | E77: 83024200 | F77: 16 | G77: 1.0763625 | H77: 13340 | I77: =(H77-#REF!)/#REF! -> #REF!
A78: 02299866 | B78: 22F2801 KRAFTSP 16 ZN | D78: AVENTOS HF top – складной подъемник, силовой механизм, коефф. мощ.=10000-19300 (2 шт.), на саморезы, для применения с SERVO-DRIVE | E78: 83024200 | F78: 16 | G78: 1.1374948 | H78: 14670 | I78: =(H78-#REF!)/#REF! -> #REF!
A79: 09260101 | B79: 22F3201 TE-HEB V42 NI | D79: AVENTOS HF top – складной подъемник, рычаг, ВК=480-610 мм, симметрич. | E79: 83024200 | F79: 42 | G79: 0.22878571 | H79: 5780 | I79: =(H79-#REF!)/#REF! -> #REF!
A80: 07893366 | B80: 22F3500 TE-HEB S2 NI | D80: AVENTOS HF top – складной подъемник, рычаг (комплект), ВК=600-910 мм, симметрич. | E80: 83024200 | F80: 4 | G80: 0.57 | H80: 16780 | I80: =(H80-#REF!)/#REF! -> #REF!
A81: 03048304 | B81: 22F3501 TE-HEB V42 NI | D81: AVENTOS HF top – складной подъемник, рычаг, ВК=600-910 мм, симметрич. | E81: 83024200 | F81: 42 | G81: 0.27357143 | H81: 7340 | I81: =(H81-#REF!)/#REF! -> #REF!
... A118: 08732964 | B118: 23K8000 ABD+ZUT V1TGIG | D118: Подъемный механизм AVENTOS HK top, комплект заглушек (вкл. кнопка включения для установки в высверленное отверстие, в комплекте), гладкий, левый/правый, для SERVO-DRIVE | E118: 85362010 | F118: 1 | G118: 0.2365 | H118: 40330 | I118: =(H118-#REF!)/#REF! -> #REF!
A119: 08204090 | B119: 23K8001 ABD L V5SEIW | D119: Подъемный механизм AVENTOS HK top, заглушка для силового механизма, лев., для SERVO-DRIVE | E119: 85365011 | G119: 0.15 | H119: 4890 | I119: =(H119-#REF!)/#REF! -> #REF!
A120: 08457250 | B120: 23P5020 SCHALT V20 HGR | D120: Радиокнопка SERVO-DRIVE для AVENTOS, симметричная | E120: 85365011 | G120: 0.01725 | H120: 17570 | I120: =(H120-#REF!)/#REF! -> #REF!
A121: 06550469 | B121: 23P5020 SCHALT V20SEIW | D121: Радиокнопка SERVO-DRIVE для AVENTOS, симметричная | E121: 85365011 | G121: 0.144 | H121: 17570 | I121: =(H121-#REF!)/#REF! -> #REF!
A122: 02471776 | B122: 23P5020 SCHALT V20 TGR | D122: Радиокнопка SERVO-DRIVE для AVENTOS, симметричная | E122: 85365011 | G122: 0.01725 | H122: 17570 | I122: =(H122-#REF!)/#REF! -> #REF!
A123: 08401546 | B123: 23P5216 AUFN 100 HGR | D123: Держатель кнопки SERVO-DRIVE для AVENTOS | E123: 39263000 | G123: 0.00501 | H123: 2030 | I123: =(H123-#REF!)/#REF! -> #REF!
A124: 09961208 | B124: 23KA000 ANT+ZUT V1 TGR | D124: Привод SERVO-DRIVE для AVENTOS, подъемный механизм AVENTOS HK top | E124: 83024200 | G124: 0.8689 | H124: 129880 | I124: =(H124-#REF!)/#REF! -> #REF!
A125: 09375108 | B125: 24K2300 KRAFTSP S2 ONS | D125: AVENTOS HK – интегрированный, силовой механизм (комплект), коефф. мощ.=420-1610 (при 2 шт.) | E125: 8302 42 00 | F125: 1 | G125: 1.558 | H125: 134490 | I125: =(H125-#REF!)/#REF! -> #REF!
A126: 09348915 | B126: 24K2300T KRAFTSP S2 ONS | D126: AVENTOS HK – интегрированный, силовой механизм (комплект), коефф. мощ.=420-1610 (при 2 шт.), для TIP-ON | E126: 8302 42 00 | F126: 1 | G126: 1.5295 | H126: 134490 | I126: =(H126-#REF!)/#REF! -> #REF!
A127: 04333468 | B127: 24K2500 KRAFTSP S2 ONS | D127: AVENTOS HK – интегрированный, силовой механизм (комплект), коефф. мощ.=930-2800 (2 шт.) | E127: 8302 42 00 | F127: 1 | G127: 1.553 | H127: 134490 | I127: =(H127-#REF!)/#REF! -> #REF!
A128: 03988041 | B128: 24K2500T KRAFTSP S2 ONS | D128: AVENTOS HK – интегрированный, силовой механизм (комплект), коефф. мощ.=930-2800 (2 шт.), для TIP-ON | E128: 8302 42 00 | F128: 1 | G128: 1.6256667 | H128: 134490 | I128: =(H128-#REF!)/#REF! -> #REF!
A129: 03327428 | B129: 24K2700 KRAFTSP S2 ONS | D129: AVENTOS HK – интегрированный, силовой механизм (комплект), коефф. мощ.=1730-5200 (2 шт.) | E129: 8302 42 00 | F129: 1 | G129: 1.664 | H129: 135050 | I129: =(H129-#REF!)/#REF! -> #REF!
A130: 03401692 | B130: 24K2700T KRAFTSP S2 ONS | D130: AVENTOS HK – интегрированный, силовой механизм (комплект), коефф. мощ.=1730-5200 (2 шт.), для TIP-ON | E130: 8302 42 00 | F130: 1 | G130: 1.626 | H130: 138380 | I130: =(H130-#REF!)/#REF! -> #REF!
A131: 09445829 | B131: 24K2800 KRAFTSP S2 ONS | D131: AVENTOS HK – интегрированный, силовой механизм (комплект), коефф. мощ.=2600-7800 (2 шт.) | E131: 8302 42 00 | F131: 1 | G131: 1.761 | H131: 140830 | I131: =(H131-#REF!)/#REF! -> #REF!
A132: 03061597 | B132: 24K2800T KRAFTSP S2 ONS | D132: AVENTOS HK – интегрированный, силовой механизм (комплект), коефф. мощ.=2600-7800 (2 шт.), для TIP-ON | E132: 8302 42 00 | F132: 1 | G132: 1.7224 | H132: 144160 | I132: =(H132-#REF!)/#REF! -> #REF!
A133: 02551910 | B133: 24K4201A FRO-B V20 ONS | D133: AVENTOS HKi, крепление фасада для узких алюминиевых рамок, на саморезы | E133: 8302 42 00 | F133: 20 | G133: 0.0121 | H133: 3780 | I133: =(H133-#REF!)/#REF! -> #REF!
A134: 04845277 | B134: 24K42E1 FRO-B V20 ONS | D134: AVENTOS HKi, крепление фасада для деревянных фасадов, EXPANDO | E134: 8302 42 00 | F134: 20 | G134: 0.0142 | H134: 3450 | I134: =(H134-#REF!)/#REF! -> #REF!
A135: 02627505 | B135: 24K8000 ABD R+L V1HGIG | D135: AVENTOS HKi, , гладкий, прав.+лев. | E135: 8302 42 00 | F135: 1 | G135: 0.3432 | H135: 11120 | I135: =(H135-#REF!)/#REF! -> #REF!
A136: 06690522 | B136: 24K8000 ABD R+L V1SWIG | D136: AVENTOS HKi, , гладкий, прав.+лев. | E136: 8302 42 00 | F136: 1 | G136: 0.3598 | H136: 11450 | I136: =(H136-#REF!)/#REF! -> #REF!
A137: 04948789 | B137: 24K8000 ABD R+L V1TGIG | D137: AVENTOS HKi, , гладкий, прав.+лев. | E137: 8302 42 00 | F137: 1 | G137: 0.3441 | H137: 11450 | I137: =(H137-#REF!)/#REF! -> #REF!
A138: 07941047 | B138: 230M4500 RS MP B | D138: Роликовые направляющие стандарт 450мм корич | E138: 83024200 | G138: 0.7178 | H138: 1780 | I138: =(H138-#REF!)/#REF! -> #REF!
A139: 07941043 | B139: 230M4500 RS MP R901 | D139: Роликовые направляющие стандарт 450мм крем | E139: 83024200 | G139: 0.7178 | H139: 1780 | I139: =(H139-#REF!)/#REF! -> #REF!
A140: 07940663 | B140: 230M5000 RS MP R901 | D140: Роликовые направляющие стандарт 500мм крем | E140: 83024200 | G140: 0.7941 | H140: 1840 | I140: =(H140-#REF!)/#REF! -> #REF!
A141: 07939147 | B141: 230M5500 RS MP B | D141: Роликовые направляющие стандарт 550мм корич | E141: 83024200 | G141: 0.8813 | H141: 2150 | I141: =(H141-#REF!)/#REF! -> #REF!
A142: 07939143 | B142: 230M5500 RS MP R901 | D142: Роликовые направляющие стандарт 550мм крем | E142: 83024200 | G142: 0.8813 | H142: 2150 | I142: =(H142-#REF!)/#REF! -> #REF!
A143: 01829151 | B143: 295.1000 FRONTV 250 NA | D143: фасадный эксцентрик, под пресс | E143: 39263000 | G143: 0.00355 | H143: 140 | I143: =(H143-#REF!)/#REF! -> #REF!
A144: 05459007 | B144: 295F5700 TAB-AR V1 OG-M | D144: Выдвижная полка с фиксатором для царги F толщиной 19 мм | E144: 83024200 | G144: 0.14055 | H144: 6660 | I144: =(H144-#REF!)/#REF! -> #REF!
A145: 09739914 | B145: 295H5700 TAB-AR V1 OG-M | D145: Выдвижная полка с фиксатором для царги H толщиной 16 мм | E145: 83024200 | G145: 0.14055 | H145: 6660 | I145: =(H145-#REF!)/#REF! -> #REF!
A146: 04161861 | B146: 298.5500 POSIST 250R737 | D146: POSISTOP | E146: 39263000 | G146: 0.00108 | H146: 140 | I146: =(H146-#REF!)/#REF! -> #REF!
A147: 07646995 | B147: 298.7600 TV-KU V1 R737 | D147: Регулировка по глубине для замка MOVENTO, прав.+лев. | E147: 39263000 | G147: 0.02 | H147: 2170 | I147: =(H147-#REF!)/#REF! -> #REF!
A148: 03054053 | B148: 320K4000C MX MP R901 | D148: METABOX боковина из стали, K (118 мм), частичное выдвижение, 25 кг, НД=400 мм, под шурупы, левая/правая | E148: 94039010 | G148: 1.6048917 | H148: 5310 | I148: =(H148-#REF!)/#REF! -> #REF!
A149: 03054643 | B149: 320K4500C MX MP R901 | D149: METABOX боковина из стали, K (118 мм), частичное выдвижение, 25 кг, НД=450 мм, под шурупы, левая/правая | E149: 94039010 | G149: 1.8028 | H149: 5600 | I149: =(H149-#REF!)/#REF! -> #REF!
... A164: 08254975 | B164: 378M4504SG Z R+L V1 WA/G | D164: Антаро царга под мойку серая 450мм L+R | E164: 94039010 | G164: 1.16175 | H164: 11370 | I164: =(H164-#REF!)/#REF! -> #REF!
A165: 03785763 | B165: 378M5002SA Z LI V20OG-M | D165: TANDEMBOX царга, высота M (83 mm), НД=500 мм, левая, TANDEMBOX intivo/antaro | E165: 94039010 | F165: 20 | G165: 0.79347083 | H165: 4270 | I165: =(H165-#REF!)/#REF! -> #REF!
A166: 03751904 | B166: 378M5002SA Z RE V20OG-M | D166: TANDEMBOX царга, высота M (83 mm), НД=500 мм, правая, TANDEMBOX intivo/antaro | E166: 94039010 | F166: 20 | G166: 0.79347083 | H166: 4270 | I166: =(H166-#REF!)/#REF! -> #REF!
A167: 01847502 | B167: 378M5002SA Z LI V20SEIW | D167: TANDEMBOX царга, высота M (83 мм), НД=500 мм, левая, TANDEMBOX intivo/antaro, | E167: 94039010 | F167: 20 | G167: 0.77695833 | H167: 4170 | I167: =(H167-#REF!)/#REF! -> #REF!
A168: 01838267 | B168: 378M5002SA Z RE V20SEIW | D168: TANDEMBOX царга, высота M (83 мм), НД=500 мм, правая, TANDEMBOX intivo/antaro, | E168: 94039010 | F168: 20 | G168: 0.77695833 | H168: 4170 | I168: =(H168-#REF!)/#REF! -> #REF!
A169: 06754103 | B169: 378M5002SA Z LI V20R906 | D169: TANDEMBOX царга, высота M (83 мм), НД=500 мм, левая, TANDEMBOX intivo/antaro, | E169: 94039010 | F169: 20 | G169: 0.77695833 | H169: 4170 | I169: =(H169-#REF!)/#REF! -> #REF!
A170: 06723863 | B170: 378M5002SA Z RE V20R906 | D170: TANDEMBOX царга, высота M (83 мм), НД=500 мм, правая, TANDEMBOX intivo/antaro, | E170: 94039010 | F170: 20 | G170: 0.77695833 | H170: 4170 | I170: =(H170-#REF!)/#REF! -> #REF!
A171: 08734707 | B171: 378M5004SG Z R+L | D171: Тандембокс+ царга под мойку R+L 500мм серая | E171: 94039010 | G171: 1.305 | H171: 11070 | I171: =(H171-#REF!)/#REF! -> #REF!
A172: 08801547 | B172: 378M5004SG Z R+L V1 SEIW | D172: Антаро царга под мойку L+R 500 Белая | E172: 94039010 | G172: 1.33 | H172: 11070 | I172: =(H172-#REF!)/#REF! -> #REF!
A173: 07478517 | B173: 378M5502SA Z R+L V1 SEIW | D173: TANDEMBOX царга, высота M (83 мм), НД=550 мм, левая/правая, TANDEMBOX intivo/antaro, | E173: 94039010 | G173: 1.8548333 | H173: 10330 | I173: =(H173-#REF!)/#REF! -> #REF!
A174: 07921510 | B174: 378M6002SA Z R+L V1 R906 | D174: TANDEMBOX царга, высота M (83 мм), НД=600 мм, левая/правая, TANDEMBOX intivo/antaro, | E174: 94039010 | G174: 0.944875 | H174: 12980 | I174: =(H174-#REF!)/#REF! -> #REF!
A175: 06859321 | B175: 378M6002ST Z LI V20OG-M | D175: TANDEMBOX царга, высота M (83 мм), НД=600 мм, левая, TANDEMBOX intivo/antaro, | E175: 94039010 | G175: 0.944875 | H175: 6060 | I175: =(H175-#REF!)/#REF! -> #REF!
A176: 06844779 | B176: 378M6002ST Z RE V20OG-M | D176: TANDEMBOX царга, высота M (83 мм), НД=600 мм, правая, TANDEMBOX intivo/antaro | E176: 94039010 | G176: 1.9491667 | H176: 6060 | I176: =(H176-#REF!)/#REF! -> #REF!
A177: 07639774 | B177: 378N4502SA Z R+L V1 SEIW | D177: TANDEMBOX царга, высота N (68 мм), НД=450 мм, левая/правая, TANDEMBOX intivo/antaro, | E177: 39263000 | G177: 1.4021667 | H177: 9820 | I177: =(H177-#REF!)/#REF! -> #REF!
A178: 01669290 | B178: 38B355AF22MB+138F01B NI | D178: Compact петля | E178: 94039010 | F178: 20 | G178: 0.033708 | H178: 1890 | I178: =(H178-#REF!)/#REF! -> #REF!
A179: 04025166 | B179: 40.0110N GEH V2500 W | D179: Корпус стяжки, пластмасса, под пресс | E179: 39263000 | G179: 0.00607 | H179: 110 | I179: =(H179-#REF!)/#REF! -> #REF!
A180: 03079126 | B180: 40.0520 VERB V2500 W | D180: соединитель, пластмасса, под пресс | E180: 39263000 | G180: 0.00378 | H180: 110 | I180: =(H180-#REF!)/#REF! -> #REF!
A181: 04025167 | B181: 40.0110N GEH V2500 B | D181: Корпус стяжки, пластмасса, под пресс | E181: 39263000 | G181: 0.00607 | H181: 110 | I181: =(H181-#REF!)/#REF! -> #REF!
A182: 03079127 | B182: 40.0520 VERB V2500 B | D182: соединитель, пластмасса, под пресс | E182: 39263000 | G182: 0.00378 | H182: 110 | I182: =(H182-#REF!)/#REF! -> #REF!
A183: 03079217 | B183: 40.0620 VERB V2500 B | D183: соединитель, пластмасса, под пресс | E183: 39263000 | G183: 0.0049272 | H183: 130 | I183: =(H183-#REF!)/#REF! -> #REF!
...

Sheet Комплекты
D7: 055 206 306/095 206 306/093 907 865 | E7: Цена 07.2025
A8: Клв. | C8: Артикул | D8: Наименование
D10: Петли Модуль
D12: MODUL - Петли для накладных дверей 100 | E12: =SUMPRODUCT($A13:$A14,E13:E14) -> 400
A13: 1 | C13: 91M2550 MB V250 NI | D13: "Модуль" Петли для накладных дверей 100 | E13: ='Артикулы 3'!F834 -> 310 | H13: =E13*(1 -#REF!) -> #REF! | I13: =H13-#REF! -> #REF! | J13: =I13/H13 -> #REF! | K13: =I13/E13 -> #REF!
A14: 1 | C14: 193L6100 MPL V500 NI | D14: "Модуль" Ответная планка под саморез | E14: ='Артикулы 3'!F38 -> 90
D16: MODUL - Петли для полунакладных дверей 100 | E16: =SUMPRODUCT($A17:$A18,E17:E18) -> 510
A17: 1 | C17: 91M2650 MB V250 NI | D17: "Модуль" Петли для полунакладных дверей 100 | E17: ='Артикулы 3'!F835 -> 420
A18: 1 | C18: 193L6100 MPL V500 NI | D18: "Модуль" Ответная планка под саморез | E18: ='Артикулы 3'!F38 -> 90
D20: MODUL - Петли для вкладных дверей 100 | E20: =SUMPRODUCT($A21:$A22,E21:E22) -> 510
A21: 1 | C21: 91M2750 MB V250 NI | D21: "Модуль" Петли для вкладных дверей 100 | E21: ='Артикулы 3'!F836 -> 420
A22: 1 | C22: 193L6100 MPL V500 NI | D22: "Модуль" Ответная планка под саморез | E22: ='Артикулы 3'!F38 -> 90
D24: Заглушка L для петель MODUL полунакл,вклад | E24: =E25 -> 60
C25: 90M2603.BLABDECKK LI NI | D25: Заглушка L для петель "Модуль" полунакл,вклад | E25: ='Артикулы 3'!F831 -> 60
C26: 90M2603.BLABDECKK RE NI | D26: Заглушка R для петель "Модуль" полунакл,вклад | E26: ='Артикулы 3'!F832 -> 70
D28: Петли CLIP 100
D30: CLIP- Петли для накладных дверей 100 | E30: =SUMPRODUCT($A31:$A32,E31:E32) -> 530
A31: 1 | C31: 71M2550 MB V250 NI | D31: "Клип " Петли для накладных дверей 100 | E31: ='Артикулы 3'!F575 -> 440
A32: 1 | C32: 173L6100 MPL V500 NI | D32: "Клип топ" Ответная планка под саморез | E32: ='Артикулы 3'!F14 -> 90
D34: CLIP- Петли для полунакладных дверей 100 | E34: =SUMPRODUCT($A35:$A36,E35:E36) -> 640
A35: 1 | C35: 71M2650 MB V250 NI | D35: "Клип " Петли для полунакладных дверей 100 | E35: ='Артикулы 3'!F576 -> 550
A36: 1 | C36: 173L6100 MPL V500 NI | D36: "Клип топ" Ответная планка под саморез | E36: ='Артикулы 3'!F14 -> 90
D38: CLIP- Петли для вкладных дверей 100 | E38: =SUMPRODUCT($A39:$A40,E39:E40) -> 650
A39: 1 | C39: 71M2750 MB V250 NI | D39: "Клип " Петли для вкладных дверей 100 | E39: ='Артикулы 3'!F577 -> 560
A40: 1 | C40: 173L6100 MPL V500 NI | D40: "Клип топ" Ответная планка под саморез | E40: ='Артикулы 3'!F14 -> 90
D42: Петли CLIP top 107
D44: CLIP top - Петли для накладных дверей 107 | E44: =SUMPRODUCT($A45:$A46,E45:E46) -> 710
A45: 1 | C45: 75T1550 MB V250 NI | D45: "Клип топ" Петли для накладных дверей 100 | E45: ='Артикулы 3'!F622 -> 620
A46: 1 | C46: 173L6100 MPL V500 NI | D46: "Клип топ" Ответная планка под саморез | E46: ='Артикулы 3'!F14 -> 90
D48: Заглушка для петель CLIP top накладной | E48: =E49 -> 80
C49: 70.1503.BPABDEC PRAE NI | D49: Заглушка для петель "Клип топ" накладой | E49: ='Артикулы 3'!F512 -> 80
D51: CLIP top- Петли для полунакладных дверей 107 | E51: =SUMPRODUCT($A52:$A53,E52:E53) -> 830
A52: 1 | C52: 75T1650 MB V250 NI | D52: "Клип топ" Петли для полунакладных дверей 101 | E52: ='Артикулы 3'!F623 -> 740
A53: 1 | C53: 173L6100 MPL V500 NI | D53: "Клип топ" Ответная планка под саморез | E53: ='Артикулы 3'!F14 -> 90
D55: CLIP top - Петли для вкладных дверей 107 | E55: =SUMPRODUCT($A56:$A57,E56:E57) -> 820
A56: 1 | C56: 75T1750 MB V250 NI | D56: "Клип топ" Петли для вкладных дверей 100 | E56: ='Артикулы 3'!F624 -> 730
A57: 1 | C57: 173L6100 MPL V500 NI | D57: "Клип топ" Ответная планка под саморез | E57: ='Артикулы 3'!F14 -> 90
D59: Заглушка для петель CLIP top полунакл,вклад | E59: =E60 -> 80
C60: 70.1663.BLABDECKK LI NI | D60: Заглушка L для петель "Клип топ" полунакл,вклад | E60: ='Артикулы 3'!F515 -> 80
C61: 70.1663.BLABDECKK RE NI | D61: Заглушка R для петель "Клип топ" полунакл,вклад | E61: ='Артикулы 3'!F516 -> 80
D63: Петли CLIP top 110
D65: CLIP top - Петли для накладных дверей 110 | E65: =SUMPRODUCT($A66:$A67,E66:E67) -> 800
A66: 1 | C66: 71Т3550 | D66: "Клип топ" Петли для накладных дверей 110 | E66: ='Артикулы 3'!F592 -> 710
A67: 1 | C67: 173L6100 MPL V500 NI | D67: "Клип топ" Ответная планка под саморез | E67: ='Артикулы 3'!F14 -> 90
D69: CLIP top - Петли для полунакладных дверей 110 | E69: =SUMPRODUCT($A70:$A71,E70:E71) -> 930
A70: 1 | C70: 71Т3650 | D70: "Клип топ" Петли для накладных дверей 110 | E70: ='Артикулы 3'!F594 -> 840
A71: 1 | C71: 173L6100 MPL V500 NI | D71: "Клип топ" Ответная планка под саморез | E71: ='Артикулы 3'!F14 -> 90
D73: CLIP top - Петли для вкладных дверей 110 | E73: =SUMPRODUCT($A74:$A75,E74:E75) -> 960
A74: 1 | C74: 71Т3750 | D74: "Клип топ" Петли для накладных дверей 110 | E74: ='Артикулы 3'!F595 -> 870
A75: 1 | C75: 173L6100 MPL V500 NI | D75: "Клип топ" Ответная планка под саморез | E75: ='Артикулы 3'!F14 -> 90
D77: Петли CLIP top BLUMOTION 110
D79: CLIP top BLUMOTION- Петли для накладных дверей 110 | E79: =SUMPRODUCT($A80:$A81,E80:E81) -> 1410
A80: 1 | C80: 71b3550 MB V250 NI | D80: "Клип топ"+БЛ Петли для накладных дверей 110 | E80: ='Артикулы 3'!F554 -> 1320
A81: 1 | C81: 173L6100 MPL V500 NI | D81: "Клип топ" Ответная планка под саморез | E81: ='Артикулы 3'!F14 -> 90
D83: CLIP top BLUMOTION - Петли для полунакладных дверей 110 | E83: =SUMPRODUCT($A84:$A85,E84:E85) -> 1590
A84: 1 | C84: 71b3650 MB V250 NI | D84: "Клип топ"+БЛ Петли для накладных дверей 110 | E84: ='Артикулы 3'!F556 -> 1500
A85: 1 | C85: 173L6100 MPL V500 NI | D85: "Клип топ" Ответная планка под саморез | E85: ='Артикулы 3'!F14 -> 90
D87: CLIP top BLUMOTION - Петли для вкладных дверей 110 | E87: =SUMPRODUCT($A88:$A89,E88:E89) -> 1620
A88: 1 | C88: 71b3750 MB V250 NI | D88: "Клип топ"+БЛ Петли для накладных дверей 110 | E88: ='Артикулы 3'!F558 -> 1530
A89: 1 | C89: 173L6100 MPL V500 NI | D89: "Клип топ" Ответная планка под саморез | E89: ='Артикулы 3'!F14 -> 90
D91: Петли CLIP top специальные
D93: CLIP top Мини накладная | E93: =SUMPRODUCT($A94:$A95,E94:E95) -> 1430
A94: 1 | C94: 71T0550 MB V50 NI | D94: "Клип топ" Мини накладная | E94: ='Артикулы 3'!F578 -> 1340
A95: 1 | C95: 173L6100 MPL V500 NI | D95: "Клип топ" Ответная планка под саморез | E95: ='Артикулы 3'!F14 -> 90
D97: CLIP top Мини полунакладная | E97: =SUMPRODUCT($A98:$A99,E98:E99) -> 1690
A98: 1 | C98: 71T0650 MB V50 NI | D98: "Клип топ" Мини полунакладная | E98: ='Артикулы 3'!F579 -> 1600
A99: 1 | C99: 173L6100 MPL V500 NI | D99: "Клип топ" Ответная планка под саморез | E99: ='Артикулы 3'!F14 -> 90
D101: CLIP top Мини вкладная | E101: =SUMPRODUCT($A102:$A103,E102:E103) -> 1550
A102: 1 | C102: 71T0750 MB V50 NI | D102: "Клип топ" Мини вкладная | E102: ='Артикулы 3'!F580 -> 1460
A103: 1 | C103: 173L6100 MPL V500 NI | D103: "Клип топ" Ответная планка под саморез | E103: ='Артикулы 3'!F14 -> 90
D105: CLIP top для профильных дверей накладная | E105: =SUMPRODUCT($A106:$A107,E106:E107) -> 1060
A106: 1 | C106: 71T9550 MB V250 NI | D106: CLIP-TOP для профильных дверей накладная | E106: ='Артикулы 3'!F585 -> 970
A107: 1 | C107: 173L6100 MPL V500 NI | D107: "Клип топ" Ответная планка под саморез | E107: ='Артикулы 3'!F14 -> 90
D109: CLIP top для профильных дверей полунакладная | E109: =SUMPRODUCT($A110:$A111,E110:E111) -> 1200
A110: 1 | C110: 71T9650 MB V50 NI | D110: CLIP-TOP для профильных дверей полунакладная | E110: ='Артикулы 3'!F586 -> 1110
A111: 1 | C111: 173L6100 MPL V500 NI | D111: "Клип топ" Ответная планка под саморез | E111: ='Артикулы 3'!F14 -> 90
D113: CLIP top для профильных дверей вкладная | E113: =SUMPRODUCT($A114:$A115,E114:E115) -> 1250
A114: 1 | C114: 71T9750 MB V50 NI | D114: CLIP-TOP для профильных дверей вкладная | E114: ='Артикулы 3'!F587 -> 1160
A115: 1 | C115: 173L6100 MPL V500 NI | D115: "Клип топ" Ответная планка под саморез | E115: ='Артикулы 3'!F14 -> 90
D117: Петли CLIP top для алюминиевых рамок
D118: CLIP top для узких алюминиевых рамок накладные NI | E118: =SUMPRODUCT($A119:$A120,E119:E120) -> 1550
A119: 1 | C119: 71T950A MB V50 NI | D119: CLIP-TOP для профильных дверей вкладная | E119: ='Артикулы 3'!F588 -> 1460
A120: 1 | C120: 173L6100 MPL V500 NI | D120: "Клип топ" Ответная планка под саморез | E120: ='Артикулы 3'!F14 -> 90
D122: CLIP top для узких алюминиевых рамок накладные ONS | E122: =SUMPRODUCT($A123:$A124,E123:E124) -> 1840
A123: 1 | C123: 71T950A MB V50 ONS | D123: CLIP-TOP для профильных дверей вкладная | E123: ='Артикулы 3'!F589 -> 1550
A124: 1 | C124: 175H3100 MPL V500 ONS | D124: CLIP ответная планка, прям. (20/32 мм), 0 мм, сталь, на шурупы, Регулировка по высоте: эксцентрик | E124: ='Артикулы 3'!F26 -> 290
D126: CLIP top для узких алюминиевых рамок полунакладные NI | E126: =SUMPRODUCT($A127:$A128,E127:E128) -> 1640
A127: 1 | C127: 71T960A MB V50 NI | D127: CLIP top петля для алюминиевых рамок 95°, полунакладная, чашка петли: на шурупы, (Петля в закрытом состоянии) | E127: ='Артикулы 3'!F590 -> 1550
A128: 1 | C128: 173L6100 MPL V500 NI | D128: "Клип топ" Ответная планка под саморез | E128: ='Артикулы 3'!F14 -> 90
D130: CLIP top для узких алюминиевых рамок вкладные NI | E130: =SUMPRODUCT($A131:$A132,E131:E132) -> 1690
A131: 1 | C131: 71T970A MB V50 NI | D131: CLIP top петля для алюминиевых рамок 95°, вкладная, чашка петли: на шурупы, (Петля в закрытом состоянии) | E131: ='Артикулы 3'!F591 -> 1600
A132: 1 | C132: 173L6100 MPL V500 NI | D132: "Клип топ" Ответная планка под саморез | E132: ='Артикулы 3'!F14 -> 90
D136: CLIP top - 95 | E136: =SUMPRODUCT($A137:$A138,E137:E138) -> 1610
A137: 1 | C137: 79T9550 MB V50 NI | D137: "Клип топ" Петли прямая под фальшпанель 95 | E137: ='Артикулы 3'!F782 -> 1490
A138: 1 | C138: 173L6130 MPL V500 NI | D138: "Клип топ" Ответная планка под саморез | E138: ='Артикулы 3'!F16 -> 120
D140: CLIP top - 95 без пружины | E140: =SUMPRODUCT($A141:$A142,E141:E142) -> 1670
A141: 1 | C141: 78T9550.TLMB V50 NI | D141: "Клип топ" Петли прямая под фальшпанель 95 без пружины | E141: ='Артикулы 3'!F761 -> 1550
A142: 1 | C142: 173L6130 MPL V500 NI | D142: "Клип топ" Ответная планка под саморез | E142: ='Артикулы 3'!F16 -> 120
D144: CLIP top BLUMOTION под фальшпанель | E144: =SUMPRODUCT($A145:$A146,E145:E146) -> 2300
A145: 1 | C145: 79B9550 MB V50 NI | D145: Клип Топ +БЛ под фальшпанель | E145: ='Артикулы 3'!F773 -> 2180
...

Sheet Артикулы 3
B1: 1 Евро= | C1: 430
A2: перев/кг Блюм | B2: 0.42 | D2: АДГТ long | E2: 0.00572 | F2: 0 | K2: 0 | M2: saytum chka petqe lini
A3: перев/кг Siso | B3: 0.7 | F3: 0 | K3: 0 | M3: saytum ka petq chi lini
A4: Ид. № | B4: Артикул | C4: Название | E4: Вес | F4: 0 | H4: Артикул | K4: 0
F5: Цены с 16.07.25 | K5: Цены с 16.07.25
A7: 02575683 | B7: 171A5010 W-DIST V50 NI | C7: Клинобразная угловая подкладка, крестообразная, +5°, под шурупы, толщина подкладки: 0.8 мм | D7: 83021000 | E7: 0.0248 | F7: 290 | H7: 171A5010 W-DIST V50 NI | K7: 290
A8: 02518453 | B8: 171A5040 W-DIST V50 NI | C8: Клинобразная угловая подкладка, крестообразная, +5°, под шурупы, толщина подкладки: 3 мм | D8: 83021000 | E8: 0.0334 | F8: 360 | H8: 171A5040 W-DIST V50 NI | K8: 360
A9: 02518373 | B9: 171A5070 W-DIST V50 NI | C9: Клинобразная угловая подкладка, крестообразная, +5°, под шурупы, толщина подкладки: 6 мм | D9: 83021000 | E9: 0.0374 | F9: 460 | H9: 171A5070 W-DIST V50 NI | K9: 460
A10: 02518533 | B10: 171A5500 W-DIST V50 NI | C10: Клинобразная угловая подкладка, крестообразная, -5°, под шурупы, толщина подкладки: 6 мм | D10: 83021000 | E10: 0.0222 | F10: 340 | H10: 171A5500 W-DIST V50 NI | K10: 340
A11: 08748653 | B11: 173H7100 MPL V500 NI | C11: CLIP ответная планка, крест., 0 мм, сталь, на шурупы, Регулировка по высоте: эксцентрик | D11: 83021000 | E11: 0.02662 | F11: 290 | H11: 173H7100 MPL V500 NI | K11: 290
A12: 02509289 | B12: 173H7100 MPL V500 ONS | C12: CLIP ответная планка, крест., 0 мм, сталь, на шурупы, Регулировка по высоте: эксцентрик | D12: 83021000 | E12: 0.03115 | F12: 340 | H12: 173H7100 MPL V500 ONS | K12: 340
A13: 02364103 | B13: 173H7130 MPL V50 NI | C13: CLIP ответная планка, крест., 3 мм, сталь, на шурупы, Регулировка по высоте: эксцентрик | D13: 83024200 | E13: 0.03128 | F13: 320 | H13: 173H7130 MPL V50 NI | K13: 320
A14: 07480175 | B14: 173L6100 MPL V500 NI | C14: CLIP ответная планка, крест., 0 мм, сталь, на шурупы, Регулировка по высоте: продольное отверстие | D14: 83021000 | E14: 0.01754 | F14: 90 | H14: 173L6100 MPL V500 NI | K14: 90
A15: 03647445 | B15: 173L6100 MPL V500 ONS | C15: CLIP ответная планка, крест., 0 мм, сталь, на шурупы, Регулировка по высоте: продольное отверстие | D15: 83021000 | E15: 0.03115 | F15: 170 | H15: 173L6100 MPL V500 ONS | K15: 170
A16: 01867833 | B16: 173L6130 MPL V500 NI | C16: CLIP ответная планка, крест., 3 мм, сталь, на шурупы, Регулировка по высоте: продольное отверстие | D16: 83021000 | E16: 0.02036 | F16: 120 | H16: 173L6130 MPL V500 NI | K16: 120
A17: 04417806 | B17: 173L8100 MPL V500 NI | C17: CLIP ответная планка, крест., 0 мм, сталь, с предвар. вмонт. евровинтами, Регулировка по высоте: продольное отверстие | D17: 83021000 | E17: 0.025022 | F17: 170 | H17: 173L8100 MPL V500 NI | K17: 170
F18: 170 | H18: 173L8100.21MPL V500 NI | K18: 170
A19: 01917443 | B19: 173L8130 MPL V500 NI | C19: CLIP ответная планка, крест., 3 мм, сталь, с предвар. вмонт. евровинтами, Регулировка по высоте: продольное отверстие | D19: 83021000 | E19: 0.02752 | F19: 190 | H19: 173L8130 MPL V500 NI | K19: 190
A20: 01336643 | B20: 173L8300 MPL V500 NI | C20: CLIP ответная планка, крест., 0 мм, сталь, с предвар. вмонт. евровинтами, Регулировка по высоте: продольное отверстие | D20: 83021000 | E20: 0.024718 | F20: 180 | H20: 173L8300 MPL V500 NI | K20: 180
A21: 02733933 | B21: 174H710ZE DUEPL V500 NI | C21: CLIP ответная планка, крест., 0 мм, сталь, EXPANDO для дверей с двух сторон каркаса, Регулировка по высоте: эксцентрик | D21: 83024200 | E21: 0.030432 | F21: 340 | H21: 174H710ZE DUEPL V500 NI | K21: 340
A22: 08079515 | B22: 174H7100E DUEPL V500 ONS | C22: CLIP ответная планка, крест., 0 мм, сталь, EXPANDO (с вмонтированными спецшурупами с распорн. пробками), Регулировка по высоте: эксцентрик | D22: 83021000 | E22: 0.03115 | F22: 390 | H22: 174H7100E DUEPL V500 ONS | K22: 390
F23: 580 | H23: 174H7100I DUEPL V250 NI | K23: 580
F24: 600 | H24: 174H7130I DUEPL V50 NI | K24: 600
A25: 05891994 | B25: 175H3100 MPL V500 NI | C25: CLIP ответная планка, прям., 0 мм, сталь, на шурупы, Регулировка по высоте: эксцентрик | D25: 83021000 | E25: 0.01566 | F25: 270 | H25: 175H3100 MPL V500 NI | K25: 270
A26: 09594813 | B26: 175H3100 MPL V500 ONS | C26: CLIP ответная планка, прям., 0 мм, сталь, на шурупы, Регулировка по высоте: эксцентрик | D26: 83021000 | E26: 0.01566 | F26: 290 | H26: 175H3100 MPL V500 ONS | K26: 290
A27: 01704442 | B27: 175H3130 MPL V500 NI | C27: CLIP ответная планка, прям., 3 мм, сталь, на шурупы, Регулировка по высоте: эксцентрик | D27: 83021000 | E27: 0.02 | F27: 300 | H27: 175H3130 MPL V500 NI | K27: 300
A28: 08540966 | B28: 175H3130 MPL V500 ONS | C28: CLIP ответная планка, прям., 3 мм, сталь, на шурупы, Регулировка по высоте: эксцентрик | D28: 83021000 | E28: 0.02 | F28: 330 | H28: 175H3130 MPL V500 ONS | K28: 330
A29: 06796303 | B29: 175H5A00 AD-PL V50 NI | C29: CLIP ответная планка, прям., 0 мм, цинк, на шурупы, Регулировка по высоте: эксцентрик, для узких алюминиевых рамок | D29: 83021000 | E29: 0.074 | F29: 1500 | H29: 175H5A00 AD-PL V50 NI | K29: 1500
A30: 06796593 | B30: 175H5B00 AD-P L V50 NI | C30: CLIP ответная планка, прям., цинк, на шурупы, Регулировка по высоте: эксцентрик, лев., для узких алюминиевых рамок | D30: 83021000 | E30: 0.0738 | F30: 1500 | H30: 175H5B00 AD-P L V50 NI | K30: 1500
A31: 06796243 | B31: 175H5B00 AD-P R V50 NI | C31: CLIP ответная планка, прям., цинк, на шурупы, Регулировка по высоте: эксцентрик, прав., для узких алюминиевых рамок | D31: 83021000 | E31: 0.0738 | F31: 1500 | H31: 175H5B00 AD-P R V50 NI | K31: 1500
A32: 07323033 | B32: 175H7190 MPL V50 NI | C32: CLIP ответная планка, крест., 9 мм, цинк, на шурупы, Регулировка по высоте: двухсоставная | D32: 83021000 | E32: 0.04748 | F32: 600 | H32: 175H7190 MPL V50 NI | K32: 600
A33: 02260343 | B33: 175H7190.22MPL V250 NI | C33: CLIP ответная планка, крест., 18 мм, цинк, на шурупы, Регулировка по высоте: двухсоставная | D33: 83021000 | E33: 0.0592 | F33: 870 | H33: 175H7190.22MPL V250 NI | K33: 870
A34: 04974013 | B34: 175H9160 MPL V50 NI | C34: CLIP ответная планка, крест., 6 мм, цинк, евровинты, Регулировка по высоте: двухсоставная | D34: 83021000 | E34: 0.04216 | F34: 640 | H34: 175H9160 MPL V50 NI | K34: 640
A35: 04653407 | B35: 175M4C20 MPL SP 250SANI | C35: CLIP CRISTALLO-ответная планка, на клею, прям., 0 мм, цинк, Регулировка по высоте: двухсоставная | D35: 83021000 | E35: 0.0697 | F35: 6400 | H35: 175M4C20 MPL SP 250SANI | K35: 6400
A36: 04787251 | B36: 177H3100E DUEPL V500 NI | C36: CLIP ответная планка, прям., 0 мм, сталь, EXPANDO (с вмонтированными спецшурупами с распорн. пробками), Регулировка по высоте: эксцентрик | D36: 83021000 | E36: 0.01793 | F36: 330 | H36: 177H3100E DUEPL V500 NI | K36: 330
... A49: 07160400 | B49: 20F7051 BEGR V100 TGR | C49: 104° Ограничитель угла открывания для AVENTOS HF | D49: 39263000 | E49: 0.0011 | F49: 700 | H49: 20F7051 BEGR V100 TGR | K49: 700
A50: 06844408 | B50: 20F8001 ABD L V20 HGR | C50: Складной подъемник AVENTOS HF, заглушка, основная, рифленый, левая | D50: 39263000 | E50: 0.093357143
A51: 06844238 | B51: 20F8001 ABD R V20 HGR | C51: Складной подъемник AVENTOS HF, заглушка, основная, рифленый, правая | D51: 39263000 | E51: 0.093357143
A52: 06844402 | B52: 20F8001 ABD L V20SEIW | C52: Складной подъемник AVENTOS HF, заглушка, основная, рифленый, левая | D52: 39263000 | E52: 0.103
A53: 06844232 | B53: 20F8001 ABD R V20SEIW | C53: Складной подъемник AVENTOS HF, заглушка, основная, рифленый, правая | D53: 39263000 | E53: 0.103
A54: 01818730 | B54: 20F8020 ABD R+L V1HGIG | C54: Складной подъемник AVENTOS HF, заглушка, основная, гладкий, левая/правая | D54: 39263000 | E54: 0.23593333 | F54: 3030 | H54: 20F8020 ABD R+L V1HGIG | K54: 3030
A55: 06469518 | B55: 20F8020 ABD R+L V1SWIG | C55: Складной подъемник AVENTOS HF, заглушка, основная, гладкий, левая/правая | D55: 39263000 | E55: 0.24683333 | F55: 3330 | H55: 20F8020 ABD R+L V1SWIG | K55: 3330
A56: 05679380 | B56: 20F8020 ABD R+L V1TGIG | C56: Складной подъемник AVENTOS HF, заглушка, основная, гладкий, левая/правая | D56: 39263000 | E56: 0.23592857 | F56: 3330 | H56: 20F8020 ABD R+L V1TGIG | K56: 3330
A57: 06560199 | B57: 20F8021 ABD L V20 HGR | C57: Складной подъемник AVENTOS HF, заглушка, основная, гладкий, лев. | D57: 39263000 | E57: 0.10021 | F57: 830 | H57: 20F8021 ABD L V20 HGR | K57: 830
A58: 04847007 | B58: 20F8021 ABD R V20 HGR | C58: Складной подъемник AVENTOS HF, заглушка, основная, гладкий, прав. | D58: 39263000 | E58: 0.10186 | F58: 830 | H58: 20F8021 ABD R V20 HGR | K58: 830
A59: 03140928 | B59: 20F8021 ABD L V20SEIW | C59: Складной подъемник AVENTOS HF, заглушка, основная, гладкий, лев. | D59: 39263000 | E59: 0.1056 | F59: 1000 | H59: 20F8021.22ABD L+ZT20SWIG | K59: 1000
A60: 02491209 | B60: 20F8021 ABD R V20SEIW | C60: Складной подъемник AVENTOS HF, заглушка, основная, гладкий, прав. | D60: 39263000 | E60: 0.10735 | F60: 1000 | H60: 20F8021.22ABD R+ZT20SWIG | K60: 1000
A61: 08274026 | B61: 20F8021.22ABD L+ZT20TGIG | C61: Складной подъемник AVENTOS HF, заглушка, основная, гладкий, левая | D61: 39263000 | E61: 0.10186 | F61: 1000 | H61: 20F8021.22ABD L+ZT20TGIG | K61: 1000
A62: 07712253 | B62: 20F8021.22ABD R+ZT20TGIG | C62: Складной подъемник AVENTOS HF, заглушка, основная, гладкий, правая | D62: 39263000 | E62: 0.10021 | F62: 1000 | H62: 20F8021.22ABD R+ZT20TGIG | K62: 1000
A63: 07272890 | B63: 20F9001.BLABD V500 TGR | C63: Подъемники AVENTOS HF, HS, HL, заглушка, круглая, гладкий, симметричная, применения с SERVO-DRIVE, с надписью (blum) | D63: 39263000 | E63: 0.00574 | F63: 100 | H63: 20F9001.BLABD V500 TGR | K63: 100
A64: 05065724 | B64: 20F9001.BLABD V500SEIW | C64: Подъемники AVENTOS HF, HS, HL, заглушка, круглая, гладкий, симметричная, с надписью (blum) | D64: 83024200 | E64: 0.00608 | F64: 130 | H64: 20F9001.BLABD V500SEIW | K64: 130
A65: 08572348 | B65: 20K1101 KRAFTSP 40 NI | C65: Поворотный подъемный механизм AVENTOS HK-XS , силовой механизм, коефф. мощ.=200-1000 (силовой механизм с одной стороны) | D65: 83024200 | E65: 0.27983333 | F65: 4990 | H65: 20K1101 KRAFTSP 40 NI | K65: 4990
... A106: 05766743 | B106: 20L8021 ABD R V20SEIW | C106: Вертикальный подъемник AVENTOS HL, заглушка, основная, гладкий, правая | D106: 39263000 | E106: 0.10443333 | F106: 970 | H106: 20L8021 ABD R V20SEIW | K106: 970
B107: 20Q0002A | C107: Авентос HL втулка поперечного стабилизатора | D107: 39263000 | E107: 0.03435 | F107: 720 | H107: 20Q0002A | K107: 720
A108: 04391429 | B108: 20Q0003A | C108: Авентос HL заглушка поперечного стабилизатора | D108: 39263000 | E108: 0.0071 | F108: 170 | H108: 20Q0003A | K108: 170
A109: 04391429 | B109: 20Q0003A01ABDECK 200 TGR | C109: Вертикальный подъемник AVENTOS HL, заглушка для поперечного стабилизатора, овальная, симметричная | D109: 39263000 | E109: 0.01009 | F109: 170 | H109: 20Q0003A01ABDECK 200 TGR | K109: 170
A110: 07243500 | B110: 20Q0003 ABDECK 200 TGR | C110: Откидной подъемник AVENTOS HS, заглушка для соединительного элемента, круглая, симметричная | D110: 76042100 | E110: 0.01012 | F110: 60 | H110: 20Q0003 ABDECK 200 TGR | K110: 60
B111: 20Q091Z VERBST V1 EV1 | C111: Авентос HS удлинитель трубы | D111: 76042100 | E111: 0.177 | F111: 6280 | H111: 20Q091Z VERBST V1 EV1 | K111: 6280
B112: 20Q091ZA VERBST V1 EV1 | C112: Авентос HL удлинитель трубы | D112: 76042100 | E112: 0.1955 | F112: 7630 | H112: 20Q091ZA VERBST V1 EV1 | K112: 7630
A113: 03626183 | B113: 20Q1061UN QUERST V20 EV1 | C113: Откидной подъемник AVENTOS HS, поперечный стабилизатор, круглая | D113: 83024200 | E113: 0.27125 | F113: 2680 | H113: 20Q1061UN QUERST V20 EV1 | K113: 2680
A114: 07799390 | B114: 20Q1061UA QUERST V20 EV1 | C114: Вертикальный подъемник AVENTOS HL, поперечный стабилизатор, овальная | D114: 83024200 | E114: 0.55 | F114: 5530 | H114: 20Q1061UA QUERST V20 EV1 | K114: 5530
A115: 08987992 | B115: 20S2B01.05KRAFTSP 20 ZN | C115: Откидной подъемник AVENTOS HS, силовой механизм, Тип В, для применения с SERVO-DRIVE | D115: 83024200 | E115: 0.7945 | F115: 7920 | H115: 20S2B01.05KRAFTSP 20 ZN | K115: 7920
A116: 08988362 | B116: 20S2E01.05KRAFTSP 20 ZN | C116: Откидной подъемник AVENTOS HS, силовой механизм, Тип E, для применения с SERVO-DRIVE | D116: 83024200 | E116: 0.948 | F116: 8880 | H116: 20S2E01.05KRAFTSP 20 ZN | K116: 8880
A117: 08992152 | B117: 20S2H01.05KRAFTSP 20 ZN | C117: Откидной подъемник AVENTOS HS, силовой механизм, Тип H, для применения с SERVO-DRIVE | D117: 83024200 | E117: 0.938 | F117: 8880 | H117: 20S2H01.05KRAFTSP 20 ZN | K117: 8880
A118: 08992222 | B118: 20S2I01.05KRAFTSP 20 ZN | C118: Откидной подъемник AVENTOS HS, силовой механизм, Тип I, для применения с SERVO-DRIVE | D118: 83024200 | E118: 0.9785 | F118: 14980 | H118: 20S2I01.05KRAFTSP 20 ZN | K118: 14980
A119: 07640954 | B119: 20S3501.06HEBEL L 10 NI | C119: Откидной подъемник AVENTOS HS, рычаг, ВК=350-800 мм, левый | D119: 83024200 | E119: 0.524 | F119: 5560 | H119: 20S3501.06HEBEL L 10 NI | K119: 5560
A120: 05537484 | B120: 20S3501.06HEBEL R 10 NI | C120: Откидной подъемник AVENTOS HS, рычаг, ВК=350-800 мм, правый | D120: 83024200 | E120: 0.574 | F120: 6210 | H120: 20S3501.06HEBEL R 10 NI | K120: 6210
A121: 07486403 | B121: 20S4201A FRO-B V100 NI | C121: Подъемные механизмы AVENTOS HS/ HL/ HK и HK top, крепление фасада для узких алюминиевых рамок, шурупами | D121: 83024200 | E121: 0.2575 | F121: 3150 | H121: 20S4201A FRO-B V100 NI | K121: 3150
A122: 07259956 | B122: 20S4201 FRO-B V100 NI | C122: Подъемные механизмы AVENTOS HS/ HL/ HK и HK top, крепление фасада для деревянных фасадов, шурупами | D122: 39263000 | E122: 0.0388 | F122: 630 | H122: 20S4201 FRO-B V100 NI | K122: 630
A123: 07259508 | B123: 20S8001 ABD L V20 HGR | C123: Откидной подъемник AVENTOS HS, заглушка, основная, рифленый, левая | D123: 39263000 | E123: 0.0955 | F123: 820 | H123: 20S8001 ABD L V20 HGR | K123: 820
A124: 07259448 | B124: 20S8001 ABD R V20 HGR | C124: Откидной подъемник AVENTOS HS, заглушка, основная, рифленый, правая | D124: 39263000 | E124: 0.0955 | F124: 820 | H124: 20S8001 ABD R V20 HGR | K124: 820
... A135: 08978460 | B135: 21FA001 ANTR-EH V5R737 | C135: Привод SERVO-DRIVE для AVENTOS, подъемники AVENTOS HF, HS, HL, настроен для HF | D135: 83024200 | E135: 0.767 | F135: 66340 | H135: 21FA001 ANTR-EH V5R737 | K135: 66340
A136: 09424478 | B136: 21K8001 ABD L V5 HGR | C136: Поворотный подъемник AVENTOS HK, заглушка, основная, рифленый, левая, для SERVO-DRIVE | D136: 84798997 | E136: 0.289
A137: 09431540 | B137: 21KA001 ANTR+AD V5R737 | C137: Привод SERVO-DRIVE для AVENTOS, поворотный подъемник AVENTOS HK | D137: 83024200 | E137: 1.532
A138: 05936371 | B138: 21L3501.01HEBEL L V5 NI | C138: Вертикальный подъемник AVENTOS HL, рычаг, ВК=350-399 мм, левый, для SERVO-DRIVE | D138: 83024200 | E138: 0.607 | F138: 14050 | H138: 21L3501.01HEBEL L V5 NI | K138: 14050
A139: 01012963 | B139: 21L3801.01HEBEL L V5 NI | C139: Вертикальный подъемник AVENTOS HL, рычаг, ВК=400-550 мм, левый, для SERVO-DRIVE | D139: 83024200 | E139: 0.666 | F139: 14450 | H139: 21L3801.01HEBEL L V5 NI | K139: 14450
A140: 09618963 | B140: 21L3901.01HEBEL L V5 NI | C140: Вертикальный подъемник AVENTOS HL, рычаг, ВК=450-580 мм, левый, для SERVO-DRIVE | D140: 39263000 | E140: 0.723 | F140: 15460 | H140: 21L3901.01HEBEL L V5 NI | K140: 15460
A141: 08979528 | B141: 21L8001 ABD L V5 HGR | C141: Вертикальный подъемник AVENTOS HL, заглушка, основная, рифленый, левая, для SERVO-DRIVE | D141: 39263000 | E141: 0.279 | F141: 2460 | H141: 21L8001 ABD L V5 HGR | K141: 2460
A142: 08979522 | B142: 21L8001 ABD L V5SEIW | C142: Вертикальный подъемник AVENTOS HL, заглушка, основная, рифленый, левая, для SERVO-DRIVE | D142: 39263000 | E142: 0.294 | F142: 2700 | H142: 21L8001 ABD L V5SEIW | K142: 2700
A143: 04660345 | B143: 21L8021 ABD L V5 TGR | C143: Вертикальный подъемник AVENTOS HL, заглушка, основная, гладкий, левая, для SERVO-DRIVE | D143: 39263000 | E143: 0.2586 | F143: 2700 | H143: 21L8021 ABD L V5 TGR | K143: 2700
A144: 09349915 | B144: 21L8021 ABD L V5 HGR | C144: Вертикальный подъемник AVENTOS HL, заглушка, основная, гладкий, левая, для SERVO-DRIVE | D144: 39263000 | E144: 0.2586 | F144: 2700 | H144: 21L8021 ABD L V5 HGR | K144: 2700
A145: 02709056 | B145: 21L8021 ABD L V5SEIW | C145: Вертикальный подъемник AVENTOS HL, заглушка, основная, гладкий, левая, для SERVO-DRIVE | D145: 85362010 | E145: 0.2742 | F145: 2700 | H145: 21L8021 ABD L V5SEIW | K145: 2700
A146: 05498076 | B146: 21P5020 SCHALT V20 HGR | C146: Кнопка для Серводрайв | D146: 83024200 | E146: 0.01725
A147: 03508856 | B147: 21S3501.01HEBEL L V5 NI | C147: Откидной подъемник AVENTOS HS, рычаг, ВК=350-800 мм, левый, для SERVO-DRIVE | D147: 39263000 | E147: 0.845 | F147: 16700 | H147: 21S3501.01HEBEL L V5 NI | K147: 16700
A148: 08979698 | B148: 21S8001 ABD L V5 HGR | C148: Откидной подъемник AVENTOS HS, заглушка, основная, рифленый, левая, для SERVO-DRIVE | D148: 39263000 | E148: 0.268 | F148: 2420 | H148: 21S8001 ABD L V5 HGR | K148: 2420
A149: 08979692 | B149: 21S8001 ABD L V5SEIW | C149: Откидной подъемник AVENTOS HS, заглушка, основная, рифленый, левая, для SERVO-DRIVE | D149: 39263000 | E149: 0.283 | F149: 2640 | H149: 21S8001 ABD L V5SEIW | K149: 2640
A150: 09893004 | B150: 21S8021 ABD L V5 TGR | C150: Откидной подъемник AVENTOS HS, заглушка, основная, гладкий, левая, для SERVO-DRIVE | D150: 39263000 | E150: 0.283 | F150: 2640 | H150: 21S8021 ABD L V5 TGR | K150: 2640
A151: 06996494 | B151: 21S8021 ABD L V5 HGR | C151: Откидной подъемник AVENTOS HS, заглушка, основная, гладкий, левая, для SERVO-DRIVE | D151: 39263000 | E151: 0.283 | F151: 2640 | H151: 21S8021 ABD L V5 HGR | K151: 2640
A152: 01072356 | B152: 21S8021 ABD L V5SEIW | C152: Откидной подъемник AVENTOS HS, заглушка, основная, гладкий, левая, для SERVO-DRIVE | D152: 83024200 | E152: 0.283 | F152: 2640 | H152: 21S8021 ABD L V5SEIW | K152: 2640
F153: 4750 | H153: 22.8000 ABD R+L V1HGIG | K153: 4750
F154: 5200 | H154: 22.8000 ABD R+L V1HGIG | K154: 5200
A155: 02060947 | B155: 22.8001 ABD L V20 HGR | C155: Заглушка для силового механизма AVENTOS HF/HS/HL top, гладкий, лев. | D155: 3926 30 00 | E155: 0.0808875 | F155: 1110 | H155: 22.8001 ABD L V20 HGR | K155: 1110
A156: 08843517 | B156: 22.8001 ABD R V20 HGR | C156: Заглушка для силового механизма AVENTOS HF/HS/HL top, гладкий, прав. | D156: 3926 30 00 | E156: 0.0808875 | F156: 1110 | H156: 22.8001 ABD R V20 HGR | K156: 1110
A157: 03797606 | B157: 22.8001 ABD L V20SEIW | C157: Заглушка для силового механизма AVENTOS HF/HS/HL top, гладкий, лев. | D157: 3926 30 00 | E157: 0.0808875 | F157: 1330 | H157: 22.8001 ABD L V20SEIW | K157: 1330
A158: 08269038 | B158: 22.8001 ABD R V20SEIW | C158: Заглушка для силового механизма AVENTOS HF/HS/HL top, гладкий, прав. | D158: 3926 30 00 | E158: 0.0808875 | F158: 1330 | H158: 22.8001 ABD R V20SEIW | K158: 1330
A159: 03807831 | B159: 22.8001 ABD L V20 TGR | C159: Заглушка для силового механизма AVENTOS HF/HS/HL top, гладкий, лев. | D159: 3926 30 00 | E159: 0.0808875 | F159: 1330 | H159: 22.8001 ABD L V20 TGR | K159: 1330
A160: 05863796 | B160: 22.8001 ABD R V20 TGR | C160: Заглушка для силового механизма AVENTOS HF/HS/HL top, гладкий, прав. | D160: 3926 30 00 | E160: 0.0808875 | F160: 1330 | H160: 22.8001 ABD R V20 TGR | K160: 1330
F161: 28900 | H161: 22F2500 KRAFTSP S2 ZN | K161: 28900
A162: 02608127 | B162: 22F2501 KRAFTSP 16 ZN | C162: AVENTOS HF top – складной подъемник, силовой механизм, коефф. мощ.=2700-13500 (2 шт.), на саморезы, для применения с SERVO-DRIVE | D162: 83024200 | E162: 1.0763625 | F162: 13340 | H162: 22F2501 KRAFTSP 16 ZN | K162: 13340
A163: 02299866 | B163: 22F2801 KRAFTSP 16 ZN | C163: AVENTOS HF top – складной подъемник, силовой механизм, коефф. мощ.=10000-19300 (2 шт.), на саморезы, для применения с SERVO-DRIVE | D163: 83024200 | E163: 1.1374948 | F163: 14670 | H163: 22F2801 KRAFTSP 16 ZN | K163: 14670
...

Sheet Артикулы 4
K2: АДГТ long | M2: 0.00572 | N2: 0
L3: кол в упаковке | N3: 0
A4: Ид. № | B4: Артикул | C4: Название | M4: Вес | N4: 0
A7: 02575683 | B7: 171A5010 W-DIST V50 NI | C7: Клинобразная угловая подкладка, крестообразная, +5°, под шурупы, толщина подкладки: 0.8 мм | D7: 270 | E7: 310 | F7: 310 | G7: 310 | H7: 320 | I7: 320 | J7: 270 | K7: 83021000 | L7: 50 | M7: 0.0248 | N7: 260
A8: 02518453 | B8: 171A5040 W-DIST V50 NI | C8: Клинобразная угловая подкладка, крестообразная, +5°, под шурупы, толщина подкладки: 3 мм | D8: 330 | E8: 380 | F8: 380 | G8: 380 | H8: 360 | I8: 360 | J8: 310 | K8: 83021000 | L8: 50 | M8: 0.0334 | N8: 320
A9: 02518373 | B9: 171A5070 W-DIST V50 NI | C9: Клинобразная угловая подкладка, крестообразная, +5°, под шурупы, толщина подкладки: 6 мм | D9: 90 | E9: 100 | F9: 90 | G9: 90 | H9: 420 | I9: 420 | J9: 370 | K9: 83021000 | L9: 50 | M9: 0.0374 | N9: 410
A10: 02518533 | B10: 171A5500 W-DIST V50 NI | C10: Клинобразная угловая подкладка, крестообразная, -5°, под шурупы, толщина подкладки: 6 мм | D10: 320 | E10: 370 | F10: 370 | G10: 370 | H10: 310 | I10: 310 | J10: 280 | K10: 83021000 | L10: 50 | M10: 0.0222 | N10: 310
A11: 08748653 | B11: 173H7100 MPL V500 NI | C11: CLIP ответная планка, крест., 0 мм, сталь, на шурупы, Регулировка по высоте: эксцентрик | D11: 1410 | E11: 1620 | F11: 1620 | G11: 1620 | H11: 330 | I11: 330 | J11: 230 | K11: 83021000 | L11: 500 | M11: 0.02662 | N11: 260
A12: 02509289 | B12: 173H7100 MPL V500 ONS | C12: CLIP ответная планка, крест., 0 мм, сталь, на шурупы, Регулировка по высоте: эксцентрик | K12: 83021000 | L12: 500 | M12: 0.03115 | N12: 310
A13: 02364103 | B13: 173H7130 MPL V50 NI | C13: CLIP ответная планка, крест., 3 мм, сталь, на шурупы, Регулировка по высоте: эксцентрик | D13: 1370 | E13: 1580 | F13: 1580 | G13: 1580 | H13: 400 | I13: 400 | J13: 250 | K13: 83024200 | L13: 50 | M13: 0.03128 | N13: 290
A14: 07480175 | B14: 173L6100 MPL V500 NI | C14: CLIP ответная планка, крест., 0 мм, сталь, на шурупы, Регулировка по высоте: продольное отверстие | D14: 1370 | E14: 1580 | F14: 1580 | G14: 1580 | H14: 90 | I14: 90 | J14: 70 | K14: 83021000 | L14: 500 | M14: 0.01754 | N14: 80
A15: 03647445 | B15: 173L6100 MPL V500 ONS | C15: CLIP ответная планка, крест., 0 мм, сталь, на шурупы, Регулировка по высоте: продольное отверстие | K15: 83021000 | L15: 500 | M15: 0.03115 | N15: 150
A16: 01867833 | B16: 173L6130 MPL V500 NI | C16: CLIP ответная планка, крест., 3 мм, сталь, на шурупы, Регулировка по высоте: продольное отверстие | H16: 130 | I16: 130 | J16: 100 | K16: 83021000 | L16: 500 | M16: 0.02036 | N16: 100
A17: 04417806 | B17: 173L8100 MPL V500 NI | C17: CLIP ответная планка, крест., 0 мм, сталь, с предвар. вмонт. евровинтами, Регулировка по высоте: продольное отверстие | K17: 83021000 | L17: 500 | M17: 0.025022 | N17: 150
A18: 01370903 | B18: 173L8100.21MPL V500 NI | C18: CLIP ответная планка, крест., 0 мм, сталь, для крепления с помощью предустановленных евровинтов, Регулировка по высоте: продольное отверстие | K18: 83021000 | L18: 500 | M18: 0.024194 | N18: 150
A19: 01917443 | B19: 173L8130 MPL V500 NI | C19: CLIP ответная планка, крест., 3 мм, сталь, с предвар. вмонт. евровинтами, Регулировка по высоте: продольное отверстие | K19: 83021000 | L19: 500 | M19: 0.02752 | N19: 170
A20: 01336643 | B20: 173L8300 MPL V500 NI | C20: CLIP ответная планка, крест., 0 мм, сталь, с предвар. вмонт. евровинтами, Регулировка по высоте: продольное отверстие | H20: 300 | I20: 300 | J20: 230 | K20: 83021000 | L20: 500 | M20: 0.024718 | N20: 160
A21: 02733933 | B21: 174H710ZE DUEPL V500 NI | C21: CLIP ответная планка, крест., 0 мм, сталь, EXPANDO для дверей с двух сторон каркаса, Регулировка по высоте: эксцентрик | K21: 83021000 | L21: 500 | M21: 0.030432 | N21: 310
A22: 08079515 | B22: 174H7100E DUEPL V500 ONS | C22: CLIP ответная планка, крест., 0 мм, сталь, EXPANDO (с вмонтированными спецшурупами с распорн. пробками), Регулировка по высоте: эксцентрик | K22: 83021000 | L22: 500 | M22: 0.03115 | N22: 350
A23: 02849563 | B23: 174H7100I DUEPL V250 NI | C23: CLIP ответная планка, крест., 0 мм, сталь, без инструмента с INSERTA, Регулировка по высоте: эксцентрик | K23: 83021000 | L23: 250 | M23: 0.04 | N23: 520
A24: 02849643 | B24: 174H7130I DUEPL V50 NI | C24: CLIP ответная планка, крест., 3 мм, сталь, без инструмента с INSERTA, Регулировка по высоте: эксцентрик | K24: 83021000 | L24: 250 | M24: 0.04 | N24: 540
A25: 05891994 | B25: 175H3100 MPL V500 NI | C25: CLIP ответная планка, прям., 0 мм, сталь, на шурупы, Регулировка по высоте: эксцентрик | K25: 83021000 | L25: 500 | M25: 0.01566 | N25: 240
B26: 175H3100 MPL V500 ONS | C26: CLIP ответная планка, прям., 0 мм, сталь, на шурупы, Регулировка по высоте: эксцентрик | D26: 9060 | E26: 10410 | F26: 10410 | G26: 10410 | H26: 1690 | I26: 1690 | J26: 1170 | K26: 83021000 | L26: 500 | M26: 0.01566 | N26: 260
A27: 01704442 | B27: 175H3130 MPL V500 NI | C27: CLIP ответная планка, прям., 3 мм, сталь, на шурупы, Регулировка по высоте: эксцентрик | D27: 10040 | E27: 11550 | F27: 11550 | G27: 11550 | H27: 1650 | I27: 1650 | J27: 1170 | K27: 83021000 | L27: 500 | M27: 0.02 | N27: 270
A28: 08540966 | B28: 175H3130 MPL V500 ONS | C28: CLIP ответная планка, прям., 3 мм, сталь, на шурупы, Регулировка по высоте: эксцентрик | D28: 4540 | E28: 5220 | F28: 5220 | G28: 5220 | H28: 1650 | I28: 1650 | J28: 1170 | K28: 83021000 | L28: 500 | M28: 0.02 | N28: 300
A29: 06796303 | B29: 175H5A00 AD-PL V50 NI | C29: CLIP ответная планка, прям., 0 мм, цинк, на шурупы, Регулировка по высоте: эксцентрик, для узких алюминиевых рамок | D29: 5470 | E29: 6290 | F29: 6290 | G29: 6290 | H29: 640 | I29: 640 | J29: 550 | K29: 83021000 | L29: 50 | M29: 0.074 | N29: 1350
A30: 06796593 | B30: 175H5B00 AD-P L V50 NI | C30: CLIP ответная планка, прям., цинк, на шурупы, Регулировка по высоте: эксцентрик, лев., для узких алюминиевых рамок | F30: 640 | G30: 640 | H30: 910 | I30: 910 | J30: 750 | K30: 83021000 | L30: 50 | M30: 0.0738 | N30: 1350
A31: 06796243 | B31: 175H5B00 AD-P R V50 NI | C31: CLIP ответная планка, прям., цинк, на шурупы, Регулировка по высоте: эксцентрик, прав., для узких алюминиевых рамок | D31: 810 | E31: 930 | F31: 930 | G31: 930 | H31: 600 | I31: 600 | J31: 500 | K31: 83021000 | L31: 50 | M31: 0.0738 | N31: 1350
A32: 07323033 | B32: 175H7190 MPL V50 NI | C32: CLIP ответная планка, крест., 9 мм, цинк, на шурупы, Регулировка по высоте: двухсоставная | J32: 5200 | K32: 83021000 | L32: 50 | M32: 0.04748 | N32: 540
A33: 02260343 | B33: 175H7190.22MPL V250 NI | C33: CLIP ответная планка, крест., 18 мм, цинк, на шурупы, Регулировка по высоте: двухсоставная | K33: 83021000 | L33: 250 | M33: 0.0592 | N33: 780
A34: 04974013 | B34: 175H9160 MPL V50 NI | C34: CLIP ответная планка, крест., 6 мм, цинк, евровинты, Регулировка по высоте: двухсоставная | K34: 83021000 | L34: 50 | M34: 0.04216 | N34: 580
A35: 04653407 | B35: 175M4C20 MPL SP 250SANI | C35: CLIP CRISTALLO-ответная планка, на клею, прям., 0 мм, цинк, Регулировка по высоте: двухсоставная | D35: 810 | E35: 930 | F35: 930 | G35: 930 | H35: 100 | I35: 100 | J35: 80 | K35: 83021000 | L35: 250 | M35: 0.0697 | N35: 5760
A36: 04787251 | B36: 177H3100E DUEPL V500 NI | C36: CLIP ответная планка, прям., 0 мм, сталь, EXPANDO (с вмонтированными спецшурупами с распорн. пробками), Регулировка по высоте: эксцентрик | K36: 83021000 | L36: 500 | M36: 0.01793 | N36: 300
A37: 04786051 | B37: 177H3100E DUEPL V500 ONS | C37: CLIP ответная планка, прям., 0 мм, сталь, EXPANDO (с вмонтированными спецшурупами с распорн. пробками), Регулировка по высоте: эксцентрик | K37: 83021000 | L37: 500 | M37: 0.01793 | N37: 300
A38: 06863103 | B38: 193L6100 MPL V500 NI | C38: MODUL ответная планка, крест., 0 мм, сталь, на шурупы, Регулировка по высоте: продольное отверстие | D38: 220 | E38: 260 | F38: 260 | G38: 260 | H38: 9960 | I38: 9960 | J38: 8600 | K38: 83021000 | L38: 500 | M38: 0.01605 | N38: 80
A39: 08618728 | B39: 194K6100E DUEPL V500 NI | C39: MODUL ответная планка, крест., 0 мм, сталь, EXPANDO (с вмонтированными спецшурупами с распорн. пробками), Регулировка по высоте: продольное отверстие | D39: 8040 | E39: 9250 | F39: 9250 | G39: 9250 | H39: 10830 | I39: 10830 | J39: 9500 | K39: 83021000 | L39: 500 | M39: 0.02622 | N39: 240
A40: 06325543 | B40: 199.8130 MPL V50 NI | C40: MODUL ответная планка, крест. (14/32 мм), 3 мм, цинк, с предвар. вмонт. евровинтами, Регулировка по высоте: продольное отверстие | E40: 14510 | F40: 14510 | G40: 14510 | H40: 12020 | I40: 12020 | J40: 10500 | K40: 83024200 | L40: 50 | M40: 0.03614 | N40: 310
A41: 08931762 | B41: 20F2201.05KRAFTSP 20 ZN | C41: Складной подъемник AVENTOS HF, силовой механизм, коефф. мощ.=2600 – 5500 (при использовании 2-х механизмов), для применения с SERVO-DRIVE | J41: 4100 | K41: 83024200 | L41: 20 | M41: 0.81025 | N41: 9740
A42: 08931832 | B42: 20F2501.05KRAFTSP 20 ZN | C42: Складной подъемник AVENTOS HF, силовой механизм, коефф. мощ.=5350 – 10150 (при использовании 2-х механизмов), для применения с SERVO-DRIVE | D42: 4600 | E42: 5290 | F42: 5290 | G42: 4790 | H42: 5430 | I42: 5430 | J42: 4600 | K42: 83024200 | L42: 20 | M42: 0.8664 | N42: 10570
A43: 08931902 | B43: 20F2801.05KRAFTSP 20 ZN | C43: Складной подъемник AVENTOS HF, силовой механизм, коефф. мощ.=9000 – 17250 (при использовании 2-х механизмов), для применения с SERVO-DRIVE | D43: 4600 | E43: 5290 | F43: 5290 | G43: 5790 | H43: 6550 | I43: 6550 | J43: 5600 | K43: 83024200 | L43: 20 | M43: 0.920875 | N43: 11720
A44: 07588308 | B44: 20F3201.01TE-HEB V40 NI | C44: Складной подъемник AVENTOS HF, телескопический рычаг, ВК=480-570 мм, симметрич. | D44: 370 | E44: 430 | F44: 430 | G44: 430 | H44: 6760 | I44: 6760 | J44: 6400 | K44: 83024200 | L44: 40 | M44: 0.2045 | N44: 4670
A45: 02034079 | B45: 20F3501.01TE-HEB V40 NI | C45: Складной подъемник AVENTOS HF, телескопический рычаг, ВК=560-710 мм, симметрич. | D45: 1340 | E45: 1540 | F45: 1540 | G45: 1540 | H45: 670 | I45: 670 | J45: 600 | K45: 83024200 | L45: 40 | M45: 0.2345 | N45: 5250
A46: 07360602 | B46: 20F3801.01TE-HEB V40 NI | C46: Складной подъемник AVENTOS HF, телескопический рычаг, ВК=700-900 мм, симметрич., применения с SERVO-DRIVE | D46: 1340 | E46: 1540 | F46: 1540 | G46: 1540 | H46: 670 | I46: 670 | J46: 600 | K46: 83024200 | L46: 40 | M46: 0.27745833 | N46: 6390
A47: 09184068 | B47: 20F3901.01TE-HEB V40 NI | C47: Складной подъемник AVENTOS HF, телескопический рычаг, ВК=760-1040 мм, симметрич. | F47: 290 | G47: 290 | H47: 970 | I47: 970 | J47: 800 | K47: 39269097 | L47: 40 | M47: 0.29875 | N47: 7330
A48: 07285440 | B48: 20F7011 BEGR V100R737 | C48: 83° Ограничитель угла открывания для AVENTOS HF | D48: 230 | E48: 270 | F48: 270 | G48: 270 | H48: 970 | I48: 970 | J48: 800 | K48: 39269097 | L48: 100 | M48: 0.0023 | N48: 630
A49: 07160400 | B49: 20F7051 BEGR V100 TGR | C49: 104° Ограничитель угла открывания для AVENTOS HF | J49: 950 | K49: 39263000 | L49: 100 | M49: 0.0011 | N49: 630
A50: 01818730 | B50: 20F8020 ABD R+L V1HGIG | C50: Складной подъемник AVENTOS HF, заглушка, основная, гладкий, левая/правая | K50: 39263000 | M50: 0.23593333 | N50: 3030
A51: 06469518 | B51: 20F8020 ABD R+L V1SWIG | C51: Складной подъемник AVENTOS HF, заглушка, основная, гладкий, левая/правая | K51: 39263000 | M51: 0.24683333 | N51: 3330
A52: 05679380 | B52: 20F8020 ABD R+L V1TGIG | C52: Складной подъемник AVENTOS HF, заглушка, основная, гладкий, левая/правая | K52: 39263000 | M52: 0.23592857 | N52: 3330
A53: 06560199 | B53: 20F8021 ABD L V20 HGR | C53: Складной подъемник AVENTOS HF, заглушка, основная, гладкий, лев. | K53: 39263000 | L53: 20 | M53: 0.10021 | N53: 830
A54: 04847007 | B54: 20F8021 ABD R V20 HGR | C54: Складной подъемник AVENTOS HF, заглушка, основная, гладкий, прав. | K54: 39263000 | L54: 20 | M54: 0.10186 | N54: 830
A55: 05423582 | B55: 20F8021.22ABD L+ZT20SWIG | C55: Складной подъемник AVENTOS HF, заглушка, основная, гладкий, левая | K55: 39263000 | L55: 20 | M55: 0.1056 | N55: 1000
A56: 05725573 | B56: 20F8021.22ABD R+ZT20SWIG | C56: Складной подъемник AVENTOS HF, заглушка, основная, гладкий, правая | D56: 900 | E56: 1040 | F56: 1040 | G56: 1040 | H56: 280 | I56: 280 | J56: 180 | K56: 39263000 | L56: 20 | M56: 0.10735 | N56: 1000
A57: 08274026 | B57: 20F8021.22ABD L+ZT20TGIG | C57: Складной подъемник AVENTOS HF, заглушка, основная, гладкий, левая | J57: 190 | K57: 39263000 | L57: 20 | M57: 0.10186 | N57: 1000
A58: 07712253 | B58: 20F8021.22ABD R+ZT20TGIG | C58: Складной подъемник AVENTOS HF, заглушка, основная, гладкий, правая | J58: 3850 | K58: 39263000 | L58: 20 | M58: 0.10021 | N58: 1000
A59: 07272890 | B59: 20F9001.BLABD V500 TGR | C59: Подъемники AVENTOS HF, HS, HL, заглушка, круглая, гладкий, симметричная, применения с SERVO-DRIVE, с надписью (Blum) | J59: 4200 | K59: 39263000 | L59: 500 | M59: 0.00574 | N59: 100
A60: 05065724 | B60: 20F9001.BLABD V500SEIW | C60: Подъемники AVENTOS HF, HS, HL, заглушка, круглая, гладкий, симметричная, с надписью (blum) | J60: 3850 | K60: 83024200 | L60: 500 | M60: 0.00608 | N60: 130
A61: 08572348 | B61: 20K1101 KRAFTSP 40 NI | C61: Поворотный подъемный механизм AVENTOS HK-XS , силовой механизм, коефф. мощ.=200-1000 (силовой механизм с одной стороны) | J61: 4200 | K61: 83024200 | L61: 40 | M61: 0.27983333 | N61: 4490
A62: 04857465 | B62: 20K1101T KRAFTSP 40 NI | C62: Поворотный подъемный механизм AVENTOS HK-XS , силовой механизм, коефф. мощ.=180-800 (силовой механизм с одной стороны), для TIP-ON | J62: 3850 | K62: 83024200 | L62: 40 | M62: 0.288 | N62: 4820
A63: 09330897 | B63: 20K1301 KRAFTSP 40 NI | C63: Поворотный подъемный механизм AVENTOS HK-XS , силовой механизм, коефф. мощ.=500-1500 (силовой механизм с одной стороны) | J63: 4200 | K63: 83024200 | L63: 40 | M63: 0.279375 | N63: 4490
A64: 09519259 | B64: 20K1301T KRAFTSP 40 NI | C64: Поворотный подъемный механизм AVENTOS HK-XS , силовой механизм, коефф. мощ.=500-1200 (силовой механизм с одной стороны), для TIP-ON | D64: 900 | E64: 1040 | F64: 1040 | G64: 1040 | H64: 11000 | I64: 11000 | J64: 8300 | K64: 83024200 | L64: 40 | M64: 0.27925 | N64: 4820
A65: 01615152 | B65: 20K1501 KRAFTSP 40 NI | C65: Поворотный подъемный механизм AVENTOS HK-XS , силовой механизм, коефф. мощ.=800-1800 (силовой механизм с одной стороны) | D65: 710 | E65: 810 | F65: 810 | G65: 810 | H65: 9620 | I65: 9620 | J65: 8300 | K65: 83024200 | L65: 40 | M65: 0.28016667 | N65: 4490
A66: 08041284 | B66: 20K1501T KRAFTSP 40 NI | C66: Поворотный подъемный механизм AVENTOS HK-XS , силовой механизм, коефф. мощ.=800-1600 (силовой механизм с одной стороны), для TIP-ON | D66: 710 | E66: 810 | F66: 810 | G66: 810 | H66: 11800 | I66: 11800 | J66: 10000 | K66: 83024200 | L66: 40 | M66: 0.27975 | N66: 4820
A67: 01064729 | B67: 20K2C01.02KRAFTSP 40 ZN | C67: Малый поворотный подъемник AVENTOS HK-S, силовой механизм, коефф. мощ.=400 – 1000 (при использовании 2-х механизмов) | H67: 6600 | I67: 6600 | J67: 5000 | K67: 83024200 | L67: 40 | M67: 0.42975 | N67: 4710
A68: 01010789 | B68: 20K2C01T KRAFTSP 40 ZN | C68: Малый поворотный подъемник AVENTOS HK-S, силовой механизм, коефф. мощ.=400 – 1000 (при использовании 2-х механизмов), для TIP-ON | J68: 170 | K68: 83024200 | L68: 40 | M68: 0.42975 | N68: 5040
A69: 07924571 | B69: 20K2E01.02KRAFTSP 40 ZN | C69: Малый поворотный подъемник AVENTOS HK-S, силовой механизм, коефф. мощ.=960 – 2215 (при использовании 2-х механизмов) | J69: 1150 | K69: 83024200 | L69: 40 | M69: 0.442 | N69: 5250
A70: 04132122 | B70: 20K2E01T KRAFTSP 40 ZN | C70: Малый поворотный подъемник AVENTOS HK-S, силовой механизм, коефф. мощ.=960 – 2215 (при использовании 2-х механизмов), для TIP-ON | D70: 810 | E70: 930 | F70: 930 | G70: 930 | H70: 1610 | I70: 1610 | J70: 1100 | K70: 83024200 | L70: 40 | M70: 0.442 | N70: 5460
A71: 08910604 | B71: 20K4101 FRO-B V200 NI | C71: Поворотный подъемный механизм AVENTOS HK-XS , крепление фасада для деревянных фасадов, шурупами | D71: 810 | E71: 930 | F71: 930 | G71: 930 | H71: 1610 | I71: 1610 | J71: 1100 | K71: 83024200 | L71: 200 | M71: 0.0132125 | N71: 200
A72: 01526104 | B72: 20K4101A FRO-B V20 NI | C72: Поворотный подъемный механизм AVENTOS HK-XS , крепление фасада для узких алюминиевых рамок, шурупами | J72: 250 | K72: 83024200 | L72: 20 | M72: 0.071 | N72: 1350
A73: 03089290 | B73: 20K4A01A02FRO-B L 50 NI | C73: Малый поворотный подъемник AVENTOS HK-S, крепление фасада для узких алюминиевых рамок, на саморезы | D73: 520 | E73: 600 | F73: 600 | G73: 600 | H73: 310 | I73: 310 | J73: 250 | K73: 83024200 | L73: 50 | M73: 0.0752 | N73: 1320
A74: 03064135 | B74: 20K4A01A02FRO-B R 50 NI | C74: Малый поворотный подъемник AVENTOS HK-S, крепление фасада для узких алюминиевых рамок, на саморезы | D74: 660 | E74: 760 | F74: 760 | G74: 760 | H74: 290 | I74: 290 | J74: 250 | K74: 83024200 | L74: 50 | M74: 0.0752 | N74: 1320
A75: 01409446 | B75: 20K5101 KOR-B V200 NI | C75: Поворотный подъемный механизм AVENTOS HK-XS , крепление корпуса, шурупами | D75: 70 | E75: 80 | F75: 80 | G75: 80 | H75: 1090 | I75: 1090 | J75: 800 | K75: 39269097 | L75: 200 | M75: 0.02125 | N75: 290
A76: 07470973 | B76: 20K8A01 ABD L V40 TGR | C76: Малый поворотный подъемник AVENTOS HK-S, заглушка, рифленый, левая | D76: 2860 | E76: 3280 | F76: 3280 | G76: 3280 | H76: 850 | I76: 850 | J76: 630 | K76: 39263000 | L76: 40 | M76: 0.06925 | N76: 850
A77: 01680048 | B77: 20K8A01 ABD R V40 TGR | C77: Малый поворотный подъемник AVENTOS HK-S, заглушка, рифленый, правая | J77: 800 | K77: 39263000 | L77: 40 | M77: 0.06925 | N77: 850
A78: 08671608 | B78: 20K8A01 ABD L V40 HGR | C78: Малый поворотный подъемник AVENTOS HK-S, заглушка, рифленый, левая | J78: 800 | K78: 39263000 | L78: 40 | M78: 0.0625 | N78: 850
A79: 08671778 | B79: 20K8A01 ABD R V40 HGR | C79: Малый поворотный подъемник AVENTOS HK-S, заглушка, рифленый, правая | D79: 7740 | E79: 8910 | F79: 8910 | G79: 8910 | H79: 150 | I79: 150 | J79: 180 | K79: 39263000 | L79: 40 | M79: 0.0625 | N79: 850
A80: 08671602 | B80: 20K8A01 ABD L V40SEIW | C80: Малый поворотный подъемник AVENTOS HK-S, заглушка, рифленый, левая | J80: 190 | K80: 39263000 | L80: 40 | M80: 0.06925 | N80: 850
A81: 08671772 | B81: 20K8A01 ABD R V40SEIW | C81: Малый поворотный подъемник AVENTOS HK-S, заглушка, рифленый, правая | E81: 13320 | F81: 13320 | G81: 13320 | H81: 13000 | I81: 13000 | J81: 9500 | K81: 39263000 | L81: 40 | M81: 0.06925 | N81: 850
A82: 08992462 | B82: 20L2301.05KRAFTSP 20 ZN | C82: Вертикальный подъемник AVENTOS HL, силовой механизм, для применения с SERVO-DRIVE | D82: 560 | E82: 640 | F82: 640 | G82: 640 | H82: 24000 | I82: 24000 | J82: 18000 | K82: 83024200 | L82: 20 | M82: 0.8115 | N82: 10730
A83: 08992532 | B83: 20L2501.05KRAFTSP 20 ZN | C83: Вертикальный подъемник AVENTOS HL, силовой механизм, для применения с SERVO-DRIVE | J83: 5500 | K83: 83024200 | L83: 20 | M83: 0.867 | N83: 11890
A84: 08992602 | B84: 20L2701.05KRAFTSP 20 ZN | C84: Вертикальный подъемник AVENTOS HL, силовой механизм, для применения с SERVO-DRIVE | J84: 6800 | K84: 83024200 | L84: 20 | M84: 0.95225 | N84: 11930
A85: 08992772 | B85: 20L2901.05KRAFTSP 20 ZN | C85: Вертикальный подъемник AVENTOS HL, силовой механизм, для применения с SERVO-DRIVE | D85: 840 | E85: 970 | F85: 970 | G85: 970 | H85: 8500 | I85: 8500 | J85: 6000 | K85: 83024200 | L85: 20 | M85: 0.985 | N85: 20120
A86: 09851151 | B86: 20L3201.06HEBEL L 10 NI | C86: Вертикальный подъемник AVENTOS HL, рычаг, ВК=300-349 мм, левый | D86: 12000 | E86: 13800 | F86: 13800 | G86: 13800 | H86: 8500 | I86: 8500 | J86: 6800 | K86: 83024200 | L86: 10 | M86: 0.372 | N86: 6500
A87: 03898962 | B87: 20L3201.06HEBEL R 10 NI | C87: Вертикальный подъемник AVENTOS HL, рычаг, ВК=300-349 мм, правый | D87: 2500 | E87: 2870 | F87: 2870 | G87: 2870 | H87: 10040 | I87: 10040 | J87: 6400 | K87: 83024200 | L87: 10 | M87: 0.423 | N87: 7880
A88: 09511993 | B88: 20L3501.06HEBEL L 10 NI | C88: Вертикальный подъемник AVENTOS HL, рычаг, ВК=350-399 мм, левый | D88: 1220 | E88: 1410 | F88: 1410 | G88: 1410 | H88: 10040 | I88: 10040 | J88: 7200 | K88: 83024200 | L88: 10 | M88: 0.4125 | N88: 6910
A89: 07189171 | B89: 20L3501.06HEBEL R 10 NI | C89: Вертикальный подъемник AVENTOS HL, рычаг, ВК=350-399 мм, правый | D89: 1220 | E89: 1410 | F89: 1410 | G89: 1410 | H89: 11000 | I89: 11000 | J89: 7200 | K89: 83024200 | L89: 10 | M89: 0.4125 | N89: 8260
A90: 06077454 | B90: 20L3801.06HEBEL L 10 NI | C90: Вертикальный подъемник AVENTOS HL, рычаг, ВК=400-550 мм, левый | D90: 1270 | E90: 1460 | F90: 1460 | G90: 1460 | H90: 11000 | I90: 11000 | J90: 8000 | K90: 83024200 | L90: 10 | M90: 0.457 | N90: 7230
A91: 01682518 | B91: 20L3801.06HEBEL R 10 NI | C91: Вертикальный подъемник AVENTOS HL, рычаг, ВК=400-550 мм, правый | D91: 1370 | E91: 1580 | F91: 1580 | G91: 1580 | H91: 970 | I91: 970 | J91: 750 | K91: 83024200 | L91: 10 | M91: 0.457 | N91: 8590
A92: 02475957 | B92: 20L3901.06HEBEL L 10 NI | C92: Вертикальный подъемник AVENTOS HL, рычаг, ВК=450-580 мм, левый | D92: 1370 | E92: 1580 | F92: 1580 | G92: 1580 | H92: 970 | I92: 970 | J92: 750 | K92: 83024200 | L92: 10 | M92: 0.516 | N92: 8160
A93: 09044422 | B93: 20L3901.06HEBEL R 10 NI | C93: Вертикальный подъемник AVENTOS HL, рычаг, ВК=450-580 мм, правый | J93: 950 | K93: 39263000 | L93: 10 | M93: 0.516 | N93: 9530
A94: 02376263 | B94: 20L8020 ABD R+L V1HGIG | C94: Вертикальный подъемник AVENTOS HL, заглушка, основная, гладкий, левая/правая | K94: 39263000 | M94: 0.2665625 | N94: 3030
A95: 05919923 | B95: 20L8020 ABD R+L V1SWIG | C95: Вертикальный подъемник AVENTOS HL, заглушка, основная, гладкий, левая/правая | K95: 39263000 | M95: 0.2665625 | N95: 3330
A96: 06045918 | B96: 20L8020 ABD R+L V1TGIG | C96: Вертикальный подъемник AVENTOS HL, заглушка, основная, гладкий, левая/правая | K96: 39263000 | M96: 0.2665625 | N96: 3330
A97: 02123077 | B97: 20L8021 ABD L V20 HGR | C97: Вертикальный подъемник AVENTOS HL, заглушка, основная, гладкий, левая | K97: 39263000 | L97: 20 | M97: 0.10458333 | N97: 770
A98: 07545445 | B98: 20L8021 ABD R V20 HGR | C98: Вертикальный подъемник AVENTOS HL, заглушка, основная, гладкий, правая | K98: 39263000 | L98: 20 | M98: 0.10443333 | N98: 770
A99: 09317125 | B99: 20L8021 ABD L V20 TGR | C99: Вертикальный подъемник AVENTOS HL, заглушка, основная, гладкий, левая | K99: 39263000 | L99: 20 | M99: 0.10458333 | N99: 970
A100: 05000261 | B100: 20L8021 ABD R V20 TGR | C100: Вертикальный подъемник AVENTOS HL, заглушка, основная, гладкий, правая | D100: 1380 | E100: 1590 | F100: 1590 | G100: 1590 | H100: 800 | I100: 800 | J100: 620 | K100: 39263000 | L100: 20 | M100: 0.10443333 | N100: 970
A101: 07782312 | B101: 20L8021 ABD L V20SEIW | C101: Вертикальный подъемник AVENTOS HL, заглушка, основная, гладкий, левая | D101: 1400 | E101: 1610 | F101: 1610 | G101: 1610 | H101: 190 | I101: 190 | J101: 140 | K101: 39263000 | L101: 20 | M101: 0.10458333 | N101: 970
A102: 05766743 | B102: 20L8021 ABD R V20SEIW | C102: Вертикальный подъемник AVENTOS HL, заглушка, основная, гладкий, правая | K102: 39263000 | L102: 20 | M102: 0.10443333 | N102: 970
B103: 20Q0002A | C103: Авентос HL втулка поперечного стабилизатора | K103: 39263000 | M103: 0.03435 | N103: 650
...

Sheet Артикулы 5
K2: АДГТ long | M2: 0.00572 | N2: 0
L3: кол в упаковке | N3: 0
A4: Ид. № | B4: Артикул | C4: Название | M4: Вес | N4: 0
A7: 02575683 | B7: 171A5010 W-DIST V50 NI | C7: Клинобразная угловая подкладка, крестообразная, +5°, под шурупы, толщина подкладки: 0.8 мм | D7: 270 | E7: 310 | F7: 310 | G7: 310 | H7: 320 | I7: 320 | J7: 270 | K7: 83021000 | L7: 50 | M7: 0.0248 | N7: 260
A8: 02518453 | B8: 171A5040 W-DIST V50 NI | C8: Клинобразная угловая подкладка, крестообразная, +5°, под шурупы, толщина подкладки: 3 мм | D8: 330 | E8: 380 | F8: 380 | G8: 380 | H8: 360 | I8: 360 | J8: 310 | K8: 83021000 | L8: 50 | M8: 0.0334 | N8: 320
A9: 02518373 | B9: 171A5070 W-DIST V50 NI | C9: Клинобразная угловая подкладка, крестообразная, +5°, под шурупы, толщина подкладки: 6 мм | D9: 90 | E9: 100 | F9: 90 | G9: 90 | H9: 420 | I9: 420 | J9: 370 | K9: 83021000 | L9: 50 | M9: 0.0374 | N9: 410
A10: 02518533 | B10: 171A5500 W-DIST V50 NI | C10: Клинобразная угловая подкладка, крестообразная, -5°, под шурупы, толщина подкладки: 6 мм | D10: 320 | E10: 370 | F10: 370 | G10: 370 | H10: 310 | I10: 310 | J10: 280 | K10: 83021000 | L10: 50 | M10: 0.0222 | N10: 310
A11: 08748653 | B11: 173H7100 MPL V500 NI | C11: CLIP ответная планка, крест., 0 мм, сталь, на шурупы, Регулировка по высоте: эксцентрик | D11: 1410 | E11: 1620 | F11: 1620 | G11: 1620 | H11: 330 | I11: 330 | J11: 230 | K11: 83021000 | L11: 500 | M11: 0.02662 | N11: 260
A12: 02509289 | B12: 173H7100 MPL V500 ONS | C12: CLIP ответная планка, крест., 0 мм, сталь, на шурупы, Регулировка по высоте: эксцентрик | K12: 83021000 | L12: 500 | M12: 0.03115 | N12: 310
A13: 02364103 | B13: 173H7130 MPL V50 NI | C13: CLIP ответная планка, крест., 3 мм, сталь, на шурупы, Регулировка по высоте: эксцентрик | D13: 1370 | E13: 1580 | F13: 1580 | G13: 1580 | H13: 400 | I13: 400 | J13: 250 | K13: 83024200 | L13: 50 | M13: 0.03128 | N13: 290
A14: 07480175 | B14: 173L6100 MPL V500 NI | C14: CLIP ответная планка, крест., 0 мм, сталь, на шурупы, Регулировка по высоте: продольное отверстие | D14: 1370 | E14: 1580 | F14: 1580 | G14: 1580 | H14: 90 | I14: 90 | J14: 70 | K14: 83021000 | L14: 500 | M14: 0.01754 | N14: 80
A15: 03647445 | B15: 173L6100 MPL V500 ONS | C15: CLIP ответная планка, крест., 0 мм, сталь, на шурупы, Регулировка по высоте: продольное отверстие | K15: 83021000 | L15: 500 | M15: 0.03115 | N15: 150
A16: 01867833 | B16: 173L6130 MPL V500 NI | C16: CLIP ответная планка, крест., 3 мм, сталь, на шурупы, Регулировка по высоте: продольное отверстие | H16: 130 | I16: 130 | J16: 100 | K16: 83021000 | L16: 500 | M16: 0.02036 | N16: 100
A17: 04417806 | B17: 173L8100 MPL V500 NI | C17: CLIP ответная планка, крест., 0 мм, сталь, с предвар. вмонт. евровинтами, Регулировка по высоте: продольное отверстие | K17: 83021000 | L17: 500 | M17: 0.025022 | N17: 150
A18: 01370903 | B18: 173L8100.21MPL V500 NI | C18: CLIP ответная планка, крест., 0 мм, сталь, для крепления с помощью предустановленных евровинтов, Регулировка по высоте: продольное отверстие | K18: 83021000 | L18: 500 | M18: 0.024194 | N18: 150
A19: 01917443 | B19: 173L8130 MPL V500 NI | C19: CLIP ответная планка, крест., 3 мм, сталь, с предвар. вмонт. евровинтами, Регулировка по высоте: продольное отверстие | K19: 83021000 | L19: 500 | M19: 0.02752 | N19: 170
A20: 01336643 | B20: 173L8300 MPL V500 NI | C20: CLIP ответная планка, крест., 0 мм, сталь, с предвар. вмонт. евровинтами, Регулировка по высоте: продольное отверстие | H20: 300 | I20: 300 | J20: 230 | K20: 83021000 | L20: 500 | M20: 0.024718 | N20: 160
A21: 02733933 | B21: 174H710ZE DUEPL V500 NI | C21: CLIP ответная планка, крест., 0 мм, сталь, EXPANDO для дверей с двух сторон каркаса, Регулировка по высоте: эксцентрик | K21: 83021000 | L21: 500 | M21: 0.030432 | N21: 310
A22: 08079515 | B22: 174H7100E DUEPL V500 ONS | C22: CLIP ответная планка, крест., 0 мм, сталь, EXPANDO (с вмонтированными спецшурупами с распорн. пробками), Регулировка по высоте: эксцентрик | K22: 83021000 | L22: 500 | M22: 0.03115 | N22: 350
A23: 02849563 | B23: 174H7100I DUEPL V250 NI | C23: CLIP ответная планка, крест., 0 мм, сталь, без инструмента с INSERTA, Регулировка по высоте: эксцентрик | K23: 83021000 | L23: 250 | M23: 0.04 | N23: 520
A24: 02849643 | B24: 174H7130I DUEPL V50 NI | C24: CLIP ответная планка, крест., 3 мм, сталь, без инструмента с INSERTA, Регулировка по высоте: эксцентрик | K24: 83021000 | L24: 250 | M24: 0.04 | N24: 540
A25: 05891994 | B25: 175H3100 MPL V500 NI | C25: CLIP ответная планка, прям., 0 мм, сталь, на шурупы, Регулировка по высоте: эксцентрик | K25: 83021000 | L25: 500 | M25: 0.01566 | N25: 240
B26: 175H3100 MPL V500 ONS | C26: CLIP ответная планка, прям., 0 мм, сталь, на шурупы, Регулировка по высоте: эксцентрик | D26: 9060 | E26: 10410 | F26: 10410 | G26: 10410 | H26: 1690 | I26: 1690 | J26: 1170 | K26: 83021000 | L26: 500 | M26: 0.01566 | N26: 260
A27: 01704442 | B27: 175H3130 MPL V500 NI | C27: CLIP ответная планка, прям., 3 мм, сталь, на шурупы, Регулировка по высоте: эксцентрик | D27: 10040 | E27: 11550 | F27: 11550 | G27: 11550 | H27: 1650 | I27: 1650 | J27: 1170 | K27: 83021000 | L27: 500 | M27: 0.02 | N27: 270
A28: 08540966 | B28: 175H3130 MPL V500 ONS | C28: CLIP ответная планка, прям., 3 мм, сталь, на шурупы, Регулировка по высоте: эксцентрик | D28: 4540 | E28: 5220 | F28: 5220 | G28: 5220 | H28: 1650 | I28: 1650 | J28: 1170 | K28: 83021000 | L28: 500 | M28: 0.02 | N28: 300
A29: 06796303 | B29: 175H5A00 AD-PL V50 NI | C29: CLIP ответная планка, прям., 0 мм, цинк, на шурупы, Регулировка по высоте: эксцентрик, для узких алюминиевых рамок | D29: 5470 | E29: 6290 | F29: 6290 | G29: 6290 | H29: 640 | I29: 640 | J29: 550 | K29: 83021000 | L29: 50 | M29: 0.074 | N29: 1350
A30: 06796593 | B30: 175H5B00 AD-P L V50 NI | C30: CLIP ответная планка, прям., цинк, на шурупы, Регулировка по высоте: эксцентрик, лев., для узких алюминиевых рамок | F30: 640 | G30: 640 | H30: 910 | I30: 910 | J30: 750 | K30: 83021000 | L30: 50 | M30: 0.0738 | N30: 1350
A31: 06796243 | B31: 175H5B00 AD-P R V50 NI | C31: CLIP ответная планка, прям., цинк, на шурупы, Регулировка по высоте: эксцентрик, прав., для узких алюминиевых рамок | D31: 810 | E31: 930 | F31: 930 | G31: 930 | H31: 600 | I31: 600 | J31: 500 | K31: 83021000 | L31: 50 | M31: 0.0738 | N31: 1350
A32: 07323033 | B32: 175H7190 MPL V50 NI | C32: CLIP ответная планка, крест., 9 мм, цинк, на шурупы, Регулировка по высоте: двухсоставная | J32: 5200 | K32: 83021000 | L32: 50 | M32: 0.04748 | N32: 540
A33: 02260343 | B33: 175H7190.22MPL V250 NI | C33: CLIP ответная планка, крест., 18 мм, цинк, на шурупы, Регулировка по высоте: двухсоставная | K33: 83021000 | L33: 250 | M33: 0.0592 | N33: 780
A34: 04974013 | B34: 175H9160 MPL V50 NI | C34: CLIP ответная планка, крест., 6 мм, цинк, евровинты, Регулировка по высоте: двухсоставная | K34: 83021000 | L34: 50 | M34: 0.04216 | N34: 580
A35: 04653407 | B35: 175M4C20 MPL SP 250SANI | C35: CLIP CRISTALLO-ответная планка, на клею, прям., 0 мм, цинк, Регулировка по высоте: двухсоставная | D35: 810 | E35: 930 | F35: 930 | G35: 930 | H35: 100 | I35: 100 | J35: 80 | K35: 83021000 | L35: 250 | M35: 0.0697 | N35: 5760
A36: 04787251 | B36: 177H3100E DUEPL V500 NI | C36: CLIP ответная планка, прям., 0 мм, сталь, EXPANDO (с вмонтированными спецшурупами с распорн. пробками), Регулировка по высоте: эксцентрик | K36: 83021000 | L36: 500 | M36: 0.01793 | N36: 300
A37: 04786051 | B37: 177H3100E DUEPL V500 ONS | C37: CLIP ответная планка, прям., 0 мм, сталь, EXPANDO (с вмонтированными спецшурупами с распорн. пробками), Регулировка по высоте: эксцентрик | K37: 83021000 | L37: 500 | M37: 0.01793 | N37: 300
A38: 06863103 | B38: 193L6100 MPL V500 NI | C38: MODUL ответная планка, крест., 0 мм, сталь, на шурупы, Регулировка по высоте: продольное отверстие | D38: 220 | E38: 260 | F38: 260 | G38: 260 | H38: 9960 | I38: 9960 | J38: 8600 | K38: 83021000 | L38: 500 | M38: 0.01605 | N38: 80
A39: 08618728 | B39: 194K6100E DUEPL V500 NI | C39: MODUL ответная планка, крест., 0 мм, сталь, EXPANDO (с вмонтированными спецшурупами с распорн. пробками), Регулировка по высоте: продольное отверстие | D39: 8040 | E39: 9250 | F39: 9250 | G39: 9250 | H39: 10830 | I39: 10830 | J39: 9500 | K39: 83021000 | L39: 500 | M39: 0.02622 | N39: 240
A40: 06325543 | B40: 199.8130 MPL V50 NI | C40: MODUL ответная планка, крест. (14/32 мм), 3 мм, цинк, с предвар. вмонт. евровинтами, Регулировка по высоте: продольное отверстие | E40: 14510 | F40: 14510 | G40: 14510 | H40: 12020 | I40: 12020 | J40: 10500 | K40: 83024200 | L40: 50 | M40: 0.03614 | N40: 310
A41: 08931762 | B41: 20F2201.05KRAFTSP 20 ZN | C41: Складной подъемник AVENTOS HF, силовой механизм, коефф. мощ.=2600 – 5500 (при использовании 2-х механизмов), для применения с SERVO-DRIVE | J41: 4100 | K41: 83024200 | L41: 20 | M41: 0.81025 | N41: 9740
A42: 08931832 | B42: 20F2501.05KRAFTSP 20 ZN | C42: Складной подъемник AVENTOS HF, силовой механизм, коефф. мощ.=5350 – 10150 (при использовании 2-х механизмов), для применения с SERVO-DRIVE | D42: 4600 | E42: 5290 | F42: 5290 | G42: 4790 | H42: 5430 | I42: 5430 | J42: 4600 | K42: 83024200 | L42: 20 | M42: 0.8664 | N42: 10570
A43: 08931902 | B43: 20F2801.05KRAFTSP 20 ZN | C43: Складной подъемник AVENTOS HF, силовой механизм, коефф. мощ.=9000 – 17250 (при использовании 2-х механизмов), для применения с SERVO-DRIVE | D43: 4600 | E43: 5290 | F43: 5290 | G43: 5790 | H43: 6550 | I43: 6550 | J43: 5600 | K43: 83024200 | L43: 20 | M43: 0.920875 | N43: 11720
A44: 07588308 | B44: 20F3201.01TE-HEB V40 NI | C44: Складной подъемник AVENTOS HF, телескопический рычаг, ВК=480-570 мм, симметрич. | D44: 370 | E44: 430 | F44: 430 | G44: 430 | H44: 6760 | I44: 6760 | J44: 6400 | K44: 83024200 | L44: 40 | M44: 0.2045 | N44: 4670
A45: 02034079 | B45: 20F3501.01TE-HEB V40 NI | C45: Складной подъемник AVENTOS HF, телескопический рычаг, ВК=560-710 мм, симметрич. | D45: 1340 | E45: 1540 | F45: 1540 | G45: 1540 | H45: 670 | I45: 670 | J45: 600 | K45: 83024200 | L45: 40 | M45: 0.2345 | N45: 5250
A46: 07360602 | B46: 20F3801.01TE-HEB V40 NI | C46: Складной подъемник AVENTOS HF, телескопический рычаг, ВК=700-900 мм, симметрич., применения с SERVO-DRIVE | D46: 1340 | E46: 1540 | F46: 1540 | G46: 1540 | H46: 670 | I46: 670 | J46: 600 | K46: 83024200 | L46: 40 | M46: 0.27745833 | N46: 6390
A47: 09184068 | B47: 20F3901.01TE-HEB V40 NI | C47: Складной подъемник AVENTOS HF, телескопический рычаг, ВК=760-1040 мм, симметрич. | F47: 290 | G47: 290 | H47: 970 | I47: 970 | J47: 800 | K47: 39269097 | L47: 40 | M47: 0.29875 | N47: 7330
A48: 07285440 | B48: 20F7011 BEGR V100R737 | C48: 83° Ограничитель угла открывания для AVENTOS HF | D48: 230 | E48: 270 | F48: 270 | G48: 270 | H48: 970 | I48: 970 | J48: 800 | K48: 39269097 | L48: 100 | M48: 0.0023 | N48: 630
A49: 07160400 | B49: 20F7051 BEGR V100 TGR | C49: 104° Ограничитель угла открывания для AVENTOS HF | J49: 950 | K49: 39263000 | L49: 100 | M49: 0.0011 | N49: 630
A50: 01818730 | B50: 20F8020 ABD R+L V1HGIG | C50: Складной подъемник AVENTOS HF, заглушка, основная, гладкий, левая/правая | K50: 39263000 | M50: 0.23593333 | N50: 3030
A51: 06469518 | B51: 20F8020 ABD R+L V1SWIG | C51: Складной подъемник AVENTOS HF, заглушка, основная, гладкий, левая/правая | K51: 39263000 | M51: 0.24683333 | N51: 3330
A52: 05679380 | B52: 20F8020 ABD R+L V1TGIG | C52: Складной подъемник AVENTOS HF, заглушка, основная, гладкий, левая/правая | K52: 39263000 | M52: 0.23592857 | N52: 3330
A53: 06560199 | B53: 20F8021 ABD L V20 HGR | C53: Складной подъемник AVENTOS HF, заглушка, основная, гладкий, лев. | K53: 39263000 | L53: 20 | M53: 0.10021 | N53: 830
A54: 04847007 | B54: 20F8021 ABD R V20 HGR | C54: Складной подъемник AVENTOS HF, заглушка, основная, гладкий, прав. | K54: 39263000 | L54: 20 | M54: 0.10186 | N54: 830
A55: 05423582 | B55: 20F8021.22ABD L+ZT20SWIG | C55: Складной подъемник AVENTOS HF, заглушка, основная, гладкий, левая | K55: 39263000 | L55: 20 | M55: 0.1056 | N55: 1000
A56: 05725573 | B56: 20F8021.22ABD R+ZT20SWIG | C56: Складной подъемник AVENTOS HF, заглушка, основная, гладкий, правая | D56: 900 | E56: 1040 | F56: 1040 | G56: 1040 | H56: 280 | I56: 280 | J56: 180 | K56: 39263000 | L56: 20 | M56: 0.10735 | N56: 1000
A57: 08274026 | B57: 20F8021.22ABD L+ZT20TGIG | C57: Складной подъемник AVENTOS HF, заглушка, основная, гладкий, левая | J57: 190 | K57: 39263000 | L57: 20 | M57: 0.10186 | N57: 1000
A58: 07712253 | B58: 20F8021.22ABD R+ZT20TGIG | C58: Складной подъемник AVENTOS HF, заглушка, основная, гладкий, правая | J58: 3850 | K58: 39263000 | L58: 20 | M58: 0.10021 | N58: 1000
A59: 07272890 | B59: 20F9001.BLABD V500 TGR | C59: Подъемники AVENTOS HF, HS, HL, заглушка, круглая, гладкий, симметричная, применения с SERVO-DRIVE, с надписью (Blum) | J59: 4200 | K59: 39263000 | L59: 500 | M59: 0.00574 | N59: 100
A60: 05065724 | B60: 20F9001.BLABD V500SEIW | C60: Подъемники AVENTOS HF, HS, HL, заглушка, круглая, гладкий, симметричная, с надписью (blum) | J60: 3850 | K60: 83024200 | L60: 500 | M60: 0.00608 | N60: 130
A61: 08572348 | B61: 20K1101 KRAFTSP 40 NI | C61: Поворотный подъемный механизм AVENTOS HK-XS , силовой механизм, коефф. мощ.=200-1000 (силовой механизм с одной стороны) | J61: 4200 | K61: 83024200 | L61: 40 | M61: 0.27983333 | N61: 4490
A62: 04857465 | B62: 20K1101T KRAFTSP 40 NI | C62: Поворотный подъемный механизм AVENTOS HK-XS , силовой механизм, коефф. мощ.=180-800 (силовой механизм с одной стороны), для TIP-ON | J62: 3850 | K62: 83024200 | L62: 40 | M62: 0.288 | N62: 4820
A63: 09330897 | B63: 20K1301 KRAFTSP 40 NI | C63: Поворотный подъемный механизм AVENTOS HK-XS , силовой механизм, коефф. мощ.=500-1500 (силовой механизм с одной стороны) | J63: 4200 | K63: 83024200 | L63: 40 | M63: 0.279375 | N63: 4490
A64: 09519259 | B64: 20K1301T KRAFTSP 40 NI | C64: Поворотный подъемный механизм AVENTOS HK-XS , силовой механизм, коефф. мощ.=500-1200 (силовой механизм с одной стороны), для TIP-ON | D64: 900 | E64: 1040 | F64: 1040 | G64: 1040 | H64: 11000 | I64: 11000 | J64: 8300 | K64: 83024200 | L64: 40 | M64: 0.27925 | N64: 4820
A65: 01615152 | B65: 20K1501 KRAFTSP 40 NI | C65: Поворотный подъемный механизм AVENTOS HK-XS , силовой механизм, коефф. мощ.=800-1800 (силовой механизм с одной стороны) | D65: 710 | E65: 810 | F65: 810 | G65: 810 | H65: 9620 | I65: 9620 | J65: 8300 | K65: 83024200 | L65: 40 | M65: 0.28016667 | N65: 4490
A66: 08041284 | B66: 20K1501T KRAFTSP 40 NI | C66: Поворотный подъемный механизм AVENTOS HK-XS , силовой механизм, коефф. мощ.=800-1600 (силовой механизм с одной стороны), для TIP-ON | D66: 710 | E66: 810 | F66: 810 | G66: 810 | H66: 11800 | I66: 11800 | J66: 10000 | K66: 83024200 | L66: 40 | M66: 0.27975 | N66: 4820
A67: 01064729 | B67: 20K2C01.02KRAFTSP 40 ZN | C67: Малый поворотный подъемник AVENTOS HK-S, силовой механизм, коефф. мощ.=400 – 1000 (при использовании 2-х механизмов) | H67: 6600 | I67: 6600 | J67: 5000 | K67: 83024200 | L67: 40 | M67: 0.42975 | N67: 4710
A68: 01010789 | B68: 20K2C01T KRAFTSP 40 ZN | C68: Малый поворотный подъемник AVENTOS HK-S, силовой механизм, коефф. мощ.=400 – 1000 (при использовании 2-х механизмов), для TIP-ON | J68: 170 | K68: 83024200 | L68: 40 | M68: 0.42975 | N68: 5040
A69: 07924571 | B69: 20K2E01.02KRAFTSP 40 ZN | C69: Малый поворотный подъемник AVENTOS HK-S, силовой механизм, коефф. мощ.=960 – 2215 (при использовании 2-х механизмов) | J69: 1150 | K69: 83024200 | L69: 40 | M69: 0.442 | N69: 5250
A70: 04132122 | B70: 20K2E01T KRAFTSP 40 ZN | C70: Малый поворотный подъемник AVENTOS HK-S, силовой механизм, коефф. мощ.=960 – 2215 (при использовании 2-х механизмов), для TIP-ON | D70: 810 | E70: 930 | F70: 930 | G70: 930 | H70: 1610 | I70: 1610 | J70: 1100 | K70: 83024200 | L70: 40 | M70: 0.442 | N70: 5460
A71: 08910604 | B71: 20K4101 FRO-B V200 NI | C71: Поворотный подъемный механизм AVENTOS HK-XS , крепление фасада для деревянных фасадов, шурупами | D71: 810 | E71: 930 | F71: 930 | G71: 930 | H71: 1610 | I71: 1610 | J71: 1100 | K71: 83024200 | L71: 200 | M71: 0.0132125 | N71: 200
A72: 01526104 | B72: 20K4101A FRO-B V20 NI | C72: Поворотный подъемный механизм AVENTOS HK-XS , крепление фасада для узких алюминиевых рамок, шурупами | J72: 250 | K72: 83024200 | L72: 20 | M72: 0.071 | N72: 1350
A73: 03089290 | B73: 20K4A01A02FRO-B L 50 NI | C73: Малый поворотный подъемник AVENTOS HK-S, крепление фасада для узких алюминиевых рамок, на саморезы | D73: 520 | E73: 600 | F73: 600 | G73: 600 | H73: 310 | I73: 310 | J73: 250 | K73: 83024200 | L73: 50 | M73: 0.0752 | N73: 1320
A74: 03064135 | B74: 20K4A01A02FRO-B R 50 NI | C74: Малый поворотный подъемник AVENTOS HK-S, крепление фасада для узких алюминиевых рамок, на саморезы | D74: 660 | E74: 760 | F74: 760 | G74: 760 | H74: 290 | I74: 290 | J74: 250 | K74: 83024200 | L74: 50 | M74: 0.0752 | N74: 1320
A75: 01409446 | B75: 20K5101 KOR-B V200 NI | C75: Поворотный подъемный механизм AVENTOS HK-XS , крепление корпуса, шурупами | D75: 70 | E75: 80 | F75: 80 | G75: 80 | H75: 1090 | I75: 1090 | J75: 800 | K75: 39269097 | L75: 200 | M75: 0.02125 | N75: 290
A76: 07470973 | B76: 20K8A01 ABD L V40 TGR | C76: Малый поворотный подъемник AVENTOS HK-S, заглушка, рифленый, левая | D76: 2860 | E76: 3280 | F76: 3280 | G76: 3280 | H76: 850 | I76: 850 | J76: 630 | K76: 39263000 | L76: 40 | M76: 0.06925 | N76: 850
A77: 01680048 | B77: 20K8A01 ABD R V40 TGR | C77: Малый поворотный подъемник AVENTOS HK-S, заглушка, рифленый, правая | J77: 800 | K77: 39263000 | L77: 40 | M77: 0.06925 | N77: 850
A78: 08671608 | B78: 20K8A01 ABD L V40 HGR | C78: Малый поворотный подъемник AVENTOS HK-S, заглушка, рифленый, левая | J78: 800 | K78: 39263000 | L78: 40 | M78: 0.0625 | N78: 850
A79: 08671778 | B79: 20K8A01 ABD R V40 HGR | C79: Малый поворотный подъемник AVENTOS HK-S, заглушка, рифленый, правая | D79: 7740 | E79: 8910 | F79: 8910 | G79: 8910 | H79: 150 | I79: 150 | J79: 180 | K79: 39263000 | L79: 40 | M79: 0.0625 | N79: 850
A80: 08671602 | B80: 20K8A01 ABD L V40SEIW | C80: Малый поворотный подъемник AVENTOS HK-S, заглушка, рифленый, левая | J80: 190 | K80: 39263000 | L80: 40 | M80: 0.06925 | N80: 850
A81: 08671772 | B81: 20K8A01 ABD R V40SEIW | C81: Малый поворотный подъемник AVENTOS HK-S, заглушка, рифленый, правая | E81: 13320 | F81: 13320 | G81: 13320 | H81: 13000 | I81: 13000 | J81: 9500 | K81: 39263000 | L81: 40 | M81: 0.06925 | N81: 850
A82: 08992462 | B82: 20L2301.05KRAFTSP 20 ZN | C82: Вертикальный подъемник AVENTOS HL, силовой механизм, для применения с SERVO-DRIVE | D82: 560 | E82: 640 | F82: 640 | G82: 640 | H82: 24000 | I82: 24000 | J82: 18000 | K82: 83024200 | L82: 20 | M82: 0.8115 | N82: 10730
A83: 08992532 | B83: 20L2501.05KRAFTSP 20 ZN | C83: Вертикальный подъемник AVENTOS HL, силовой механизм, для применения с SERVO-DRIVE | J83: 5500 | K83: 83024200 | L83: 20 | M83: 0.867 | N83: 11890
A84: 08992602 | B84: 20L2701.05KRAFTSP 20 ZN | C84: Вертикальный подъемник AVENTOS HL, силовой механизм, для применения с SERVO-DRIVE | J84: 6800 | K84: 83024200 | L84: 20 | M84: 0.95225 | N84: 11930
A85: 08992772 | B85: 20L2901.05KRAFTSP 20 ZN | C85: Вертикальный подъемник AVENTOS HL, силовой механизм, для применения с SERVO-DRIVE | D85: 840 | E85: 970 | F85: 970 | G85: 970 | H85: 8500 | I85: 8500 | J85: 6000 | K85: 83024200 | L85: 20 | M85: 0.985 | N85: 20120
A86: 09851151 | B86: 20L3201.06HEBEL L 10 NI | C86: Вертикальный подъемник AVENTOS HL, рычаг, ВК=300-349 мм, левый | D86: 12000 | E86: 13800 | F86: 13800 | G86: 13800 | H86: 8500 | I86: 8500 | J86: 6800 | K86: 83024200 | L86: 10 | M86: 0.372 | N86: 6500
A87: 03898962 | B87: 20L3201.06HEBEL R 10 NI | C87: Вертикальный подъемник AVENTOS HL, рычаг, ВК=300-349 мм, правый | D87: 2500 | E87: 2870 | F87: 2870 | G87: 2870 | H87: 10040 | I87: 10040 | J87: 6400 | K87: 83024200 | L87: 10 | M87: 0.423 | N87: 7880
A88: 09511993 | B88: 20L3501.06HEBEL L 10 NI | C88: Вертикальный подъемник AVENTOS HL, рычаг, ВК=350-399 мм, левый | D88: 1220 | E88: 1410 | F88: 1410 | G88: 1410 | H88: 10040 | I88: 10040 | J88: 7200 | K88: 83024200 | L88: 10 | M88: 0.4125 | N88: 6910
A89: 07189171 | B89: 20L3501.06HEBEL R 10 NI | C89: Вертикальный подъемник AVENTOS HL, рычаг, ВК=350-399 мм, правый | D89: 1220 | E89: 1410 | F89: 1410 | G89: 1410 | H89: 11000 | I89: 11000 | J89: 7200 | K89: 83024200 | L89: 10 | M89: 0.4125 | N89: 8260
A90: 06077454 | B90: 20L3801.06HEBEL L 10 NI | C90: Вертикальный подъемник AVENTOS HL, рычаг, ВК=400-550 мм, левый | D90: 1270 | E90: 1460 | F90: 1460 | G90: 1460 | H90: 11000 | I90: 11000 | J90: 8000 | K90: 83024200 | L90: 10 | M90: 0.457 | N90: 7230
A91: 01682518 | B91: 20L3801.06HEBEL R 10 NI | C91: Вертикальный подъемник AVENTOS HL, рычаг, ВК=400-550 мм, правый | D91: 1370 | E91: 1580 | F91: 1580 | G91: 1580 | H91: 970 | I91: 970 | J91: 750 | K91: 83024200 | L91: 10 | M91: 0.457 | N91: 8590
A92: 02475957 | B92: 20L3901.06HEBEL L 10 NI | C92: Вертикальный подъемник AVENTOS HL, рычаг, ВК=450-580 мм, левый | D92: 1370 | E92: 1580 | F92: 1580 | G92: 1580 | H92: 970 | I92: 970 | J92: 750 | K92: 83024200 | L92: 10 | M92: 0.516 | N92: 8160
A93: 09044422 | B93: 20L3901.06HEBEL R 10 NI | C93: Вертикальный подъемник AVENTOS HL, рычаг, ВК=450-580 мм, правый | J93: 950 | K93: 39263000 | L93: 10 | M93: 0.516 | N93: 9530
A94: 02376263 | B94: 20L8020 ABD R+L V1HGIG | C94: Вертикальный подъемник AVENTOS HL, заглушка, основная, гладкий, левая/правая | K94: 39263000 | M94: 0.2665625 | N94: 3030
A95: 05919923 | B95: 20L8020 ABD R+L V1SWIG | C95: Вертикальный подъемник AVENTOS HL, заглушка, основная, гладкий, левая/правая | K95: 39263000 | M95: 0.2665625 | N95: 3330
A96: 06045918 | B96: 20L8020 ABD R+L V1TGIG | C96: Вертикальный подъемник AVENTOS HL, заглушка, основная, гладкий, левая/правая | K96: 39263000 | M96: 0.2665625 | N96: 3330
A97: 02123077 | B97: 20L8021 ABD L V20 HGR | C97: Вертикальный подъемник AVENTOS HL, заглушка, основная, гладкий, левая | K97: 39263000 | L97: 20 | M97: 0.10458333 | N97: 770
A98: 07545445 | B98: 20L8021 ABD R V20 HGR | C98: Вертикальный подъемник AVENTOS HL, заглушка, основная, гладкий, правая | K98: 39263000 | L98: 20 | M98: 0.10443333 | N98: 770
A99: 09317125 | B99: 20L8021 ABD L V20 TGR | C99: Вертикальный подъемник AVENTOS HL, заглушка, основная, гладкий, левая | K99: 39263000 | L99: 20 | M99: 0.10458333 | N99: 970
A100: 05000261 | B100: 20L8021 ABD R V20 TGR | C100: Вертикальный подъемник AVENTOS HL, заглушка, основная, гладкий, правая | D100: 1380 | E100: 1590 | F100: 1590 | G100: 1590 | H100: 800 | I100: 800 | J100: 620 | K100: 39263000 | L100: 20 | M100: 0.10443333 | N100: 970
A101: 07782312 | B101: 20L8021 ABD L V20SEIW | C101: Вертикальный подъемник AVENTOS HL, заглушка, основная, гладкий, левая | D101: 1400 | E101: 1610 | F101: 1610 | G101: 1610 | H101: 190 | I101: 190 | J101: 140 | K101: 39263000 | L101: 20 | M101: 0.10458333 | N101: 970
A102: 05766743 | B102: 20L8021 ABD R V20SEIW | C102: Вертикальный подъемник AVENTOS HL, заглушка, основная, гладкий, правая | K102: 39263000 | L102: 20 | M102: 0.10443333 | N102: 970
B103: 20Q0002A | C103: Авентос HL втулка поперечного стабилизатора | K103: 39263000 | M103: 0.03435 | N103: 650
...

Sheet Комплекты 2
A3: Петли | B3: MODUL
D4: MODUL - Петли для накладных дверей 100 | E4: =SUMPRODUCT($A5:$A6,E5:E6) -> 2490
A5: 1 | C5: 91M2550 MB V250 NI | D5: "Модуль" Петли для накладных дверей 100 | E5: ='Артикулы 3'!F826 -> 990 | H5: =E5*(1 -#REF!) -> #REF! | I5: =H5-#REF! -> #REF! | J5: =I5/H5 -> #REF! | K5: =I5/E5 -> #REF!
A6: 1 | C6: 193L6100 MPL V500 NI | D6: "Модуль" Ответная планка под саморез | E6: ='Артикулы 3'!F30 -> 1500
D8: MODUL - Петли для полунакладных дверей 100 | E8: =SUMPRODUCT($A9:$A10,E9:E10) -> 2490
A9: 1 | C9: 91M2650 MB V250 NI | D9: "Модуль" Петли для полунакладных дверей 100 | E9: ='Артикулы 3'!F827 -> 990
A10: 1 | C10: 193L6100 MPL V500 NI | D10: "Модуль" Ответная планка под саморез | E10: ='Артикулы 3'!F30 -> 1500
D12: MODUL - Петли для вкладных дверей 100 | E12: =SUMPRODUCT($A13:$A14,E13:E14) -> 2080
A13: 1 | C13: 91M2750 MB V250 NI | D13: "Модуль" Петли для вкладных дверей 100 | E13: ='Артикулы 3'!F828 -> 580
A14: 1 | C14: 193L6100 MPL V500 NI | D14: "Модуль" Ответная планка под саморез | E14: ='Артикулы 3'!F30 -> 1500
A17: Петли | B17: CLIP
D18: CLIP- Петли для накладных дверей 100 | E18: =SUMPRODUCT($A19:$A20,E19:E20) -> 4160
A19: 1 | C19: 71M2550 MB V250 NI | D19: "Клип " Петли для накладных дверей 100 | E19: ='Артикулы 3'!F563 -> 4160
A20: 1 | C20: 173L6100 MPL V500 NI | D20: "Клип топ" Ответная планка под саморез | E20: ='Артикулы 3'!F2 -> 0
D22: CLIP- Петли для полунакладных дверей 100 | E22: =SUMPRODUCT($A23:$A24,E23:E24) -> 5990
A23: 1 | C23: 71M2650 MB V250 NI | D23: "Клип " Петли для полунакладных дверей 100 | E23: ='Артикулы 3'!F564 -> 5990
A24: 1 | C24: 173L6100 MPL V500 NI | D24: "Клип топ" Ответная планка под саморез | E24: ='Артикулы 3'!F2 -> 0
D26: CLIP- Петли для вкладных дверей 100 | E26: =SUMPRODUCT($A27:$A28,E27:E28) -> 3050
A27: 1 | C27: 71M2750 MB V250 NI | D27: "Клип " Петли для вкладных дверей 100 | E27: ='Артикулы 3'!F565 -> 3050
A28: 1 | C28: 173L6100 MPL V500 NI | D28: "Клип топ" Ответная планка под саморез | E28: ='Артикулы 3'!F2 -> 0
I47: Цвета заглушки
D48: Aventos HF TOP | I48: Светло серый | J48: Белый | K48: Темно серый ( графитовый)
I49: 22.8001 ABD L V20 HGR | J49: 22.8001 ABD L V20SEIW | K49: 22.8001 ABD L V20 TGR
D50: AVENTOS HF top 25-32 | E50: =SUMPRODUCT(A51:A58,E51:E58) -> 46160 | I50: 22.8001 ABD R V20 HGR | J50: 22.8001 ABD R V20SEIW | K50: 22.8001 ABD R V20 TGR
A51: 4 | B51: 07480175 | C51: 173L6100 MPL V500 NI | D51: CLIP ответная планка, крест., 0 мм, сталь, на шурупы, Регулировка по высоте: продольное отверстие | E51: ='Артикулы 3'!F14 -> 90
A52: 2 | B52: 05891994 | C52: 175H3100 MPL V500 NI | D52: CLIP ответная планка, прям., 0 мм, сталь, на шурупы, Регулировка по высоте: эксцентрик | E52: ='Артикулы 3'!F25 -> 270
A53: 1 | B53: 02060947 | C53: 22.8001 ABD L V20 HGR | D53: Заглушка для силового механизма AVENTOS HF/HS/HL top, гладкий, лев. | E53: ='Артикулы 3'!F155 -> 1110
A54: 1 | B54: 08843517 | C54: 22.8001 ABD R V20 HGR | D54: Заглушка для силового механизма AVENTOS HF/HS/HL top, гладкий, прав. | E54: ='Артикулы 3'!F156 -> 1110
A55: 2 | B55: 02608127 | C55: 22F2501 KRAFTSP 16 ZN | D55: AVENTOS HF top – складной подъемник, силовой механизм, коефф. мощ.=2700-13500 (2 шт.), на саморезы, для применения с SERVO-DRIVE | E55: ='Артикулы 3'!F162 -> 13340
A56: 2 | B56: 09260101 | C56: 22F3201 TE-HEB V42 NI | D56: AVENTOS HF top – складной подъемник, рычаг, ВК=480-610 мм, симметрич. | E56: ='Артикулы 3'!F164 -> 5780
A57: 2 | B57: 06510533 | C57: 70T5550.TLMB V50 NI | D57: CLIP top стандартная петля 120°, накладная, без пружины, чашка петли: на шурупы | E57: ='Артикулы 3'!F537 -> 820
A58: 2 | B58: 06796673 | C58: 78Z5500T MB V50 NI | D58: CLIP top средняя петля для AVENTOS HF 134°, без пружины, чашка петли: на шурупы | E58: ='Артикулы 3'!F762 -> 1580
D60: AVENTOS HF top 25-35 | E60: =SUMPRODUCT(A61:A68,E61:E68) -> 49280 | I60: Светло серый | J60: Белый | K60: Темно серый ( графитовый)
A61: 4 | B61: 07480175 | C61: 173L6100 MPL V500 NI | D61: CLIP ответная планка, крест., 0 мм, сталь, на шурупы, Регулировка по высоте: продольное отверстие | E61: ='Артикулы 3'!F14 -> 90 | I61: 22.8001 ABD L V20 HGR | J61: 22.8001 ABD L V20SEIW | K61: 22.8001 ABD L V20 TGR
A62: 2 | B62: 05891994 | C62: 175H3100 MPL V500 NI | D62: CLIP ответная планка, прям., 0 мм, сталь, на шурупы, Регулировка по высоте: эксцентрик | E62: ='Артикулы 3'!F25 -> 270 | I62: 22.8001 ABD R V20 HGR | J62: 22.8001 ABD R V20SEIW | K62: 22.8001 ABD R V20 TGR
A63: 1 | B63: 02060947 | C63: 22.8001 ABD L V20 HGR | D63: Заглушка для силового механизма AVENTOS HF/HS/HL top, гладкий, лев. | E63: ='Артикулы 3'!F155 -> 1110
A64: 1 | B64: 08843517 | C64: 22.8001 ABD R V20 HGR | D64: Заглушка для силового механизма AVENTOS HF/HS/HL top, гладкий, прав. | E64: ='Артикулы 3'!F156 -> 1110
A65: 2 | B65: 02608127 | C65: 22F2501 KRAFTSP 16 ZN | D65: AVENTOS HF top – складной подъемник, силовой механизм, коефф. мощ.=2700-13500 (2 шт.), на саморезы, для применения с SERVO-DRIVE | E65: ='Артикулы 3'!F162 -> 13340
A66: 2 | B66: 03048304 | C66: 22F3501 TE-HEB V42 NI | D66: AVENTOS HF top – складной подъемник, рычаг, ВК=600-910 мм, симметрич. | E66: ='Артикулы 3'!F166 -> 7340
A67: 2 | B67: 06510533 | C67: 70T5550.TLMB V50 NI | D67: CLIP top стандартная петля 120°, накладная, без пружины, чашка петли: на шурупы | E67: ='Артикулы 3'!F537 -> 820
A68: 2 | B68: 06796673 | C68: 78Z5500T MB V50 NI | D68: CLIP top средняя петля для AVENTOS HF 134°, без пружины, чашка петли: на шурупы | E68: ='Артикулы 3'!F762 -> 1580
D70: AVENTOS HF top 25-39 | E70: =SUMPRODUCT(A71:A78,E71:E78) -> 52380 | I70: Светло серый | J70: Белый | K70: Темно серый ( графитовый)
A71: 4 | B71: 07480175 | C71: 173L6100 MPL V500 NI | D71: CLIP ответная планка, крест., 0 мм, сталь, на шурупы, Регулировка по высоте: продольное отверстие | E71: ='Артикулы 3'!F14 -> 90 | I71: 22.8001 ABD L V20 HGR | J71: 22.8001 ABD L V20SEIW | K71: 22.8001 ABD L V20 TGR
A72: 2 | B72: 05891994 | C72: 175H3100 MPL V500 NI | D72: CLIP ответная планка, прям., 0 мм, сталь, на шурупы, Регулировка по высоте: эксцентрик | E72: ='Артикулы 3'!F25 -> 270 | I72: 22.8001 ABD R V20 HGR | J72: 22.8001 ABD R V20SEIW | K72: 22.8001 ABD R V20 TGR
A73: 1 | B73: 02060947 | C73: 22.8001 ABD L V20 HGR | D73: Заглушка для силового механизма AVENTOS HF/HS/HL top, гладкий, лев. | E73: ='Артикулы 3'!F155 -> 1110
A74: 1 | B74: 08843517 | C74: 22.8001 ABD R V20 HGR | D74: Заглушка для силового механизма AVENTOS HF/HS/HL top, гладкий, прав. | E74: ='Артикулы 3'!F156 -> 1110
A75: 2 | B75: 02608127 | C75: 22F2501 KRAFTSP 16 ZN | D75: AVENTOS HF top – складной подъемник, силовой механизм, коефф. мощ.=2700-13500 (2 шт.), на саморезы, для применения с SERVO-DRIVE | E75: ='Артикулы 3'!F162 -> 13340
A76: 2 | B76: 09632647 | C76: 22F3901 TE-HEB V42 NI | D76: AVENTOS HF top – складной подъемник, рычаг, ВК=840-1200 мм, симметрич. | E76: ='Артикулы 3'!F167 -> 8890
A77: 2 | B77: 06510533 | C77: 70T5550.TLMB V50 NI | D77: CLIP top стандартная петля 120°, накладная, без пружины, чашка петли: на шурупы | E77: ='Артикулы 3'!F537 -> 820
A78: 2 | B78: 06796673 | C78: 78Z5500T MB V50 NI | D78: CLIP top средняя петля для AVENTOS HF 134°, без пружины, чашка петли: на шурупы | E78: ='Артикулы 3'!F762 -> 1580
D80: AVENTOS HF top 28-32 | E80: =SUMPRODUCT(A81:A88,E81:E88) -> 48820 | I80: Светло серый | J80: Белый | K80: Темно серый ( графитовый)
A81: 4 | B81: 07480175 | C81: 173L6100 MPL V500 NI | D81: CLIP ответная планка, крест., 0 мм, сталь, на шурупы, Регулировка по высоте: продольное отверстие | E81: ='Артикулы 3'!F14 -> 90 | I81: 22.8001 ABD L V20 HGR | J81: 22.8001 ABD L V20SEIW | K81: 22.8001 ABD L V20 TGR
A82: 2 | B82: 05891994 | C82: 175H3100 MPL V500 NI | D82: CLIP ответная планка, прям., 0 мм, сталь, на шурупы, Регулировка по высоте: эксцентрик | E82: ='Артикулы 3'!F25 -> 270 | I82: 22.8001 ABD R V20 HGR | J82: 22.8001 ABD R V20SEIW | K82: 22.8001 ABD R V20 TGR
A83: 1 | B83: 02060947 | C83: 22.8001 ABD L V20 HGR | D83: Заглушка для силового механизма AVENTOS HF/HS/HL top, гладкий, лев. | E83: ='Артикулы 3'!F155 -> 1110
A84: 1 | B84: 08843517 | C84: 22.8001 ABD R V20 HGR | D84: Заглушка для силового механизма AVENTOS HF/HS/HL top, гладкий, прав. | E84: ='Артикулы 3'!F156 -> 1110
A85: 2 | B85: 02299866 | C85: 22F2801 KRAFTSP 16 ZN | D85: AVENTOS HF top – складной подъемник, силовой механизм, коефф. мощ.=10000-19300 (2 шт.), на саморезы, для применения с SERVO-DRIVE | E85: ='Артикулы 3'!F163 -> 14670
A86: 2 | B86: 09260101 | C86: 22F3201 TE-HEB V42 NI | D86: AVENTOS HF top – складной подъемник, рычаг, ВК=480-610 мм, симметрич. | E86: ='Артикулы 3'!F164 -> 5780
A87: 2 | B87: 06510533 | C87: 70T5550.TLMB V50 NI | D87: CLIP top стандартная петля 120°, накладная, без пружины, чашка петли: на шурупы | E87: ='Артикулы 3'!F537 -> 820
A88: 2 | B88: 06796673 | C88: 78Z5500T MB V50 NI | D88: CLIP top средняя петля для AVENTOS HF 134°, без пружины, чашка петли: на шурупы | E88: ='Артикулы 3'!F762 -> 1580
D90: AVENTOS HF top 28-35 | E90: =SUMPRODUCT(A91:A98,E91:E98) -> 51940 | I90: Светло серый | J90: Белый | K90: Темно серый ( графитовый)
A91: 4 | B91: 07480175 | C91: 173L6100 MPL V500 NI | D91: CLIP ответная планка, крест., 0 мм, сталь, на шурупы, Регулировка по высоте: продольное отверстие | E91: ='Артикулы 3'!F14 -> 90 | I91: 22.8001 ABD L V20 HGR | J91: 22.8001 ABD L V20SEIW | K91: 22.8001 ABD L V20 TGR
A92: 2 | B92: 05891994 | C92: 175H3100 MPL V500 NI | D92: CLIP ответная планка, прям., 0 мм, сталь, на шурупы, Регулировка по высоте: эксцентрик | E92: ='Артикулы 3'!F25 -> 270 | I92: 22.8001 ABD R V20 HGR | J92: 22.8001 ABD R V20SEIW | K92: 22.8001 ABD R V20 TGR
A93: 1 | B93: 02060947 | C93: 22.8001 ABD L V20 HGR | D93: Заглушка для силового механизма AVENTOS HF/HS/HL top, гладкий, лев. | E93: ='Артикулы 3'!F155 -> 1110
A94: 1 | B94: 08843517 | C94: 22.8001 ABD R V20 HGR | D94: Заглушка для силового механизма AVENTOS HF/HS/HL top, гладкий, прав. | E94: ='Артикулы 3'!F156 -> 1110
A95: 2 | B95: 02299866 | C95: 22F2801 KRAFTSP 16 ZN | D95: AVENTOS HF top – складной подъемник, силовой механизм, коефф. мощ.=10000-19300 (2 шт.), на саморезы, для применения с SERVO-DRIVE | E95: ='Артикулы 3'!F163 -> 14670
A96: 2 | B96: 03048304 | C96: 22F3501 TE-HEB V42 NI | D96: AVENTOS HF top – складной подъемник, рычаг, ВК=600-910 мм, симметрич. | E96: ='Артикулы 3'!F166 -> 7340
A97: 2 | B97: 06510533 | C97: 70T5550.TLMB V50 NI | D97: CLIP top стандартная петля 120°, накладная, без пружины, чашка петли: на шурупы | E97: ='Артикулы 3'!F537 -> 820
A98: 2 | B98: 06796673 | C98: 78Z5500T MB V50 NI | D98: CLIP top средняя петля для AVENTOS HF 134°, без пружины, чашка петли: на шурупы | E98: ='Артикулы 3'!F762 -> 1580
D100: AVENTOS HF top 28-39 | E100: =SUMPRODUCT(A101:A108,E101:E108) -> 55040 | I100: Светло серый | J100: Белый | K100: Темно серый ( графитовый)
A101: 4 | B101: 07480175 | C101: 173L6100 MPL V500 NI | D101: CLIP ответная планка, крест., 0 мм, сталь, на шурупы, Регулировка по высоте: продольное отверстие | E101: ='Артикулы 3'!F14 -> 90 | I101: 22.8001 ABD L V20 HGR | J101: 22.8001 ABD L V20SEIW | K101: 22.8001 ABD L V20 TGR
A102: 2 | B102: 05891994 | C102: 175H3100 MPL V500 NI | D102: CLIP ответная планка, прям., 0 мм, сталь, на шурупы, Регулировка по высоте: эксцентрик | E102: ='Артикулы 3'!F25 -> 270 | I102: 22.8001 ABD R V20 HGR | J102: 22.8001 ABD R V20SEIW | K102: 22.8001 ABD R V20 TGR
A103: 1 | B103: 02060947 | C103: 22.8001 ABD L V20 HGR | D103: Заглушка для силового механизма AVENTOS HF/HS/HL top, гладкий, лев. | E103: ='Артикулы 3'!F155 -> 1110
A104: 1 | B104: 08843517 | C104: 22.8001 ABD R V20 HGR | D104: Заглушка для силового механизма AVENTOS HF/HS/HL top, гладкий, прав. | E104: ='Артикулы 3'!F156 -> 1110
A105: 2 | B105: 02299866 | C105: 22F2801 KRAFTSP 16 ZN | D105: AVENTOS HF top – складной подъемник, силовой механизм, коефф. мощ.=10000-19300 (2 шт.), на саморезы, для применения с SERVO-DRIVE | E105: ='Артикулы 3'!F163 -> 14670
A106: 2 | B106: 09632647 | C106: 22F3901 TE-HEB V42 NI | D106: AVENTOS HF top – складной подъемник, рычаг, ВК=840-1200 мм, симметрич. | E106: ='Артикулы 3'!F167 -> 8890
A107: 2 | B107: 06510533 | C107: 70T5550.TLMB V50 NI | D107: CLIP top стандартная петля 120°, накладная, без пружины, чашка петли: на шурупы | E107: ='Артикулы 3'!F537 -> 820
A108: 2 | B108: 06796673 | C108: 78Z5500T MB V50 NI | D108: CLIP top средняя петля для AVENTOS HF 134°, без пружины, чашка петли: на шурупы | E108: ='Артикулы 3'!F762 -> 1580
D110: AVENTOS HF top 25-39 SERVO DRIVE | E110: =SUMPRODUCT(A111:A119,E111:E119) -> 282750 | I110: Светло серый | J110: Белый | K110: Темно серый ( графитовый)
A111: 4 | B111: 07480175 | C111: 173L6100 MPL V500 NI | D111: CLIP ответная планка, крест., 0 мм, сталь, на шурупы, Регулировка по высоте: продольное отверстие | E111: ='Артикулы 3'!F14 -> 90 | I111: 22.8001 ABD L V20 HGR | J111: 22.8001 ABD L V20SEIW | K111: 22.8001 ABD L V20 TGR
A112: 2 | B112: 05891994 | C112: 175H3100 MPL V500 NI | D112: CLIP ответная планка, прям., 0 мм, сталь, на шурупы, Регулировка по высоте: эксцентрик | E112: ='Артикулы 3'!F25 -> 270 | I112: 22.8001 ABD R V20 HGR | J112: 22.8001 ABD R V20SEIW | K112: 22.8001 ABD R V20 TGR
A113: 1 | B113: 08097114 | C113: 23.8000 ABD+ZUT V1HGIG | D113: Комплект заглушек AVENTOS HF/HS/HL top (вкл. кнопка включения для установки в высверленное отверстие, в комплекте), гладкий, прав.+лев., для SERVO-DRIVE | E113: ='Артикулы 3'!F196 -> 44460
A114: 2 | B114: 02608127 | C114: 22F2501 KRAFTSP 16 ZN | D114: AVENTOS HF top – складной подъемник, силовой механизм, коефф. мощ.=2700-13500 (2 шт.), на саморезы, для применения с SERVO-DRIVE | E114: ='Артикулы 3'!F162 -> 13340
A115: 2 | B115: 09632647 | C115: 22F3901 TE-HEB V42 NI | D115: AVENTOS HF top – складной подъемник, рычаг, ВК=840-1200 мм, симметрич. | E115: ='Артикулы 3'!F167 -> 8890
A116: 2 | B116: 06510533 | C116: 70T5550.TLMB V50 NI | D116: CLIP top стандартная петля 120°, накладная, без пружины, чашка петли: на шурупы | E116: ='Артикулы 3'!F537 -> 820
A117: 2 | B117: 06796673 | C117: 78Z5500T MB V50 NI | D117: CLIP top средняя петля для AVENTOS HF 134°, без пружины, чашка петли: на шурупы | E117: ='Артикулы 3'!F762 -> 1580
A118: 1 | B118: 06062741 | C118: 23.A001 ANTR-EH V5 TGR | D118: Привод SERVO-DRIVE для AVENTOS, aVENTOS HF top – складной подъемник, aVENTOS HL top – вертикальный подъемник, aVENTOS HS top – откидной подъемник | E118: ='Артикулы 3'!F200 -> 128940
A119: 1 | B119: 03001604 | C119: Z10NE04EF NETZT V1 S | D119: Блок питания SERVO-DRIVE, 72 Вт | E119: ='Артикулы 3'!F976 -> 59190
D121: AVENTOS HF 25-39 SERVO DRIVE | E121: =SUMPRODUCT(A122:A133,E122:E133) -> 233200 | I121: Светло серый | J121: Белый | K121: Темно серый ( графитовый)
A122: 2 | C122: 20F2501 KRAFTSP 20 ZN | D122: Авентос силовой механизм | E122: ='Артикулы 3'!F42 -> 10570 | I122: 22.8001 ABD L V20 HGR | J122: 22.8001 ABD L V20SEIW | K122: 22.8001 ABD L V20 TGR
A123: 2 | C123: 20F3901 TE-HEa V40 NI | D123: Авентос телескоп | E123: ='Артикулы 3'!F47 -> 7330 | I123: 22.8001 ABD R V20 HGR | J123: 22.8001 ABD R V20SEIW | K123: 22.8001 ABD R V20 TGR
A124: 2 | C124: 78Z5500T MB V50 NI | D124: Авентос пелтли междверные | E124: ='Артикулы 3'!F762 -> 1580
A125: 2 | C125: 175H3100 | D125: Авентос ответная планка для дер. Дверей и для основн. Петель | E125: ='Артикулы 3'!F25 -> 270
A126: 2 | C126: 70T5550.TLMB V50 NI | D126: Авентос петли основные | E126: ='Артикулы 3'!F537 -> 820
A127: 4 | C127: 173L6100 MPL V500 NI | D127: "Клип топ" Ответная планка под саморез | E127: ='Артикулы 3'!F14 -> 90
A128: 1 | C128: 20F8021 AaD R V20 TGR | D128: Заглушка для авентос темно серая | E128: ='Артикулы 3'!F58 -> 830
A129: 1 | B129: 02266164 | C129: 21F8021 ABD L V5 HGR | D129: Складной подъемник AVENTOS HF, заглушка, основная, гладкий, левая, для SERVO-DRIVE | E129: ='Артикулы 3'!F133 -> 2700
A130: 2 | C130: AaD.1009.aTAa IM1000IN-G | D130: Авентос заглушка | E130: ='Артикулы 3'!F866 -> 370
A131: 1 | B131: 07134011 | C131: Z10NE030F NETZG V1 S | D131: Блок питания SERVO-DRIVE, 24 Вт, BG/ET/LT/LV/RO/RU | E131: ='Артикулы 3'!F975 -> 54430
A132: 1 | B132: 08978460 | C132: 21FA001 ANTR-EH V5R737 | D132: Привод SERVO-DRIVE для AVENTOS, подъемники AVENTOS HF, HS, HL, настроен для HF | E132: ='Артикулы 2'!G149 -> 97860
A133: 2 | B133: 08457250 | C133: 23P5020 SCHALT V20 HGR | D133: Радиокнопка SERVO-DRIVE для AVENTOS, симметричная | E133: ='Артикулы 3'!F205 -> 17570
...

Sheet Артикулы 2
B1: 1 Евро= | C1: 430
A2: перев/кг Блюм | B2: 0.44 | F2: 0.00572 | G2: 0
A3: перев/кг Siso | B3: 0.7 | G3: 0
A4: Ид. № | B4: Артикул | C4: Название | F4: Вес | G4: 0
A7: 02575683 | B7: 171A5010 W-DIST V50 NI | C7: Клинобразная угловая подкладка, крестообразная, +5°, под шурупы, толщина подкладки: 0.8 мм | F7: 0.0248 | G7: 260
A8: 02518453 | B8: 171A5040 W-DIST V50 NI | C8: Клин +5+4.4мм | F8: 0.0334 | G8: 320
A9: 02518373 | B9: 171A5070 W-DIST V50 NI | C9: Клин +5+7.35мм | F9: 0.0374 | G9: 410
A10: 02518533 | B10: 171A5500 W-DIST V50 NI | C10: Клин -5-.92мм | F10: 0.0222 | G10: 310
A11: 08748653 | B11: 173H7100 MPL V500 NI | C11: CLIP ответная планка, крест., 0 мм, сталь, на шурупы, Регулировка по высоте: эксцентрик | F11: 0.02662 | G11: 260
A12: 02509289 | B12: 173H7100 MPL V500 ONS | C12: CLIP ответная планка, крест., 0 мм, сталь, на шурупы, Регулировка по высоте: эксцентрик | F12: 0.03115 | G12: 310
A13: 02364103 | B13: 173H7130 MPL V50 NI | C13: Ответная планка с эксцентриком 3мм | F13: 0.03128 | G13: 290
A14: 07480175 | B14: 173L6100 MPL V500 NI | C14: CLIP ответная планка, крест., 0 мм, сталь, на шурупы, Регулировка по высоте: продольное отверстие | F14: 0.01754 | G14: 80
A15: 03647445 | B15: 173L6100 MPL V500 ONS | C15: CLIP ответная планка, крест., 0 мм, сталь, на шурупы, Регулировка по высоте: продольное отверстие | F15: 0.03115 | G15: 150
A16: 01867833 | B16: 173L6130 MPL V500 NI | C16: CLIP ответная планка, крест., 3 мм, сталь, на шурупы, Регулировка по высоте: продольное отверстие | F16: 0.02036 | G16: 100
A17: 04417806 | B17: 173L8100 MPL V500 NI | C17: CLIP ответная планка, крест., 0 мм, сталь, с предвар. вмонт. евровинтами, Регулировка по высоте: продольное отверстие | F17: 0.025022 | G17: 150
A18: 01917443 | B18: 173L8130 MPL V500 NI | C18: CLIP ответная планка, крест., 3 мм, сталь, с предвар. вмонт. евровинтами, Регулировка по высоте: продольное отверстие | F18: 0.02752 | G18: 170
... A120: 05766743 | B120: 20L8021 ABD R V20SEIW | C120: Вертикальный подъемник AVENTOS HL, заглушка, основная,, правая | F120: 0.10443333 | G120: 970
B121: 20Q0002A | C121: Авентос HL втулка поперечного стабилизатора | F121: 0.03435 | G121: 650
A122: 04391429 | B122: 20Q0003A | C122: Авентос HL заглушка поперечного стабилизатора | F122: 0.0071 | G122: 150
A123: 04391429 | B123: 20Q0003A01ABDECK 200 TGR | C123: Вертикальный подъемник AVENTOS HL, заглушка для поперечного стабилизатора, овальная, симметричная | F123: 0.01009 | G123: 150
A124: 07243500 | B124: 20Q0003 ABDECK 200 TGR | C124: Откидной подъемник AVENTOS HS, заглушка для соединительного элемента, круглая, симметричная | F124: 0.01012 | G124: 70
B125: 20Q091Z VERBST V1 EV1 | C125: Авентос HS удлинитель трубы | F125: 0.177 | G125: 6280
B126: 20Q091ZA VERBST V1 EV1 | C126: Авентос HL удлинитель трубы | F126: 0.1955 | G126: 7130
A127: 03626183 | B127: 20Q1061UN QUERST V20 EV1 | C127: Откидной подъемник AVENTOS HS, поперечный стабилизатор, круглая | F127: 0.27125 | G127: 3520
A128: 07799390 | B128: 20Q1061UA QUERST V20 EV1 | C128: Вертикальный подъемник AVENTOS HL, поперечный стабилизатор, овальная | F128: 0.55 | G128: 5170
A129: 08987992 | B129: 20S2B01.05KRAFTSP 20 ZN | C129: Авентос HS сил. Мех B | F129: 0.7945 | G129: 10730
A130: 08988362 | B130: 20S2E01 KRAFTSP 20 ZN | C130: Авентос HS сил. Мех E | F130: 0.948 | G130: 11940
A131: 08992152 | B131: 20S2H01.05KRAFTSP 20 ZN | C131: Авентос HS сил. Мех H | F131: 0.938 | G131: 11940
A132: 08992222 | B132: 20S2I01.05KRAFTSP 20 ZN | C132: Авентос HS сил. Мех I | F132: 0.9785 | G132: 20100
A133: 07640954 | B133: 20S3501 HEBEL L 10 NI | C133: Авентос HS рычаг левый 35 | F133: 0.524 | G133: 7440
A134: 05537484 | B134: 20S3501 HEBEL R 10 NI | C134: Авентос HS рычаг правый 35 | F134: 0.574 | G134: 8490
A135: 07486403 | B135: 20S4201A FRO-B V100 NI | C135: Подъемные механизмы AVENTOS HS/ HL/ HK и HK top, крепление фасада для узких алюминиевых рамок, шурупами | F135: 0.2575 | G135: 2940
A136: 07259956 | B136: 20S4201 FRO-B 100 NI | C136: Авентос HS, HK крепление фасада | F136: 0.0388 | G136: 590
A137: 07259508 | B137: 20S8001 ABD L 20 HGR | C137: Авентос HS заглушка большая серая лев. | F137: 0.0955 | G137: 770
A138: 07259448 | B138: 20S8001 ABD R 20 HGR | C138: Авентос HS заглушка большая серая прав. | F138: 0.0955 | G138: 770
... A211: 07868950 | B211: 298.7601 TV-K L 250R737 | C211: Мовенто регулировка по глубине лев. | F211: 0.01068 | G211: 890
B212: 298.7601 TV-K R 250R737 | C212: Мовенто регулировка по глубине прав. | F212: 0.01068 | G212: 890
A213: 03054053 | B213: 320K4000C MX MP R901 | C213: Метабокс направляющие и боковины К (142мм) 400мм крем | F213: 1.6048917 | G213: 4930
A214: 07816063 | B214: 320M4000C | C214: Метабокс направляющие и боковины М (110мм) 400мм крем | F214: 1.2895 | G214: 3830
A215: 07816813 | B215: 320M4500C | C215: Метабокс направляющие и боковины М (110мм) 450мм крем | F215: 1.4334 | G215: 3980
B216: 358M3002S Z R+L V1 WA/G | C216: Тандембокс+ царга серая 300мм L+R+заглушки | F216: 1.095 | G216: 7950
B217: 358M3502S Z R+L V1 WA/G | C217: Тандембокс+ царга серая 350мм L+R+заглушки | F217: 1.2316667 | G217: 8060
B218: 358M4002S Z R+L V1 WA/G | C218: Тандембокс+царга серая 400мм L+R+заглушки | F218: 1.4008333 | G218: 8220
B219: 358M4502S Z R+L V1 WA/G | C219: Тандембокс+ царга серая 450мм L+R+заглушки | F219: 1.5080556 | G219: 8370
B220: 358M4502SA Z R+L V1 TERS | C220: Интиво царга черная 450мм L+R+заглушки | F220: 1.65604 | G220: 9150
B221: 358M4504SG Z R+L V1 WA/G | C221: Тандембокс+ царга под мойку серая 450мм R+L | F221: 1.1980952 | G221: 9950
B222: 358M5004SG Z R+L V1 TS/G | C222: Антаро царга под мойку 500мм черная R+L | F222: 1.3525 | G222: 10060
B223: 359M6002S Z LI V20*WA/G | C223: Тандембокс+ царга серая 600мм левая | F223: 0.9687 | G223: 6440
B224: 359M6002S Z RE V20*WA/G | C224: Тандембокс+ царга серая 600мм правая | F224: 0.9687 | G224: 6440
A225: 07416089 | B225: 378M3002SA Z R+L V1 SEIW | C225: TANDEMBOX царга, высота M (83 mm), НД=300 мм, левая/правая, TANDEMBOX intivo/antaro | F225: 1.1041667 | G225: 7950
A226: 07879328 | B226: 378M3002SA Z R+L V1 R906 | C226: TANDEMBOX царга, высота M (83 mm), НД=300 мм, левая/правая, TANDEMBOX intivo/antaro | F226: 1.1033333 | G226: 7950
A227: 07432656 | B227: 378M3502SA Z R+L V1 SEIW | C227: TANDEMBOX царга, высота M (83 mm), НД=350 мм, левая/правая, TANDEMBOX intivo/antaro | F227: 1.2425 | G227: 8060
A228: 07880418 | B228: 378M3502SA Z R+L V1 R906 | C228: TANDEMBOX царга, высота M (83 mm), НД=350 мм, левая/правая, TANDEMBOX intivo/antaro | F228: 1.2416667 | G228: 8060
A229: 06495837 | B229: 378M3502SA Z RE V20TERS | C229: TANDEMBOX царга, высота M (83 mm), НД=350 мм, правая, TANDEMBOX intivo/antaro | F229: 0.54 | G229: 4040
A230: 06498575 | B230: 378M3502SA Z LI V20TERS | C230: TANDEMBOX царга, высота M (83 mm), НД=350 мм, левая, TANDEMBOX intivo/antaro | F230: 0.54 | G230: 4040
A231: 07453939 | B231: 378M4002SA Z R+L V1 SEIW | C231: TANDEMBOX царга, высота M (83 мм), НД=400 мм, левая/правая, TANDEMBOX intivo/antaro, | F231: 1.405 | G231: 8220
A232: 07892695 | B232: 378M4002SA Z R+L V1 R906 | C232: TANDEMBOX царга, высота M (83 mm), НД=400 мм, левая/правая, TANDEMBOX intivo/antaro | F232: 1.3958333 | G232: 8220
A233: 01683346 | B233: 378M4502SA Z LI V20SEIW | C233: TANDEMBOX царга, высота M (83 мм), НД=450 мм, левая, TANDEMBOX intivo/antaro | F233: 0.75065 | G233: 3650
A234: 01658416 | B234: 378M4502SA Z RE V20SEIW | C234: TANDEMBOX царга, высота M (83 мм), НД=450 мм, правая, TANDEMBOX intivo/antaro | F234: 0.75065 | G234: 3650
A235: 07461528 | B235: 378M4502SA Z R+L V1 SEIW | C235: TANDEMBOX царга, высота M (83 mm), НД=450 мм, левая/правая, TANDEMBOX intivo/antaro | F235: 1.55 | G235: 8370
A236: 07893644 | B236: 378M4502SA Z R+L V1 R906 | C236: TANDEMBOX царга, высота M (83 mm), НД=450 мм, левая/правая, TANDEMBOX intivo/antaro | F236: 1.5691667 | G236: 8370
... A368: 06008582 | B368: 551H5601B TA R 24 ZN | C368: TANDEM BLUMOTION частичное выдвижение, направляющая﻿, 30 кг, НД=560 мм, с фиксатором, правая | F368: 0.65616667 | G368: 2700
B369: 559.5001T K LI V12 ZN | C369: Направляющая Типон к каркасу лев 500мм | F369: 1.0475 | G369: 9650
B370: 559.5001T K RE V12 ZN | C370: Направляющая Типон к каркасу прав 500мм | F370: 1.0475 | G370: 9650
A371: 08785467 | B371: 559.6001B K R+L V1 ZN | C371: Направляющая к каркасу прав встроен.бл R+L 600мм | F371: 2.4751 | G371: 10470
A372: 03802095 | B372: 560F2500B TANDEM MP ZN | C372: TANDEM plus BLUMOTION полн. выдвиж., 30 кг, НД=250 мм, для Толщина панели 17-19 мм, под замки, левая/правая | F372: 1.2773611 | G372: 10390
A373: 05300562 | B373: 560F2500C TANDEM MP ZN | C373: TANDEM полн. выдвиж., 30 кг, НД=250 мм, для Толщина панели 17-19 мм, под замки, левая/правая | F373: 1.20575 | G373: 7610
A374: 09397168 | B374: 560F3000B TANDEM MP ZN | C374: TANDEM BLUMOTION полное выдвижение, направляющая﻿, 30 кг, НД=300 мм, под замки, левая/правая | F374: 1.4655833 | G374: 11000
A375: 05983811 | B375: 560F3000C TANDEM MP ZN | C375: TANDEM полн. выдвиж., 30 кг, НД=300 мм, для Толщина панели 17-19 мм, под замки, левая/правая | F375: 1.34 | G375: 7610
A376: 05694588 | B376: 560F3500B TANDEM MP ZN | C376: TANDEM BLUMOTION полное выдвижение, направляющая﻿, 30 кг, НД=350 мм, под замки, левая/правая | F376: 1.7957 | G376: 10390
A377: 05812601 | B377: 560F3500C TANDEM MP ZN | C377: TANDEM полн. выдвиж., 30 кг, НД=350 мм, для Толщина панели 17-19 мм, под замки, левая/правая | F377: 1.47225 | G377: 7240
A378: 02141477 | B378: 560F4000B TANDEM MP ZN | C378: TANDEM plus BLUMOTION полн. выдвиж., 30 кг, НД=400 мм, для Толщина панели 17-19 мм, под замки, левая/правая | F378: 2.0384167 | G378: 10830
A379: 07728719 | B379: 560F4000C TANDEM MP ZN | C379: TANDEM полн. выдвиж., 30 кг, НД=400 мм, для Толщина панели 17-19 мм, под замки, левая/правая | F379: 1.6799167 | G379: 7450
A380: 04965692 | B380: 560F4500B TANDEM MP ZN | C380: TANDEM plus BLUMOTION полн. выдвиж., 30 кг, НД=450 мм, для Толщина панели 17-19 мм, под замки, левая/правая | F380: 2.1626 | G380: 10940
A381: 06895799 | B381: 560F4500C TANDEM MP ZN | C381: TANDEM полн. выдвиж., 30 кг, НД=450 мм, для Толщина панели 17-19 мм, под замки, левая/правая | F381: 1.9190729 | G381: 7560
A382: 04192576 | B382: 560F5000B TANDEM MP ZN | C382: TANDEM plus BLUMOTION полн. выдвиж., 30 кг, НД=500 мм, для Толщина панели 17-19 мм, под замки, левая/правая | F382: 2.2877708 | G382: 11150
... A432: 01344034 | B432: 65.5300* ANS-WIN S-ZN | C432: Шаблон-уголок | F432: 0.0534 | G432: 1700
B433: 65.5310 MPL-LEHRE S-ZN | C433: Шаблон для петель | F433: 0.062 | G433: 1750
A434: 09597484 | B434: 65.5340 | C434: Шаблон-линейка | F434: 0.03545 | G434: 750
A435: 01673395 | B435: 65.5627 ES-L TB/MV OR | C435: Установочный шаблон, для Задняя сторона фасада | F435: 0.02 | G435: 1500
A436: 08946234 | B436: 65.5631 FR-L LB/MO OR | C436: LEGRABOX Шаблон для установки зазора под направляющие к корпусу | F436: 0.021 | G436: 1650
A437: 08907394 | B437: 65.5810 KO-WI SCHABL | C437: Угломер | F437: 0.036 | G437: 2150
A438: 06165045 | B438: 65.7500.03ANSCH-LEHR OR | C438: Штанговый кондуктор, для Системы петель | F438: 1.53 | G438: 34500
A439: 03445333 | B439: 70.1503.BPABD PR 1000 NI | C439: Заглушка для накладных петель "Клип топ" | F439: 0.00287 | G439: 70
A440: 06954352 | B440: 70.1503.BPABD PR1000 ONS | C440: Заглушка на плечо петли, штампов. (blum) | F440: 0.00291 | G440: 70
A441: 08801513 | B441: 70.1663 ABD V1000 ONS | C441: Заглушка на плечо петли, без логотипа | F441: 0.002532 | G441: 100
A442: 08031633 | B442: 70.1663.BLABDECKK LI NI | C442: Заглушка L для полунакладных, вкладных петель "Клип топ" | F442: 0.00263 | G442: 70
A443: 02872593 | B443: 70.1663.BLABDECKK RE NI | C443: Заглушка R для полунакладных, вкладных петель "Клип топ" | F443: 0.00263 | G443: 70
A444: 03503786 | B444: 70.4503 ABD V1000 NI | C444: Заглушка на плечо петли, без логотипа | F444: 0.00291 | G444: 70
A445: 06102697 | B445: 70.4503 ABD V1000 ONS | C445: Заглушка на плечо петли, без логотипа | F445: 0.00291 | G445: 70
... A531: 03551699 | B531: 750.3001S K R+L MP ZN | C531: LEGRABOX TIP-ON, BLUMOTION направляющая к корпусу 300 мм R+L | F531: 1.8665 | G531: 11770
A532: 03572710 | B532: 750.3501S K R+L MP ZN | C532: LEGRABOX TIP-ON, BLUMOTION направляющая к корпусу 350 мм R+L | F532: 1.8666667 | G532: 11890 | H532: 1
A533: 04584771 | B533: 750.4001S K R+L MP ZN | C533: LEGRABOX TIP-ON, BLUMOTION направляющая к корпусу 400 мм R+L | F533: 1.991 | G533: 12090
A534: 04610802 | B534: 750.4501S K R+L MP ZN | C534: LEGRABOX TIP-ON, BLUMOTION направляющая к корпусу 450 мм R+L | F534: 2.0523333 | G534: 12270 | H534: 1
A535: 05722072 | B535: 750.5001S K R+L MP ZN | C535: LEGRABOX TIP-ON, BLUMOTION направляющая к корпусу 500 мм R+L | F535: 2.2430256 | G535: 12460 | H535: 1
A536: 06243953 | B536: 750.6001S K R+L MP ZN | C536: Направляющая к корпусу LEGRABOX с BLUMOTION S, полное выдвижение, 40 кг, НД=600 мм, левая/правая | F536: 2.7433333 | G536: 14880
A537: 09209571 | B537: 753.5001S K R+L MP ZN | C537: LEGRABOX TIP-ON, BLUMOTION направляющая к корпусу 500 мм R+L на 70кг | F537: 2.83075 | G537: 15340
A538: 07396964 | B538: 753.5501S K R+L MP ZN | C538: LEGRABOX TIP-ON, BLUMOTION направляющая к корпусу 550 мм R+L на 70кг | F538: 3.1365 | G538: 16150
A539: 07096875 | B539: 75T1550 MB V250 NI | C539: CLIP top стандартная петля 107°, накладная, чашка петли: на шурупы | F539: 0.06951 | G539: 540
A540: 03564773 | B540: 75T1650 MB V250 NI | C540: "Клип топ" петли для полунакладных дверей 107 | F540: 0.07212 | G540: 710
...

Sheet Артикулы
A2: перев/кг Блюм | D2: АДГТ long | E2: 0.00572
A3: перев/кг Siso | F3: Цена | G3: Передано -шт | H3: Сумма
A4: Ид. № | B4: Артикул | C4: Название | E4: Вес | G4: Дата
A7: 02575683 | B7: 171A5010 W-DIST V50 NI | C7: Клинобразная угловая подкладка, крестообразная, +5°, под шурупы, толщина подкладки: 0.8 мм | D7: 83021000 | E7: 0.0248 | F7: 260
A8: 02518453 | B8: 171A5040 W-DIST V50 NI | C8: Клинобразная угловая подкладка, крестообразная, +5°, под шурупы, толщина подкладки: 3 мм | D8: 83021000 | E8: 0.0334 | F8: 320
A9: 02518373 | B9: 171A5070 W-DIST V50 NI | C9: Клинобразная угловая подкладка, крестообразная, +5°, под шурупы, толщина подкладки: 6 мм | D9: 83021000 | E9: 0.0374 | F9: 410
A10: 02518533 | B10: 171A5500 W-DIST V50 NI | C10: Клинобразная угловая подкладка, крестообразная, -5°, под шурупы, толщина подкладки: 6 мм | D10: 83021000 | E10: 0.0222 | F10: 310
A11: 08748653 | B11: 173H7100 MPL V500 NI | C11: CLIP ответная планка, крест., 0 мм, сталь, на шурупы, Регулировка по высоте: эксцентрик | D11: 83021000 | E11: 0.02662 | F11: 260
A12: 02509289 | B12: 173H7100 MPL V500 ONS | C12: CLIP ответная планка, крест., 0 мм, сталь, на шурупы, Регулировка по высоте: эксцентрик | D12: 83021000 | E12: 0.03115 | F12: 310
A13: 02364103 | B13: 173H7130 MPL V50 NI | C13: CLIP ответная планка, крест., 3 мм, сталь, на шурупы, Регулировка по высоте: эксцентрик | D13: 83024200 | E13: 0.03128 | F13: 290
A14: 07480175 | B14: 173L6100 MPL V500 NI | C14: CLIP ответная планка, крест., 0 мм, сталь, на шурупы, Регулировка по высоте: продольное отверстие | D14: 83021000 | E14: 0.01754 | F14: 80
A15: 03647445 | B15: 173L6100 MPL V500 ONS | C15: CLIP ответная планка, крест., 0 мм, сталь, на шурупы, Регулировка по высоте: продольное отверстие | D15: 83021000 | E15: 0.03115 | F15: 150
A16: 01867833 | B16: 173L6130 MPL V500 NI | C16: CLIP ответная планка, крест., 3 мм, сталь, на шурупы, Регулировка по высоте: продольное отверстие | D16: 83021000 | E16: 0.02036 | F16: 100
A17: 04417806 | B17: 173L8100 MPL V500 NI | C17: CLIP ответная планка, крест., 0 мм, сталь, с предвар. вмонт. евровинтами, Регулировка по высоте: продольное отверстие | D17: 83021000 | E17: 0.025022 | F17: 150
A18: 01917443 | B18: 173L8130 MPL V500 NI | C18: CLIP ответная планка, крест., 3 мм, сталь, с предвар. вмонт. евровинтами, Регулировка по высоте: продольное отверстие | D18: 83021000 | E18: 0.02752 | F18: 170
... A35: 06863103 | B35: 193L6100 MPL V500 NI | C35: MODUL ответная планка, крест., 0 мм, сталь, на шурупы, Регулировка по высоте: продольное отверстие | D35: 83021000 | E35: 0.01605 | F35: 80
A36: 08618728 | B36: 194K6100E DUEPL V500 NI | C36: MODUL ответная планка, крест., 0 мм, сталь, EXPANDO (с вмонтированными спецшурупами с распорн. пробками), Регулировка по высоте: продольное отверстие | D36: 83021000 | E36: =13.11/500 -> 0.02622 | F36: 240
A37: 06325543 | B37: 199.8130 MPL V50 NI | C37: MODUL ответная планка, крест. (14/32 мм), 3 мм, цинк, с предвар. вмонт. евровинтами, Регулировка по высоте: продольное отверстие | D37: 83024200 | E37: =9.035/250 -> 0.03614 | F37: 310
A38: 08931762 | B38: 20F2201.05KRAFTSP 20 ZN | C38: Складной подъемник AVENTOS HF, силовой механизм, коефф. мощ.=2600 – 5500 (при использовании 2-х механизмов), для применения с SERVO-DRIVE | D38: 83024200 | E38: 0.81025 | F38: 9740
A39: 08931832 | B39: 20F2501.05KRAFTSP 20 ZN | C39: Складной подъемник AVENTOS HF, силовой механизм, коефф. мощ.=5350 – 10150 (при использовании 2-х механизмов), для применения с SERVO-DRIVE | D39: 83024200 | E39: 0.8664 | F39: 10570
A40: 08931902 | B40: 20F2801.05KRAFTSP 20 ZN | C40: Складной подъемник AVENTOS HF, силовой механизм, коефф. мощ.=9000 – 17250 (при использовании 2-х механизмов), для применения с SERVO-DRIVE | D40: 83024200 | E40: 0.920875 | F40: 11720
A41: 07588308 | B41: 20F3201.01TE-HEB V40 NI | C41: Складной подъемник AVENTOS HF, телескопический рычаг, ВК=480-570 мм, симметрич. | D41: 83024200 | E41: 0.2045 | F41: 4670
A42: 02034079 | B42: 20F3501.01TE-HEB V40 NI | C42: Складной подъемник AVENTOS HF, телескопический рычаг, ВК=560-710 мм, симметрич. | D42: 83024200 | E42: 0.2345 | F42: 5250
A43: 07360602 | B43: 20F3801.01TE-HEB V40 NI | C43: Складной подъемник AVENTOS HF, телескопический рычаг, ВК=700-900 мм, симметрич., применения с SERVO-DRIVE | D43: 83024200 | E43: 0.27745833 | F43: 6390
A44: 09184068 | B44: 20F3901.01TE-HEB V40 NI | C44: Складной подъемник AVENTOS HF, телескопический рычаг, ВК=760-1040 мм, симметрич. | D44: 39269097 | E44: 0.29875 | F44: 7330
A45: 07285440 | B45: 20F7011 BEGR V100R737 | C45: 83° Ограничитель угла открывания для AVENTOS HF | D45: 39269097 | E45: 0.0023 | F45: 630
A46: 07160400 | B46: 20F7051 BEGR V100 TGR | C46: 104° Ограничитель угла открывания для AVENTOS HF | D46: 39263000 | E46: 0.0011 | F46: 630
A47: 06844408 | B47: 20F8001 ABD L V20 HGR | C47: Складной подъемник AVENTOS HF, заглушка, основная, рифленый, левая | D47: 39263000 | E47: 0.093357143 | F47: 770
A48: 06844238 | B48: 20F8001 ABD R V20 HGR | C48: Складной подъемник AVENTOS HF, заглушка, основная, рифленый, правая | D48: 39263000 | E48: 0.093357143 | F48: 770
A49: 06844402 | B49: 20F8001 ABD L V20SEIW | C49: Складной подъемник AVENTOS HF, заглушка, основная, рифленый, левая | D49: 39263000 | E49: 0.103 | F49: 940
... A111: 06489215 | B111: 20L8001.02ABD R V20SEIW | C111: Вертикальный подъемник AVENTOS HL, заглушка, основная, рифленый, правая | D111: 39263000 | E111: 0.1045 | F111: 940
A112: 02376263 | B112: 20L8020 ABD R+L V1HGIG | C112: Вертикальный подъемник AVENTOS HL, заглушка, основная, гладкий, левая/правая | D112: 39263000 | E112: ='[2]BLUM 28 11 2021 Acc'!$B$158 -> 0.2665625 | F112: 3030
A113: 05919923 | B113: 20L8020 ABD R+L V1SWIG | C113: Вертикальный подъемник AVENTOS HL, заглушка, основная, гладкий, левая/правая | D113: 39263000 | E113: ='[2]BLUM 28 11 2021 Acc'!$B$158 -> 0.2665625 | F113: 3330
A114: 06045918 | B114: 20L8020 ABD R+L V1TGIG | C114: Вертикальный подъемник AVENTOS HL, заглушка, основная, гладкий, левая/правая | D114: 39263000 | E114: ='[2]BLUM 28 11 2021 Acc'!$B$158 -> 0.2665625 | F114: 3330
A115: 02123077 | B115: 20L8021 ABD L V20 HGR | C115: Вертикальный подъемник AVENTOS HL, заглушка, основная, гладкий, левая | D115: 39263000 | E115: 0.10458333 | F115: 770
A116: 07545445 | B116: 20L8021 ABD R V20 HGR | C116: Вертикальный подъемник AVENTOS HL, заглушка, основная, гладкий, правая | D116: 39263000 | E116: 0.10443333 | F116: 770
A117: 09317125 | B117: 20L8021 ABD L V20 TGR | C117: Вертикальный подъемник AVENTOS HL, заглушка, основная, гладкий, левая | D117: 39263000 | E117: 0.10458333 | F117: 970
A118: 05000261 | B118: 20L8021 ABD R V20 TGR | C118: Вертикальный подъемник AVENTOS HL, заглушка, основная, гладкий, правая | D118: 39263000 | E118: 0.10443333 | F118: 970
A119: 07782312 | B119: 20L8021 ABD L V20SEIW | C119: Вертикальный подъемник AVENTOS HL, заглушка, основная, гладкий, левая | D119: 39263000 | E119: 0.10458333 | F119: 970
A120: 05766743 | B120: 20L8021 ABD R V20SEIW | C120: Вертикальный подъемник AVENTOS HL, заглушка, основная, гладкий, правая | D120: 39263000 | E120: 0.10443333 | F120: 970
B121: 20Q0002A | C121: Авентос HL втулка поперечного стабилизатора | D121: 39263000 | E121: 0.03435 | F121: 650
A122: 04391429 | B122: 20Q0003A | C122: Авентос HL заглушка поперечного стабилизатора | D122: 39263000 | E122: 0.0071 | F122: 150
A123: 04391429 | B123: 20Q0003A01ABDECK 200 TGR | C123: Вертикальный подъемник AVENTOS HL, заглушка для поперечного стабилизатора, овальная, симметричная | D123: 39263000 | E123: 0.01009 | F123: 150
A124: 07243500 | B124: 20Q0003 ABDECK 200 TGR | C124: Откидной подъемник AVENTOS HS, заглушка для соединительного элемента, круглая, симметричная | D124: 76042100 | E124: ='[3]BLUM 31 03 2022 Acc'!$B$147 -> 0.01012 | F124: 70
B125: 20Q091Z VERBST V1 EV1 | C125: Авентос HS удлинитель трубы | D125: 76042100 | E125: 0.177 | F125: 6280
B126: 20Q091ZA VERBST V1 EV1 | C126: Авентос HL удлинитель трубы | D126: 76042100 | E126: 0.1955 | F126: 7130
A127: 03626183 | B127: 20Q1061UN QUERST V20 EV1 | C127: Откидной подъемник AVENTOS HS, поперечный стабилизатор, круглая | D127: 83024200 | E127: 0.27125 | F127: 3520
A128: 07799390 | B128: 20Q1061UA QUERST V20 EV1 | C128: Вертикальный подъемник AVENTOS HL, поперечный стабилизатор, овальная | D128: 83024200 | E128: 0.55 | F128: 5170
A129: 08987992 | B129: 20S2B01.05KRAFTSP 20 ZN | C129: Откидной подъемник AVENTOS HS, силовой механизм, Тип В, для применения с SERVO-DRIVE | D129: 83024200 | E129: 0.7945 | F129: 10730
A130: 08988362 | B130: 20S2E01.05KRAFTSP 20 ZN | C130: Откидной подъемник AVENTOS HS, силовой механизм, Тип E, для применения с SERVO-DRIVE | D130: 83024200 | E130: 0.948 | F130: 11940
A131: 08992152 | B131: 20S2H01.05KRAFTSP 20 ZN | C131: Откидной подъемник AVENTOS HS, силовой механизм, Тип H, для применения с SERVO-DRIVE | D131: 83024200 | E131: 0.938 | F131: 11940
A132: 08992222 | B132: 20S2I01.05KRAFTSP 20 ZN | C132: Откидной подъемник AVENTOS HS, силовой механизм, Тип I, для применения с SERVO-DRIVE | D132: 83024200 | E132: 0.9785 | F132: 20100
A133: 07640954 | B133: 20S3501.06HEBEL L 10 NI | C133: Откидной подъемник AVENTOS HS, рычаг, ВК=350-800 мм, левый | D133: 83024200 | E133: 0.524 | F133: 7440
A134: 05537484 | B134: 20S3501.06HEBEL R 10 NI | C134: Откидной подъемник AVENTOS HS, рычаг, ВК=350-800 мм, правый | D134: 83024200 | E134: 0.574 | F134: 8490
A135: 07486403 | B135: 20S4201A FRO-B V100 NI | C135: Подъемные механизмы AVENTOS HS/ HL/ HK и HK top, крепление фасада для узких алюминиевых рамок, шурупами | D135: 83024200 | E135: 0.2575 | F135: 2940
A136: 07259956 | B136: 20S4201 FRO-B V100 NI | C136: Подъемные механизмы AVENTOS HS/ HL/ HK и HK top, крепление фасада для деревянных фасадов, шурупами | D136: 39263000 | E136: 0.0388 | F136: 590
A137: 07259508 | B137: 20S8001 ABD L V20 HGR | C137: Откидной подъемник AVENTOS HS, заглушка, основная, рифленый, левая | D137: 39263000 | E137: 0.0955 | F137: 770
A138: 07259448 | B138: 20S8001 ABD R V20 HGR | C138: Откидной подъемник AVENTOS HS, заглушка, основная, рифленый, правая | D138: 39263000 | E138: 0.0955 | F138: 770
... A166: 01072356 | B166: 21S8021 ABD L V5SEIW | C166: Откидной подъемник AVENTOS HS, заглушка, основная, гладкий, левая, для SERVO-DRIVE | D166: 83024200 | E166: 0.283 | F166: 2470
A167: 07309761 | B167: 22K2034 BLUMO V50 R737 | C167: BLUMOTION для AVENTOS с держателем, Пластмасса | D167: 83024200 | E167: =[4]Позиции!$X$138/[4]Позиции!$M$138 -> 0.01234 | F167: 330
A168: 07934003 | B168: 22K2044 BLUMO V50 R737 | C168: BLUMOTION для AVENTOS с держателем, Пластмасса | D168: 83024200 | E168: =[4]Позиции!$X$138/[4]Позиции!$M$138 -> 0.01234 | F168: 330
A169: 07628604 | B169: 22K2300 KRAFTSP S2 ZN | C169: Подъемный механизм AVENTOS HK top, силовой механизм (комплект), коефф. мощ.=420-1610 (при 2 шт.), для применения с SERVO-DRIVE | D169: 83024200 | E169: 0.283 | F169: 22460
A170: 04205572 | B170: 22K2300T KRAFTSP S2 ZN | C170: Подъемный механизм AVENTOS HK top, силовой механизм (комплект), коефф. мощ.=420-1610 (при 2 шт.), для TIP-ON | D170: 83024200 | E170: 0.283 | F170: 24180
A171: 05826741 | B171: 22K2501 KRAFTSP 20 ZN | C171: Подъемный механизм AVENTOS HK top, силовой механизм, коефф. мощ.=930-2800 (2 шт.), для применения с SERVO-DRIVE | D171: 83021000 | E171: 1.02 | F171: 10350
A172: 08242517 | B172: 22K2501T KRAFTSP 20 ZN | C172: Подъемный механизм AVENTOS HK top, силовой механизм, коефф. мощ.=930-2800 (2 шт.), для TIP-ON | D172: 83021000 | E172: 1.02 | F172: 11230
A173: 08560166 | B173: 22K2701 KRAFTSP 20 ZN | C173: Подъемный механизм AVENTOS HK top, силовой механизм, коефф. мощ.=1730-5200 (2 шт.), для применения с SERVO-DRIVE | D173: 83024200 | E173: 0.811575 | F173: 10570
A174: 05691973 | B174: 22K2701T KRAFTSP 20 ZN | C174: Подъемный механизм AVENTOS HK top, силовой механизм, коефф. мощ.=1730-5200 (2 шт.), для TIP-ON | D174: 83024200 | E174: 0.872 | F174: 12090
A175: 05185968 | B175: 22K2901 KRAFTSP 20 ZN | C175: Подъемный механизм AVENTOS HK top, силовой механизм, коефф. мощ.=3200 – 9000 (при использовании 2-х механизмов), для применения с SERVO-DRIVE | D175: 83024200 | E175: 0.9012 | F175: 12500
A176: 06802136 | B176: 22K2901T KRAFTSP 20 ZN | C176: Подъемный механизм AVENTOS HK top, силовой механизм, коефф. мощ.=3200 – 9000 (при использовании 2-х механизмов), для TIP-ON | D176: 39263000 | E176: 0.9512 | F176: 14020
A177: 06363008 | B177: 22K8001.21ABD L+ZT20SWIG | C177: Подъемный механизм AVENTOS HK top, заглушка, основная, с предварительно вмонтированной малой заглушкой, гладкий, левая | D177: 39263000 | E177: 0.06 | F177: 1280
A178: 05732800 | B178: 22K8001.21ABD R+ZT20SWIG | C178: Подъемный механизм AVENTOS HK top, заглушка, основная, с предварительно вмонтированной малой заглушкой, гладкий, правая | D178: 39263000 | E178: 0.06 | F178: 1280
A179: 04704338 | B179: 22K8001.21ABD L+ZT20TGIG | C179: Подъемный механизм AVENTOS HK top, заглушка, основная, с предварительно вмонтированной малой заглушкой, гладкий, левая | D179: 39263000 | E179: 0.064759259 | F179: 1280
A180: 06693980 | B180: 22K8001.21ABD R+ZT20TGIG | C180: Подъемный механизм AVENTOS HK top, заглушка, основная, с предварительно вмонтированной малой заглушкой, гладкий, правая | D180: 39263000 | E180: 0.064559259 | F180: 1280
... A182: 03304483 | B182: 22K8001.21ABD R+ZT20HGIG | C182: Подъемный механизм AVENTOS HK top, заглушка, основная, с предварительно вмонтированной малой заглушкой, гладкий, правая | D182: 39263000 | E182: 0.062859259 | F182: 1280
A183: 02111215 | B183: 23K8000 ABD+ZUT V1HGIG | C183: Подъемный механизм AVENTOS HK top, комплект заглушек (вкл. кнопка включения для установки в высверленное отверстие, в комплекте), гладкий, левый/правый, для SERVO-DRIVE | D183: 85362010 | E183: =[5]Позиции!$X$88/12 -> 0.2365 | F183: 36280
A184: 01065531 | B184: 23K8000 ABD+ZUT V1SWIG | C184: Подъемный механизм AVENTOS HK top, Заглушка для AVENTOS HK top (вкл. кнопка включения для установки в высверленное отверстие, в комплекте), гладкий, прав.+лев., для SERVO-DRIVE | D184: 85362010 | E184: =[5]Позиции!$X$88/12 -> 0.2365 | F184: 36280
A185: 08732964 | B185: 23K8000 ABD+ZUT V1TGIG | C185: Подъемный механизм AVENTOS HK top, комплект заглушек (вкл. кнопка включения для установки в высверленное отверстие, в комплекте), гладкий, левый/правый, для SERVO-DRIVE | D185: 85362010 | E185: =[5]Позиции!$X$88/12 -> 0.2365 | F185: 36280
A186: 08457250 | B186: 23P5020 SCHALT V20 HGR | C186: Радиокнопка SERVO-DRIVE для AVENTOS, симметричная | D186: 85365011 | E186: 0.01725 | F186: 15810
A187: 06550469 | B187: 23P5020 SCHALT V20SEIW | C187: Радиокнопка SERVO-DRIVE для AVENTOS, симметричная | D187: 85365011 | E187: 0.144 | F187: 15810
A188: 02471776 | B188: 23P5020 SCHALT V20 TGR | C188: Радиокнопка SERVO-DRIVE для AVENTOS, симметричная | D188: 85365011 | E188: 0.01725 | F188: 15810
A189: 08401546 | B189: 23P5216 AUFN 100 HGR | C189: Держатель кнопки SERVO-DRIVE для AVENTOS | D189: 39263000 | E189: =[5]Позиции!$X$92/[5]Позиции!$M$92 -> 0.00501 | F189: 1830
A190: 09961208 | B190: 23KA000 ANT+ZUT V1 TGR | C190: Привод SERVO-DRIVE для AVENTOS, подъемный механизм AVENTOS HK top | D190: 83024200 | E190: =[5]Позиции!$X$103/[5]Позиции!$M$103 -> 0.8689 | F190: 116850
A191: 09375108 | B191: 24K2300 KRAFTSP S2 ONS | C191: AVENTOS HK – интегрированный, силовой механизм (комплект), коефф. мощ.=420-1610 (при 2 шт.) | D191: 8302 42 00 | E191: 1.558 | F191: 121000
A192: 09348915 | B192: 24K2300T KRAFTSP S2 ONS | C192: AVENTOS HK – интегрированный, силовой механизм (комплект), коефф. мощ.=420-1610 (при 2 шт.), для TIP-ON | D192: 8302 42 00 | E192: 1.5295 | F192: 121000
A193: 04333468 | B193: 24K2500 KRAFTSP S2 ONS | C193: AVENTOS HK – интегрированный, силовой механизм (комплект), коефф. мощ.=930-2800 (2 шт.) | D193: 8302 42 00 | E193: 1.553 | F193: 119400
A194: 03988041 | B194: 24K2500T KRAFTSP S2 ONS | C194: AVENTOS HK – интегрированный, силовой механизм (комплект), коефф. мощ.=930-2800 (2 шт.), для TIP-ON | D194: 8302 42 00 | E194: 1.6256667 | F194: 121000
A195: 03327428 | B195: 24K2700 KRAFTSP S2 ONS | C195: AVENTOS HK – интегрированный, силовой механизм (комплект), коефф. мощ.=1730-5200 (2 шт.) | D195: 8302 42 00 | E195: 1.664 | F195: 121500
A196: 03401692 | B196: 24K2700T KRAFTSP S2 ONS | C196: AVENTOS HK – интегрированный, силовой механизм (комплект), коефф. мощ.=1730-5200 (2 шт.), для TIP-ON | D196: 8302 42 00 | E196: 1.626 | F196: 124500
A197: 09445829 | B197: 24K2800 KRAFTSP S2 ONS | C197: AVENTOS HK – интегрированный, силовой механизм (комплект), коефф. мощ.=2600-7800 (2 шт.) | D197: 8302 42 00 | E197: 1.761 | F197: 126700
A198: 03061597 | B198: 24K2800T KRAFTSP S2 ONS | C198: AVENTOS HK – интегрированный, силовой механизм (комплект), коефф. мощ.=2600-7800 (2 шт.), для TIP-ON | D198: 8302 42 00 | E198: 1.7224 | F198: 129700
A199: 02551910 | B199: 24K4201A FRO-B V20 ONS | C199: AVENTOS HKi, крепление фасада для узких алюминиевых рамок, на саморезы | D199: 8302 42 00 | E199: 0.0121 | F199: 3400
A200: 04845277 | B200: 24K42E1 FRO-B V20 ONS | C200: AVENTOS HKi, крепление фасада для деревянных фасадов, EXPANDO | D200: 8302 42 00 | E200: 0.0142 | F200: 3100
A201: 02627505 | B201: 24K8000 ABD R+L V1HGIG | C201: AVENTOS HKi, , гладкий, прав.+лев. | D201: 8302 42 00 | E201: 0.3432 | F201: 10000
A202: 06690522 | B202: 24K8000 ABD R+L V1SWIG | C202: AVENTOS HKi, , гладкий, прав.+лев. | D202: 8302 42 00 | E202: 0.3598 | F202: 10300
... A221: 01829151 | B221: 295.1000 FRONTV 250 NA | C221: фасадный эксцентрик, под пресс | D221: 39263000 | E221: 0.00355 | F221: 130
A222: 05459007 | B222: 295F5700 TAB-AR V1 OG-M | C222: Выдвижная полка с фиксатором для царги F толщиной 19 мм | D222: 83024200 | E222: =[6]Позиции!$X$83/[6]Позиции!$M$83 -> 0.14055 | F222: 5990
A223: 09739914 | B223: 295H5700 TAB-AR V1 OG-M | C223: Выдвижная полка с фиксатором для царги H толщиной 16 мм | D223: 83024200 | E223: =[6]Позиции!$X$83/[6]Позиции!$M$83 -> 0.14055 | F223: 5990
A224: 01610053 | B224: 298.2200 TUERABW R901 | C224: Антиударная защита | D224: 39263000 | E224: 0.02316 | F224: 1050
A225: 04161861 | B225: 298.5500 POSIST 250R737 | C225: POSISTOP | D225: 39263000 | E225: 0.00108 | F225: 130
A226: 07868950 | B226: 298.7601 TV-K L V50R737 | C226: POSISTOP и регулировка по глубине замка MOVENTO, лев. | D226: 39263000 | E226: 0.01068 | F226: 890
...
